BEGIN:VCALENDAR
VERSION:2.0
PRODID:-//Universität Innsbruck//LFU:online//DE
METHOD:PUBLISH
BEGIN:VEVENT
UID:21S_408010_3744906@uibk.ac.at
ORGANIZER;CN="LFU:online Universität Innsbruck":MAILTO:Uni-Innsbruck-noreply@uibk.ac.at
SUMMARY:PS Wissenschaftliches Arbeiten in der Soziologie (LV 408010-0 21S)
DESCRIPTION:Lehrveranstaltung 408010 21S, Gruppe 0\nTitel: PS Wissenschaftliches Arbeiten in der Soziologie\nOrt: eLecture - online\n\nhttps://lfuonline.uibk.ac.at/public/lfuonline_lv.details?sem_id_in=21S&lvnr_id_in=408010\n
CLASS:PUBLIC
DTSTART:20210308T130000Z
DTEND:20210308T144500Z
DTSTAMP:20260422T131503Z
LOCATION:eLecture - online
COMMENT:VB
END:VEVENT
BEGIN:VEVENT
UID:21S_408010_3744922@uibk.ac.at
ORGANIZER;CN="LFU:online Universität Innsbruck":MAILTO:Uni-Innsbruck-noreply@uibk.ac.at
SUMMARY:PS Wissenschaftliches Arbeiten in der Soziologie (LV 408010-0 21S)
DESCRIPTION:Lehrveranstaltung 408010 21S, Gruppe 0\nTitel: PS Wissenschaftliches Arbeiten in der Soziologie\nOrt: eLecture - online\n\nhttps://lfuonline.uibk.ac.at/public/lfuonline_lv.details?sem_id_in=21S&lvnr_id_in=408010\n
CLASS:PUBLIC
DTSTART:20210312T080000Z
DTEND:20210312T160000Z
DTSTAMP:20260422T131503Z
LOCATION:eLecture - online
END:VEVENT
BEGIN:VEVENT
UID:21S_408010_3744923@uibk.ac.at
ORGANIZER;CN="LFU:online Universität Innsbruck":MAILTO:Uni-Innsbruck-noreply@uibk.ac.at
SUMMARY:PS Wissenschaftliches Arbeiten in der Soziologie (LV 408010-0 21S)
DESCRIPTION:Lehrveranstaltung 408010 21S, Gruppe 0\nTitel: PS Wissenschaftliches Arbeiten in der Soziologie\nOrt: eLecture - online\n\nhttps://lfuonline.uibk.ac.at/public/lfuonline_lv.details?sem_id_in=21S&lvnr_id_in=408010\n
CLASS:PUBLIC
DTSTART:20210313T080000Z
DTEND:20210313T160000Z
DTSTAMP:20260422T131503Z
LOCATION:eLecture - online
END:VEVENT
BEGIN:VEVENT
UID:21S_408010_3744924@uibk.ac.at
ORGANIZER;CN="LFU:online Universität Innsbruck":MAILTO:Uni-Innsbruck-noreply@uibk.ac.at
SUMMARY:PS Wissenschaftliches Arbeiten in der Soziologie (LV 408010-0 21S)
DESCRIPTION:Lehrveranstaltung 408010 21S, Gruppe 0\nTitel: PS Wissenschaftliches Arbeiten in der Soziologie\nOrt: eLecture - online\n\nhttps://lfuonline.uibk.ac.at/public/lfuonline_lv.details?sem_id_in=21S&lvnr_id_in=408010\n
CLASS:PUBLIC
DTSTART:20210416T070000Z
DTEND:20210416T100000Z
DTSTAMP:20260422T131503Z
LOCATION:eLecture - online
END:VEVENT
BEGIN:VEVENT
UID:21S_408010_3744925@uibk.ac.at
ORGANIZER;CN="LFU:online Universität Innsbruck":MAILTO:Uni-Innsbruck-noreply@uibk.ac.at
SUMMARY:PS Wissenschaftliches Arbeiten in der Soziologie (LV 408010-0 21S)
DESCRIPTION:Lehrveranstaltung 408010 21S, Gruppe 0\nTitel: PS Wissenschaftliches Arbeiten in der Soziologie\nOrt: eLecture - online\n\nhttps://lfuonline.uibk.ac.at/public/lfuonline_lv.details?sem_id_in=21S&lvnr_id_in=408010\n
CLASS:PUBLIC
DTSTART:20210417T070000Z
DTEND:20210417T150000Z
DTSTAMP:20260422T131503Z
LOCATION:eLecture - online
END:VEVENT
END:VCALENDAR