BEGIN:VCALENDAR
VERSION:2.0
PRODID:-//Universität Innsbruck//LFU:online//DE
METHOD:PUBLISH
BEGIN:VEVENT
UID:21S_408011_3677803@uibk.ac.at
ORGANIZER;CN="LFU:online Universität Innsbruck":MAILTO:Uni-Innsbruck-noreply@uibk.ac.at
SUMMARY:PS Wissenschaftliches Arbeiten in der Soziologie (LV 408011-0 21S)
DESCRIPTION:Lehrveranstaltung 408011 21S, Gruppe 0\nTitel: PS Wissenschaftliches Arbeiten in der Soziologie\nOrt: eLecture - online\n\nhttps://lfuonline.uibk.ac.at/public/lfuonline_lv.details?sem_id_in=21S&lvnr_id_in=408011\n
CLASS:PUBLIC
DTSTART:20210312T090000Z
DTEND:20210312T104500Z
DTSTAMP:20260422T113307Z
LOCATION:eLecture - online
END:VEVENT
BEGIN:VEVENT
UID:21S_408011_3677804@uibk.ac.at
ORGANIZER;CN="LFU:online Universität Innsbruck":MAILTO:Uni-Innsbruck-noreply@uibk.ac.at
SUMMARY:PS Wissenschaftliches Arbeiten in der Soziologie (LV 408011-0 21S)
DESCRIPTION:Lehrveranstaltung 408011 21S, Gruppe 0\nTitel: PS Wissenschaftliches Arbeiten in der Soziologie\nOrt: eLecture - online\n\nhttps://lfuonline.uibk.ac.at/public/lfuonline_lv.details?sem_id_in=21S&lvnr_id_in=408011\n
CLASS:PUBLIC
DTSTART:20210319T090000Z
DTEND:20210319T104500Z
DTSTAMP:20260422T113307Z
LOCATION:eLecture - online
END:VEVENT
BEGIN:VEVENT
UID:21S_408011_3677805@uibk.ac.at
ORGANIZER;CN="LFU:online Universität Innsbruck":MAILTO:Uni-Innsbruck-noreply@uibk.ac.at
SUMMARY:PS Wissenschaftliches Arbeiten in der Soziologie (LV 408011-0 21S)
DESCRIPTION:Lehrveranstaltung 408011 21S, Gruppe 0\nTitel: PS Wissenschaftliches Arbeiten in der Soziologie\nOrt: eLecture - online\n\nhttps://lfuonline.uibk.ac.at/public/lfuonline_lv.details?sem_id_in=21S&lvnr_id_in=408011\n
CLASS:PUBLIC
DTSTART:20210326T090000Z
DTEND:20210326T104500Z
DTSTAMP:20260422T113307Z
LOCATION:eLecture - online
END:VEVENT
BEGIN:VEVENT
UID:21S_408011_3677806@uibk.ac.at
ORGANIZER;CN="LFU:online Universität Innsbruck":MAILTO:Uni-Innsbruck-noreply@uibk.ac.at
SUMMARY:PS Wissenschaftliches Arbeiten in der Soziologie (LV 408011-0 21S)
DESCRIPTION:Lehrveranstaltung 408011 21S, Gruppe 0\nTitel: PS Wissenschaftliches Arbeiten in der Soziologie\nOrt: eLecture - online\n\nhttps://lfuonline.uibk.ac.at/public/lfuonline_lv.details?sem_id_in=21S&lvnr_id_in=408011\n
CLASS:PUBLIC
DTSTART:20210416T080000Z
DTEND:20210416T094500Z
DTSTAMP:20260422T113307Z
LOCATION:eLecture - online
END:VEVENT
BEGIN:VEVENT
UID:21S_408011_3677807@uibk.ac.at
ORGANIZER;CN="LFU:online Universität Innsbruck":MAILTO:Uni-Innsbruck-noreply@uibk.ac.at
SUMMARY:PS Wissenschaftliches Arbeiten in der Soziologie (LV 408011-0 21S)
DESCRIPTION:Lehrveranstaltung 408011 21S, Gruppe 0\nTitel: PS Wissenschaftliches Arbeiten in der Soziologie\nOrt: eLecture - online\n\nhttps://lfuonline.uibk.ac.at/public/lfuonline_lv.details?sem_id_in=21S&lvnr_id_in=408011\n
CLASS:PUBLIC
DTSTART:20210423T080000Z
DTEND:20210423T094500Z
DTSTAMP:20260422T113307Z
LOCATION:eLecture - online
END:VEVENT
BEGIN:VEVENT
UID:21S_408011_3677808@uibk.ac.at
ORGANIZER;CN="LFU:online Universität Innsbruck":MAILTO:Uni-Innsbruck-noreply@uibk.ac.at
SUMMARY:PS Wissenschaftliches Arbeiten in der Soziologie (LV 408011-0 21S)
DESCRIPTION:Lehrveranstaltung 408011 21S, Gruppe 0\nTitel: PS Wissenschaftliches Arbeiten in der Soziologie\nOrt: eLecture - online\n\nhttps://lfuonline.uibk.ac.at/public/lfuonline_lv.details?sem_id_in=21S&lvnr_id_in=408011\n
CLASS:PUBLIC
DTSTART:20210430T080000Z
DTEND:20210430T094500Z
DTSTAMP:20260422T113307Z
LOCATION:eLecture - online
END:VEVENT
BEGIN:VEVENT
UID:21S_408011_3677809@uibk.ac.at
ORGANIZER;CN="LFU:online Universität Innsbruck":MAILTO:Uni-Innsbruck-noreply@uibk.ac.at
SUMMARY:PS Wissenschaftliches Arbeiten in der Soziologie (LV 408011-0 21S)
DESCRIPTION:Lehrveranstaltung 408011 21S, Gruppe 0\nTitel: PS Wissenschaftliches Arbeiten in der Soziologie\nOrt: eLecture - online\n\nhttps://lfuonline.uibk.ac.at/public/lfuonline_lv.details?sem_id_in=21S&lvnr_id_in=408011\n
CLASS:PUBLIC
DTSTART:20210507T080000Z
DTEND:20210507T094500Z
DTSTAMP:20260422T113307Z
LOCATION:eLecture - online
END:VEVENT
BEGIN:VEVENT
UID:21S_408011_3677810@uibk.ac.at
ORGANIZER;CN="LFU:online Universität Innsbruck":MAILTO:Uni-Innsbruck-noreply@uibk.ac.at
SUMMARY:PS Wissenschaftliches Arbeiten in der Soziologie (LV 408011-0 21S)
DESCRIPTION:Lehrveranstaltung 408011 21S, Gruppe 0\nTitel: PS Wissenschaftliches Arbeiten in der Soziologie\nOrt: eLecture - online\n\nhttps://lfuonline.uibk.ac.at/public/lfuonline_lv.details?sem_id_in=21S&lvnr_id_in=408011\n
CLASS:PUBLIC
DTSTART:20210514T080000Z
DTEND:20210514T094500Z
DTSTAMP:20260422T113307Z
LOCATION:eLecture - online
END:VEVENT
BEGIN:VEVENT
UID:21S_408011_3677811@uibk.ac.at
ORGANIZER;CN="LFU:online Universität Innsbruck":MAILTO:Uni-Innsbruck-noreply@uibk.ac.at
SUMMARY:PS Wissenschaftliches Arbeiten in der Soziologie (LV 408011-0 21S)
DESCRIPTION:Lehrveranstaltung 408011 21S, Gruppe 0\nTitel: PS Wissenschaftliches Arbeiten in der Soziologie\nOrt: eLecture - online\n\nhttps://lfuonline.uibk.ac.at/public/lfuonline_lv.details?sem_id_in=21S&lvnr_id_in=408011\n
CLASS:PUBLIC
DTSTART:20210521T080000Z
DTEND:20210521T094500Z
DTSTAMP:20260422T113307Z
LOCATION:eLecture - online
END:VEVENT
BEGIN:VEVENT
UID:21S_408011_3677812@uibk.ac.at
ORGANIZER;CN="LFU:online Universität Innsbruck":MAILTO:Uni-Innsbruck-noreply@uibk.ac.at
SUMMARY:PS Wissenschaftliches Arbeiten in der Soziologie (LV 408011-0 21S)
DESCRIPTION:Lehrveranstaltung 408011 21S, Gruppe 0\nTitel: PS Wissenschaftliches Arbeiten in der Soziologie\nOrt: eLecture - online\n\nhttps://lfuonline.uibk.ac.at/public/lfuonline_lv.details?sem_id_in=21S&lvnr_id_in=408011\n
CLASS:PUBLIC
DTSTART:20210528T080000Z
DTEND:20210528T094500Z
DTSTAMP:20260422T113307Z
LOCATION:eLecture - online
END:VEVENT
BEGIN:VEVENT
UID:21S_408011_3677813@uibk.ac.at
ORGANIZER;CN="LFU:online Universität Innsbruck":MAILTO:Uni-Innsbruck-noreply@uibk.ac.at
SUMMARY:PS Wissenschaftliches Arbeiten in der Soziologie (LV 408011-0 21S)
DESCRIPTION:Lehrveranstaltung 408011 21S, Gruppe 0\nTitel: PS Wissenschaftliches Arbeiten in der Soziologie\nOrt: eLecture - online\n\nhttps://lfuonline.uibk.ac.at/public/lfuonline_lv.details?sem_id_in=21S&lvnr_id_in=408011\n
CLASS:PUBLIC
DTSTART:20210604T080000Z
DTEND:20210604T094500Z
DTSTAMP:20260422T113307Z
LOCATION:eLecture - online
END:VEVENT
BEGIN:VEVENT
UID:21S_408011_3677814@uibk.ac.at
ORGANIZER;CN="LFU:online Universität Innsbruck":MAILTO:Uni-Innsbruck-noreply@uibk.ac.at
SUMMARY:PS Wissenschaftliches Arbeiten in der Soziologie (LV 408011-0 21S)
DESCRIPTION:Lehrveranstaltung 408011 21S, Gruppe 0\nTitel: PS Wissenschaftliches Arbeiten in der Soziologie\nOrt: eLecture - online\n\nhttps://lfuonline.uibk.ac.at/public/lfuonline_lv.details?sem_id_in=21S&lvnr_id_in=408011\n
CLASS:PUBLIC
DTSTART:20210611T080000Z
DTEND:20210611T094500Z
DTSTAMP:20260422T113307Z
LOCATION:eLecture - online
END:VEVENT
BEGIN:VEVENT
UID:21S_408011_3677815@uibk.ac.at
ORGANIZER;CN="LFU:online Universität Innsbruck":MAILTO:Uni-Innsbruck-noreply@uibk.ac.at
SUMMARY:PS Wissenschaftliches Arbeiten in der Soziologie (LV 408011-0 21S)
DESCRIPTION:Lehrveranstaltung 408011 21S, Gruppe 0\nTitel: PS Wissenschaftliches Arbeiten in der Soziologie\nOrt: eLecture - online\n\nhttps://lfuonline.uibk.ac.at/public/lfuonline_lv.details?sem_id_in=21S&lvnr_id_in=408011\n
CLASS:PUBLIC
DTSTART:20210618T080000Z
DTEND:20210618T094500Z
DTSTAMP:20260422T113307Z
LOCATION:eLecture - online
END:VEVENT
BEGIN:VEVENT
UID:21S_408011_3677816@uibk.ac.at
ORGANIZER;CN="LFU:online Universität Innsbruck":MAILTO:Uni-Innsbruck-noreply@uibk.ac.at
SUMMARY:PS Wissenschaftliches Arbeiten in der Soziologie (LV 408011-0 21S)
DESCRIPTION:Lehrveranstaltung 408011 21S, Gruppe 0\nTitel: PS Wissenschaftliches Arbeiten in der Soziologie\nOrt: eLecture - online\n\nhttps://lfuonline.uibk.ac.at/public/lfuonline_lv.details?sem_id_in=21S&lvnr_id_in=408011\n
CLASS:PUBLIC
DTSTART:20210625T080000Z
DTEND:20210625T094500Z
DTSTAMP:20260422T113307Z
LOCATION:eLecture - online
END:VEVENT
END:VCALENDAR