BEGIN:VCALENDAR
VERSION:2.0
PRODID:-//Universität Innsbruck//LFU:online//DE
METHOD:PUBLISH
BEGIN:VEVENT
UID:13W_408020_2109314@uibk.ac.at
ORGANIZER;CN="LFU:online Universität Innsbruck":MAILTO:Uni-Innsbruck-noreply@uibk.ac.at
SUMMARY:VO Angewandte Methoden der Sozialwissenschaften (LV 408020-0 13W)
DESCRIPTION:Lehrveranstaltung 408020 13W, Gruppe 0\nTitel: VO Angewandte Methoden der Sozialwissenschaften\nOrt: Aula (Sowi)\n\nhttps://lfuonline.uibk.ac.at/public/lfuonline_lv.details?sem_id_in=13W&lvnr_id_in=408020\n
CLASS:PUBLIC
DTSTART:20131010T110000Z
DTEND:20131010T124500Z
DTSTAMP:20260421T000829Z
LOCATION:Aula (Sowi)
END:VEVENT
BEGIN:VEVENT
UID:13W_408020_2109315@uibk.ac.at
ORGANIZER;CN="LFU:online Universität Innsbruck":MAILTO:Uni-Innsbruck-noreply@uibk.ac.at
SUMMARY:VO Angewandte Methoden der Sozialwissenschaften (LV 408020-0 13W)
DESCRIPTION:Lehrveranstaltung 408020 13W, Gruppe 0\nTitel: VO Angewandte Methoden der Sozialwissenschaften\nOrt: Aula (Sowi)\n\nhttps://lfuonline.uibk.ac.at/public/lfuonline_lv.details?sem_id_in=13W&lvnr_id_in=408020\n
CLASS:PUBLIC
DTSTART:20131017T110000Z
DTEND:20131017T124500Z
DTSTAMP:20260421T000829Z
LOCATION:Aula (Sowi)
END:VEVENT
BEGIN:VEVENT
UID:13W_408020_2109316@uibk.ac.at
ORGANIZER;CN="LFU:online Universität Innsbruck":MAILTO:Uni-Innsbruck-noreply@uibk.ac.at
SUMMARY:VO Angewandte Methoden der Sozialwissenschaften (LV 408020-0 13W)
DESCRIPTION:Lehrveranstaltung 408020 13W, Gruppe 0\nTitel: VO Angewandte Methoden der Sozialwissenschaften\nOrt: Aula (Sowi)\n\nhttps://lfuonline.uibk.ac.at/public/lfuonline_lv.details?sem_id_in=13W&lvnr_id_in=408020\n
CLASS:PUBLIC
DTSTART:20131024T110000Z
DTEND:20131024T124500Z
DTSTAMP:20260421T000829Z
LOCATION:Aula (Sowi)
END:VEVENT
BEGIN:VEVENT
UID:13W_408020_2109317@uibk.ac.at
ORGANIZER;CN="LFU:online Universität Innsbruck":MAILTO:Uni-Innsbruck-noreply@uibk.ac.at
SUMMARY:VO Angewandte Methoden der Sozialwissenschaften (LV 408020-0 13W)
DESCRIPTION:Lehrveranstaltung 408020 13W, Gruppe 0\nTitel: VO Angewandte Methoden der Sozialwissenschaften\nOrt: Aula (Sowi)\n\nhttps://lfuonline.uibk.ac.at/public/lfuonline_lv.details?sem_id_in=13W&lvnr_id_in=408020\n
CLASS:PUBLIC
DTSTART:20131031T120000Z
DTEND:20131031T134500Z
DTSTAMP:20260421T000829Z
LOCATION:Aula (Sowi)
END:VEVENT
BEGIN:VEVENT
UID:13W_408020_2109319@uibk.ac.at
ORGANIZER;CN="LFU:online Universität Innsbruck":MAILTO:Uni-Innsbruck-noreply@uibk.ac.at
SUMMARY:VO Angewandte Methoden der Sozialwissenschaften (LV 408020-0 13W)
DESCRIPTION:Lehrveranstaltung 408020 13W, Gruppe 0\nTitel: VO Angewandte Methoden der Sozialwissenschaften\nOrt: Aula (Sowi)\n\nhttps://lfuonline.uibk.ac.at/public/lfuonline_lv.details?sem_id_in=13W&lvnr_id_in=408020\n
CLASS:PUBLIC
DTSTART:20131114T120000Z
DTEND:20131114T134500Z
DTSTAMP:20260421T000829Z
LOCATION:Aula (Sowi)
END:VEVENT
BEGIN:VEVENT
UID:13W_408020_2109320@uibk.ac.at
ORGANIZER;CN="LFU:online Universität Innsbruck":MAILTO:Uni-Innsbruck-noreply@uibk.ac.at
SUMMARY:VO Angewandte Methoden der Sozialwissenschaften (LV 408020-0 13W)
DESCRIPTION:Lehrveranstaltung 408020 13W, Gruppe 0\nTitel: VO Angewandte Methoden der Sozialwissenschaften\nOrt: Aula (Sowi)\n\nhttps://lfuonline.uibk.ac.at/public/lfuonline_lv.details?sem_id_in=13W&lvnr_id_in=408020\n
CLASS:PUBLIC
DTSTART:20131121T120000Z
DTEND:20131121T134500Z
DTSTAMP:20260421T000829Z
LOCATION:Aula (Sowi)
END:VEVENT
BEGIN:VEVENT
UID:13W_408020_2109321@uibk.ac.at
ORGANIZER;CN="LFU:online Universität Innsbruck":MAILTO:Uni-Innsbruck-noreply@uibk.ac.at
SUMMARY:VO Angewandte Methoden der Sozialwissenschaften (LV 408020-0 13W)
DESCRIPTION:Lehrveranstaltung 408020 13W, Gruppe 0\nTitel: VO Angewandte Methoden der Sozialwissenschaften\nOrt: Aula (Sowi)\n\nhttps://lfuonline.uibk.ac.at/public/lfuonline_lv.details?sem_id_in=13W&lvnr_id_in=408020\n
CLASS:PUBLIC
DTSTART:20131128T120000Z
DTEND:20131128T134500Z
DTSTAMP:20260421T000829Z
LOCATION:Aula (Sowi)
END:VEVENT
BEGIN:VEVENT
UID:13W_408020_2109322@uibk.ac.at
ORGANIZER;CN="LFU:online Universität Innsbruck":MAILTO:Uni-Innsbruck-noreply@uibk.ac.at
SUMMARY:VO Angewandte Methoden der Sozialwissenschaften (LV 408020-0 13W)
DESCRIPTION:Lehrveranstaltung 408020 13W, Gruppe 0\nTitel: VO Angewandte Methoden der Sozialwissenschaften\nOrt: Aula (Sowi)\n\nhttps://lfuonline.uibk.ac.at/public/lfuonline_lv.details?sem_id_in=13W&lvnr_id_in=408020\n
CLASS:PUBLIC
DTSTART:20131205T120000Z
DTEND:20131205T134500Z
DTSTAMP:20260421T000829Z
LOCATION:Aula (Sowi)
END:VEVENT
BEGIN:VEVENT
UID:13W_408020_2109323@uibk.ac.at
ORGANIZER;CN="LFU:online Universität Innsbruck":MAILTO:Uni-Innsbruck-noreply@uibk.ac.at
SUMMARY:VO Angewandte Methoden der Sozialwissenschaften (LV 408020-0 13W)
DESCRIPTION:Lehrveranstaltung 408020 13W, Gruppe 0\nTitel: VO Angewandte Methoden der Sozialwissenschaften\nOrt: Aula (Sowi)\n\nhttps://lfuonline.uibk.ac.at/public/lfuonline_lv.details?sem_id_in=13W&lvnr_id_in=408020\n
CLASS:PUBLIC
DTSTART:20131212T120000Z
DTEND:20131212T134500Z
DTSTAMP:20260421T000829Z
LOCATION:Aula (Sowi)
END:VEVENT
BEGIN:VEVENT
UID:13W_408020_2109324@uibk.ac.at
ORGANIZER;CN="LFU:online Universität Innsbruck":MAILTO:Uni-Innsbruck-noreply@uibk.ac.at
SUMMARY:VO Angewandte Methoden der Sozialwissenschaften (LV 408020-0 13W)
DESCRIPTION:Lehrveranstaltung 408020 13W, Gruppe 0\nTitel: VO Angewandte Methoden der Sozialwissenschaften\nOrt: Aula (Sowi)\n\nhttps://lfuonline.uibk.ac.at/public/lfuonline_lv.details?sem_id_in=13W&lvnr_id_in=408020\n
CLASS:PUBLIC
DTSTART:20140109T120000Z
DTEND:20140109T134500Z
DTSTAMP:20260421T000829Z
LOCATION:Aula (Sowi)
END:VEVENT
BEGIN:VEVENT
UID:13W_408020_2109325@uibk.ac.at
ORGANIZER;CN="LFU:online Universität Innsbruck":MAILTO:Uni-Innsbruck-noreply@uibk.ac.at
SUMMARY:VO Angewandte Methoden der Sozialwissenschaften (LV 408020-0 13W)
DESCRIPTION:Lehrveranstaltung 408020 13W, Gruppe 0\nTitel: VO Angewandte Methoden der Sozialwissenschaften\nOrt: Aula (Sowi)\n\nhttps://lfuonline.uibk.ac.at/public/lfuonline_lv.details?sem_id_in=13W&lvnr_id_in=408020\n
CLASS:PUBLIC
DTSTART:20140116T120000Z
DTEND:20140116T134500Z
DTSTAMP:20260421T000829Z
LOCATION:Aula (Sowi)
END:VEVENT
BEGIN:VEVENT
UID:13W_408020_2109326@uibk.ac.at
ORGANIZER;CN="LFU:online Universität Innsbruck":MAILTO:Uni-Innsbruck-noreply@uibk.ac.at
SUMMARY:VO Angewandte Methoden der Sozialwissenschaften (LV 408020-0 13W)
DESCRIPTION:Lehrveranstaltung 408020 13W, Gruppe 0\nTitel: VO Angewandte Methoden der Sozialwissenschaften\nOrt: Aula (Sowi)\n\nhttps://lfuonline.uibk.ac.at/public/lfuonline_lv.details?sem_id_in=13W&lvnr_id_in=408020\n
CLASS:PUBLIC
DTSTART:20140123T120000Z
DTEND:20140123T134500Z
DTSTAMP:20260421T000829Z
LOCATION:Aula (Sowi)
END:VEVENT
BEGIN:VEVENT
UID:13W_408020_2109327@uibk.ac.at
ORGANIZER;CN="LFU:online Universität Innsbruck":MAILTO:Uni-Innsbruck-noreply@uibk.ac.at
SUMMARY:VO Angewandte Methoden der Sozialwissenschaften (LV 408020-0 13W)
DESCRIPTION:Lehrveranstaltung 408020 13W, Gruppe 0\nTitel: VO Angewandte Methoden der Sozialwissenschaften\nOrt: Aula (Sowi)\n\nhttps://lfuonline.uibk.ac.at/public/lfuonline_lv.details?sem_id_in=13W&lvnr_id_in=408020\n
CLASS:PUBLIC
DTSTART:20140130T120000Z
DTEND:20140130T134500Z
DTSTAMP:20260421T000829Z
LOCATION:Aula (Sowi)
END:VEVENT
BEGIN:VEVENT
UID:13W_408020_2289965@uibk.ac.at
ORGANIZER;CN="LFU:online Universität Innsbruck":MAILTO:Uni-Innsbruck-noreply@uibk.ac.at
SUMMARY:VO Angewandte Methoden der Sozialwissenschaften (LV 408020-0 13W)
DESCRIPTION:Lehrveranstaltung 408020 13W, Gruppe 0\nTitel: VO Angewandte Methoden der Sozialwissenschaften\nOrt: SR VI (Theologie)\n\nhttps://lfuonline.uibk.ac.at/public/lfuonline_lv.details?sem_id_in=13W&lvnr_id_in=408020\n
CLASS:PUBLIC
DTSTART:20140331T060000Z
DTEND:20140331T074500Z
DTSTAMP:20260421T000829Z
LOCATION:SR VI (Theologie)
COMMENT:2. Klausurtermin (Zusatzraum)
END:VEVENT
BEGIN:VEVENT
UID:13W_408020_2287888@uibk.ac.at
ORGANIZER;CN="LFU:online Universität Innsbruck":MAILTO:Uni-Innsbruck-noreply@uibk.ac.at
SUMMARY:VO Angewandte Methoden der Sozialwissenschaften (LV 408020-0 13W)
DESCRIPTION:Lehrveranstaltung 408020 13W, Gruppe 0\nTitel: VO Angewandte Methoden der Sozialwissenschaften\nOrt: MS (Theologie)\n\nhttps://lfuonline.uibk.ac.at/public/lfuonline_lv.details?sem_id_in=13W&lvnr_id_in=408020\n
CLASS:PUBLIC
DTSTART:20140331T060000Z
DTEND:20140331T074500Z
DTSTAMP:20260421T000829Z
LOCATION:MS (Theologie)
COMMENT:2. Klausurtermin
END:VEVENT
BEGIN:VEVENT
UID:13W_408020_2198253@uibk.ac.at
ORGANIZER;CN="LFU:online Universität Innsbruck":MAILTO:Uni-Innsbruck-noreply@uibk.ac.at
SUMMARY:VO Angewandte Methoden der Sozialwissenschaften (LV 408020-0 13W)
DESCRIPTION:Lehrveranstaltung 408020 13W, Gruppe 0\nTitel: VO Angewandte Methoden der Sozialwissenschaften\nOrt: Aula (Sowi)\n\nhttps://lfuonline.uibk.ac.at/public/lfuonline_lv.details?sem_id_in=13W&lvnr_id_in=408020\n
CLASS:PUBLIC
DTSTART:20140701T080000Z
DTEND:20140701T094500Z
DTSTAMP:20260421T000829Z
LOCATION:Aula (Sowi)
COMMENT:Prüfung WS2013-14
END:VEVENT
BEGIN:VEVENT
UID:13W_408020_2388862@uibk.ac.at
ORGANIZER;CN="LFU:online Universität Innsbruck":MAILTO:Uni-Innsbruck-noreply@uibk.ac.at
SUMMARY:VO Angewandte Methoden der Sozialwissenschaften (LV 408020-0 13W)
DESCRIPTION:Lehrveranstaltung 408020 13W, Gruppe 0\nTitel: VO Angewandte Methoden der Sozialwissenschaften\nOrt: Aula (Sowi)\n\nhttps://lfuonline.uibk.ac.at/public/lfuonline_lv.details?sem_id_in=13W&lvnr_id_in=408020\n
CLASS:PUBLIC
DTSTART:20141002T090000Z
DTEND:20141002T104500Z
DTSTAMP:20260421T000829Z
LOCATION:Aula (Sowi)
COMMENT:Prüfung
END:VEVENT
END:VCALENDAR