BEGIN:VCALENDAR
VERSION:2.0
PRODID:-//Universität Innsbruck//LFU:online//DE
METHOD:PUBLISH
BEGIN:VEVENT
UID:13W_408021_2185047@uibk.ac.at
ORGANIZER;CN="LFU:online Universität Innsbruck":MAILTO:Uni-Innsbruck-noreply@uibk.ac.at
SUMMARY:PS Angewandte Methoden der Sozialwissenschaften (LV 408021-0 13W)
DESCRIPTION:Lehrveranstaltung 408021 13W, Gruppe 0\nTitel: PS Angewandte Methoden der Sozialwissenschaften\nOrt: SR  4 (Sowi)\n\nhttps://lfuonline.uibk.ac.at/public/lfuonline_lv.details?sem_id_in=13W&lvnr_id_in=408021\n
CLASS:PUBLIC
DTSTART:20131011T110000Z
DTEND:20131011T150000Z
DTSTAMP:20260421T000820Z
LOCATION:SR  4 (Sowi)
END:VEVENT
BEGIN:VEVENT
UID:13W_408021_2185048@uibk.ac.at
ORGANIZER;CN="LFU:online Universität Innsbruck":MAILTO:Uni-Innsbruck-noreply@uibk.ac.at
SUMMARY:PS Angewandte Methoden der Sozialwissenschaften (LV 408021-0 13W)
DESCRIPTION:Lehrveranstaltung 408021 13W, Gruppe 0\nTitel: PS Angewandte Methoden der Sozialwissenschaften\nOrt: SR  4 (Sowi)\n\nhttps://lfuonline.uibk.ac.at/public/lfuonline_lv.details?sem_id_in=13W&lvnr_id_in=408021\n
CLASS:PUBLIC
DTSTART:20131025T110000Z
DTEND:20131025T150000Z
DTSTAMP:20260421T000820Z
LOCATION:SR  4 (Sowi)
END:VEVENT
BEGIN:VEVENT
UID:13W_408021_2199882@uibk.ac.at
ORGANIZER;CN="LFU:online Universität Innsbruck":MAILTO:Uni-Innsbruck-noreply@uibk.ac.at
SUMMARY:PS Angewandte Methoden der Sozialwissenschaften (LV 408021-0 13W)
DESCRIPTION:Lehrveranstaltung 408021 13W, Gruppe 0\nTitel: PS Angewandte Methoden der Sozialwissenschaften\nOrt: SR  6 (Sowi)\n\nhttps://lfuonline.uibk.ac.at/public/lfuonline_lv.details?sem_id_in=13W&lvnr_id_in=408021\n
CLASS:PUBLIC
DTSTART:20131115T120000Z
DTEND:20131115T160000Z
DTSTAMP:20260421T000820Z
LOCATION:SR  6 (Sowi)
END:VEVENT
BEGIN:VEVENT
UID:13W_408021_2185054@uibk.ac.at
ORGANIZER;CN="LFU:online Universität Innsbruck":MAILTO:Uni-Innsbruck-noreply@uibk.ac.at
SUMMARY:PS Angewandte Methoden der Sozialwissenschaften (LV 408021-0 13W)
DESCRIPTION:Lehrveranstaltung 408021 13W, Gruppe 0\nTitel: PS Angewandte Methoden der Sozialwissenschaften\nOrt: SR  6 (Sowi)\n\nhttps://lfuonline.uibk.ac.at/public/lfuonline_lv.details?sem_id_in=13W&lvnr_id_in=408021\n
CLASS:PUBLIC
DTSTART:20131129T120000Z
DTEND:20131129T160000Z
DTSTAMP:20260421T000820Z
LOCATION:SR  6 (Sowi)
END:VEVENT
BEGIN:VEVENT
UID:13W_408021_2185055@uibk.ac.at
ORGANIZER;CN="LFU:online Universität Innsbruck":MAILTO:Uni-Innsbruck-noreply@uibk.ac.at
SUMMARY:PS Angewandte Methoden der Sozialwissenschaften (LV 408021-0 13W)
DESCRIPTION:Lehrveranstaltung 408021 13W, Gruppe 0\nTitel: PS Angewandte Methoden der Sozialwissenschaften\nOrt: SR 17 (Sowi)\n\nhttps://lfuonline.uibk.ac.at/public/lfuonline_lv.details?sem_id_in=13W&lvnr_id_in=408021\n
CLASS:PUBLIC
DTSTART:20131212T150000Z
DTEND:20131212T180000Z
DTSTAMP:20260421T000820Z
LOCATION:SR 17 (Sowi)
END:VEVENT
BEGIN:VEVENT
UID:13W_408021_2185056@uibk.ac.at
ORGANIZER;CN="LFU:online Universität Innsbruck":MAILTO:Uni-Innsbruck-noreply@uibk.ac.at
SUMMARY:PS Angewandte Methoden der Sozialwissenschaften (LV 408021-0 13W)
DESCRIPTION:Lehrveranstaltung 408021 13W, Gruppe 0\nTitel: PS Angewandte Methoden der Sozialwissenschaften\nOrt: SR  4 (Sowi)\n\nhttps://lfuonline.uibk.ac.at/public/lfuonline_lv.details?sem_id_in=13W&lvnr_id_in=408021\n
CLASS:PUBLIC
DTSTART:20140110T120000Z
DTEND:20140110T160000Z
DTSTAMP:20260421T000820Z
LOCATION:SR  4 (Sowi)
END:VEVENT
BEGIN:VEVENT
UID:13W_408021_2185057@uibk.ac.at
ORGANIZER;CN="LFU:online Universität Innsbruck":MAILTO:Uni-Innsbruck-noreply@uibk.ac.at
SUMMARY:PS Angewandte Methoden der Sozialwissenschaften (LV 408021-0 13W)
DESCRIPTION:Lehrveranstaltung 408021 13W, Gruppe 0\nTitel: PS Angewandte Methoden der Sozialwissenschaften\nOrt: SR  4 (Sowi)\n\nhttps://lfuonline.uibk.ac.at/public/lfuonline_lv.details?sem_id_in=13W&lvnr_id_in=408021\n
CLASS:PUBLIC
DTSTART:20140124T120000Z
DTEND:20140124T160000Z
DTSTAMP:20260421T000820Z
LOCATION:SR  4 (Sowi)
END:VEVENT
END:VCALENDAR