BEGIN:VCALENDAR
VERSION:2.0
PRODID:-//Universität Innsbruck//LFU:online//DE
METHOD:PUBLISH
BEGIN:VEVENT
UID:13W_408022_2111232@uibk.ac.at
ORGANIZER;CN="LFU:online Universität Innsbruck":MAILTO:Uni-Innsbruck-noreply@uibk.ac.at
SUMMARY:PS Angewandte Methoden der Sozialwissenschaften (LV 408022-0 13W)
DESCRIPTION:Lehrveranstaltung 408022 13W, Gruppe 0\nTitel: PS Angewandte Methoden der Sozialwissenschaften\nOrt: SR  6 (Sowi)\n\nhttps://lfuonline.uibk.ac.at/public/lfuonline_lv.details?sem_id_in=13W&lvnr_id_in=408022\n
CLASS:PUBLIC
DTSTART:20131021T070000Z
DTEND:20131021T104500Z
DTSTAMP:20260421T000829Z
LOCATION:SR  6 (Sowi)
END:VEVENT
BEGIN:VEVENT
UID:13W_408022_2111233@uibk.ac.at
ORGANIZER;CN="LFU:online Universität Innsbruck":MAILTO:Uni-Innsbruck-noreply@uibk.ac.at
SUMMARY:PS Angewandte Methoden der Sozialwissenschaften (LV 408022-0 13W)
DESCRIPTION:Lehrveranstaltung 408022 13W, Gruppe 0\nTitel: PS Angewandte Methoden der Sozialwissenschaften\nOrt: SR  6 (Sowi)\n\nhttps://lfuonline.uibk.ac.at/public/lfuonline_lv.details?sem_id_in=13W&lvnr_id_in=408022\n
CLASS:PUBLIC
DTSTART:20131104T080000Z
DTEND:20131104T114500Z
DTSTAMP:20260421T000829Z
LOCATION:SR  6 (Sowi)
END:VEVENT
BEGIN:VEVENT
UID:13W_408022_2111234@uibk.ac.at
ORGANIZER;CN="LFU:online Universität Innsbruck":MAILTO:Uni-Innsbruck-noreply@uibk.ac.at
SUMMARY:PS Angewandte Methoden der Sozialwissenschaften (LV 408022-0 13W)
DESCRIPTION:Lehrveranstaltung 408022 13W, Gruppe 0\nTitel: PS Angewandte Methoden der Sozialwissenschaften\nOrt: SR  6 (Sowi)\n\nhttps://lfuonline.uibk.ac.at/public/lfuonline_lv.details?sem_id_in=13W&lvnr_id_in=408022\n
CLASS:PUBLIC
DTSTART:20131118T080000Z
DTEND:20131118T114500Z
DTSTAMP:20260421T000829Z
LOCATION:SR  6 (Sowi)
END:VEVENT
BEGIN:VEVENT
UID:13W_408022_2111235@uibk.ac.at
ORGANIZER;CN="LFU:online Universität Innsbruck":MAILTO:Uni-Innsbruck-noreply@uibk.ac.at
SUMMARY:PS Angewandte Methoden der Sozialwissenschaften (LV 408022-0 13W)
DESCRIPTION:Lehrveranstaltung 408022 13W, Gruppe 0\nTitel: PS Angewandte Methoden der Sozialwissenschaften\nOrt: SR  6 (Sowi)\n\nhttps://lfuonline.uibk.ac.at/public/lfuonline_lv.details?sem_id_in=13W&lvnr_id_in=408022\n
CLASS:PUBLIC
DTSTART:20131202T080000Z
DTEND:20131202T114500Z
DTSTAMP:20260421T000829Z
LOCATION:SR  6 (Sowi)
END:VEVENT
BEGIN:VEVENT
UID:13W_408022_2111236@uibk.ac.at
ORGANIZER;CN="LFU:online Universität Innsbruck":MAILTO:Uni-Innsbruck-noreply@uibk.ac.at
SUMMARY:PS Angewandte Methoden der Sozialwissenschaften (LV 408022-0 13W)
DESCRIPTION:Lehrveranstaltung 408022 13W, Gruppe 0\nTitel: PS Angewandte Methoden der Sozialwissenschaften\nOrt: SR  6 (Sowi)\n\nhttps://lfuonline.uibk.ac.at/public/lfuonline_lv.details?sem_id_in=13W&lvnr_id_in=408022\n
CLASS:PUBLIC
DTSTART:20131216T080000Z
DTEND:20131216T114500Z
DTSTAMP:20260421T000829Z
LOCATION:SR  6 (Sowi)
END:VEVENT
BEGIN:VEVENT
UID:13W_408022_2111237@uibk.ac.at
ORGANIZER;CN="LFU:online Universität Innsbruck":MAILTO:Uni-Innsbruck-noreply@uibk.ac.at
SUMMARY:PS Angewandte Methoden der Sozialwissenschaften (LV 408022-0 13W)
DESCRIPTION:Lehrveranstaltung 408022 13W, Gruppe 0\nTitel: PS Angewandte Methoden der Sozialwissenschaften\nOrt: SR  6 (Sowi)\n\nhttps://lfuonline.uibk.ac.at/public/lfuonline_lv.details?sem_id_in=13W&lvnr_id_in=408022\n
CLASS:PUBLIC
DTSTART:20140113T080000Z
DTEND:20140113T114500Z
DTSTAMP:20260421T000829Z
LOCATION:SR  6 (Sowi)
END:VEVENT
BEGIN:VEVENT
UID:13W_408022_2111238@uibk.ac.at
ORGANIZER;CN="LFU:online Universität Innsbruck":MAILTO:Uni-Innsbruck-noreply@uibk.ac.at
SUMMARY:PS Angewandte Methoden der Sozialwissenschaften (LV 408022-0 13W)
DESCRIPTION:Lehrveranstaltung 408022 13W, Gruppe 0\nTitel: PS Angewandte Methoden der Sozialwissenschaften\nOrt: SR  6 (Sowi)\n\nhttps://lfuonline.uibk.ac.at/public/lfuonline_lv.details?sem_id_in=13W&lvnr_id_in=408022\n
CLASS:PUBLIC
DTSTART:20140127T080000Z
DTEND:20140127T114500Z
DTSTAMP:20260421T000829Z
LOCATION:SR  6 (Sowi)
END:VEVENT
END:VCALENDAR