BEGIN:VCALENDAR
VERSION:2.0
PRODID:-//Universität Innsbruck//LFU:online//DE
METHOD:PUBLISH
BEGIN:VEVENT
UID:13W_408023_2167189@uibk.ac.at
ORGANIZER;CN="LFU:online Universität Innsbruck":MAILTO:Uni-Innsbruck-noreply@uibk.ac.at
SUMMARY:PS Angewandte Methoden der Sozialwissenschaften (LV 408023-0 13W)
DESCRIPTION:Lehrveranstaltung 408023 13W, Gruppe 0\nTitel: PS Angewandte Methoden der Sozialwissenschaften\nOrt: SR 19 (Sowi)\n\nhttps://lfuonline.uibk.ac.at/public/lfuonline_lv.details?sem_id_in=13W&lvnr_id_in=408023\n
CLASS:PUBLIC
DTSTART:20131009T110000Z
DTEND:20131009T144500Z
DTSTAMP:20260421T000830Z
LOCATION:SR 19 (Sowi)
END:VEVENT
BEGIN:VEVENT
UID:13W_408023_2167190@uibk.ac.at
ORGANIZER;CN="LFU:online Universität Innsbruck":MAILTO:Uni-Innsbruck-noreply@uibk.ac.at
SUMMARY:PS Angewandte Methoden der Sozialwissenschaften (LV 408023-0 13W)
DESCRIPTION:Lehrveranstaltung 408023 13W, Gruppe 0\nTitel: PS Angewandte Methoden der Sozialwissenschaften\nOrt: SR 19 (Sowi)\n\nhttps://lfuonline.uibk.ac.at/public/lfuonline_lv.details?sem_id_in=13W&lvnr_id_in=408023\n
CLASS:PUBLIC
DTSTART:20131023T110000Z
DTEND:20131023T144500Z
DTSTAMP:20260421T000830Z
LOCATION:SR 19 (Sowi)
END:VEVENT
BEGIN:VEVENT
UID:13W_408023_2167192@uibk.ac.at
ORGANIZER;CN="LFU:online Universität Innsbruck":MAILTO:Uni-Innsbruck-noreply@uibk.ac.at
SUMMARY:PS Angewandte Methoden der Sozialwissenschaften (LV 408023-0 13W)
DESCRIPTION:Lehrveranstaltung 408023 13W, Gruppe 0\nTitel: PS Angewandte Methoden der Sozialwissenschaften\nOrt: SR 19 (Sowi)\n\nhttps://lfuonline.uibk.ac.at/public/lfuonline_lv.details?sem_id_in=13W&lvnr_id_in=408023\n
CLASS:PUBLIC
DTSTART:20131120T120000Z
DTEND:20131120T154500Z
DTSTAMP:20260421T000830Z
LOCATION:SR 19 (Sowi)
END:VEVENT
BEGIN:VEVENT
UID:13W_408023_2167201@uibk.ac.at
ORGANIZER;CN="LFU:online Universität Innsbruck":MAILTO:Uni-Innsbruck-noreply@uibk.ac.at
SUMMARY:PS Angewandte Methoden der Sozialwissenschaften (LV 408023-0 13W)
DESCRIPTION:Lehrveranstaltung 408023 13W, Gruppe 0\nTitel: PS Angewandte Methoden der Sozialwissenschaften\nOrt: SR 19 (Sowi)\n\nhttps://lfuonline.uibk.ac.at/public/lfuonline_lv.details?sem_id_in=13W&lvnr_id_in=408023\n
CLASS:PUBLIC
DTSTART:20131127T120000Z
DTEND:20131127T154500Z
DTSTAMP:20260421T000830Z
LOCATION:SR 19 (Sowi)
END:VEVENT
BEGIN:VEVENT
UID:13W_408023_2167198@uibk.ac.at
ORGANIZER;CN="LFU:online Universität Innsbruck":MAILTO:Uni-Innsbruck-noreply@uibk.ac.at
SUMMARY:PS Angewandte Methoden der Sozialwissenschaften (LV 408023-0 13W)
DESCRIPTION:Lehrveranstaltung 408023 13W, Gruppe 0\nTitel: PS Angewandte Methoden der Sozialwissenschaften\nOrt: SR 11 (Sowi)\n\nhttps://lfuonline.uibk.ac.at/public/lfuonline_lv.details?sem_id_in=13W&lvnr_id_in=408023\n
CLASS:PUBLIC
DTSTART:20131211T120000Z
DTEND:20131211T154500Z
DTSTAMP:20260421T000830Z
LOCATION:SR 11 (Sowi)
END:VEVENT
BEGIN:VEVENT
UID:13W_408023_2167200@uibk.ac.at
ORGANIZER;CN="LFU:online Universität Innsbruck":MAILTO:Uni-Innsbruck-noreply@uibk.ac.at
SUMMARY:PS Angewandte Methoden der Sozialwissenschaften (LV 408023-0 13W)
DESCRIPTION:Lehrveranstaltung 408023 13W, Gruppe 0\nTitel: PS Angewandte Methoden der Sozialwissenschaften\nOrt: SR 11 (Sowi)\n\nhttps://lfuonline.uibk.ac.at/public/lfuonline_lv.details?sem_id_in=13W&lvnr_id_in=408023\n
CLASS:PUBLIC
DTSTART:20140108T120000Z
DTEND:20140108T154500Z
DTSTAMP:20260421T000830Z
LOCATION:SR 11 (Sowi)
END:VEVENT
BEGIN:VEVENT
UID:13W_408023_2167195@uibk.ac.at
ORGANIZER;CN="LFU:online Universität Innsbruck":MAILTO:Uni-Innsbruck-noreply@uibk.ac.at
SUMMARY:PS Angewandte Methoden der Sozialwissenschaften (LV 408023-0 13W)
DESCRIPTION:Lehrveranstaltung 408023 13W, Gruppe 0\nTitel: PS Angewandte Methoden der Sozialwissenschaften\nOrt: SR 19 (Sowi)\n\nhttps://lfuonline.uibk.ac.at/public/lfuonline_lv.details?sem_id_in=13W&lvnr_id_in=408023\n
CLASS:PUBLIC
DTSTART:20140129T120000Z
DTEND:20140129T154500Z
DTSTAMP:20260421T000830Z
LOCATION:SR 19 (Sowi)
END:VEVENT
END:VCALENDAR