BEGIN:VCALENDAR
VERSION:2.0
PRODID:-//Universität Innsbruck//LFU:online//DE
METHOD:PUBLISH
BEGIN:VEVENT
UID:13W_408024_2190454@uibk.ac.at
ORGANIZER;CN="LFU:online Universität Innsbruck":MAILTO:Uni-Innsbruck-noreply@uibk.ac.at
SUMMARY:PS Angewandte Methoden der Sozialwissenschaften (LV 408024-0 13W)
DESCRIPTION:Lehrveranstaltung 408024 13W, Gruppe 0\nTitel: PS Angewandte Methoden der Sozialwissenschaften\nOrt: SR  6 (Sowi)\n\nhttps://lfuonline.uibk.ac.at/public/lfuonline_lv.details?sem_id_in=13W&lvnr_id_in=408024\n
CLASS:PUBLIC
DTSTART:20131011T120000Z
DTEND:20131011T134500Z
DTSTAMP:20260421T000821Z
LOCATION:SR  6 (Sowi)
COMMENT:Vorbesprechung
END:VEVENT
BEGIN:VEVENT
UID:13W_408024_2111086@uibk.ac.at
ORGANIZER;CN="LFU:online Universität Innsbruck":MAILTO:Uni-Innsbruck-noreply@uibk.ac.at
SUMMARY:PS Angewandte Methoden der Sozialwissenschaften (LV 408024-0 13W)
DESCRIPTION:Lehrveranstaltung 408024 13W, Gruppe 0\nTitel: PS Angewandte Methoden der Sozialwissenschaften\nOrt: SR  6 (Sowi)\n\nhttps://lfuonline.uibk.ac.at/public/lfuonline_lv.details?sem_id_in=13W&lvnr_id_in=408024\n
CLASS:PUBLIC
DTSTART:20131108T070000Z
DTEND:20131108T150000Z
DTSTAMP:20260421T000821Z
LOCATION:SR  6 (Sowi)
END:VEVENT
BEGIN:VEVENT
UID:13W_408024_2111105@uibk.ac.at
ORGANIZER;CN="LFU:online Universität Innsbruck":MAILTO:Uni-Innsbruck-noreply@uibk.ac.at
SUMMARY:PS Angewandte Methoden der Sozialwissenschaften (LV 408024-0 13W)
DESCRIPTION:Lehrveranstaltung 408024 13W, Gruppe 0\nTitel: PS Angewandte Methoden der Sozialwissenschaften\nOrt: SR  6 (Sowi)\n\nhttps://lfuonline.uibk.ac.at/public/lfuonline_lv.details?sem_id_in=13W&lvnr_id_in=408024\n
CLASS:PUBLIC
DTSTART:20131109T073000Z
DTEND:20131109T130000Z
DTSTAMP:20260421T000821Z
LOCATION:SR  6 (Sowi)
END:VEVENT
BEGIN:VEVENT
UID:13W_408024_2181246@uibk.ac.at
ORGANIZER;CN="LFU:online Universität Innsbruck":MAILTO:Uni-Innsbruck-noreply@uibk.ac.at
SUMMARY:PS Angewandte Methoden der Sozialwissenschaften (LV 408024-0 13W)
DESCRIPTION:Lehrveranstaltung 408024 13W, Gruppe 0\nTitel: PS Angewandte Methoden der Sozialwissenschaften\nOrt: SR 12 (Sowi)\n\nhttps://lfuonline.uibk.ac.at/public/lfuonline_lv.details?sem_id_in=13W&lvnr_id_in=408024\n
CLASS:PUBLIC
DTSTART:20131213T070000Z
DTEND:20131213T114500Z
DTSTAMP:20260421T000821Z
LOCATION:SR 12 (Sowi)
END:VEVENT
BEGIN:VEVENT
UID:13W_408024_2181248@uibk.ac.at
ORGANIZER;CN="LFU:online Universität Innsbruck":MAILTO:Uni-Innsbruck-noreply@uibk.ac.at
SUMMARY:PS Angewandte Methoden der Sozialwissenschaften (LV 408024-0 13W)
DESCRIPTION:Lehrveranstaltung 408024 13W, Gruppe 0\nTitel: PS Angewandte Methoden der Sozialwissenschaften\nOrt: SR  6 (Sowi)\n\nhttps://lfuonline.uibk.ac.at/public/lfuonline_lv.details?sem_id_in=13W&lvnr_id_in=408024\n
CLASS:PUBLIC
DTSTART:20131213T120000Z
DTEND:20131213T150000Z
DTSTAMP:20260421T000821Z
LOCATION:SR  6 (Sowi)
END:VEVENT
BEGIN:VEVENT
UID:13W_408024_2171438@uibk.ac.at
ORGANIZER;CN="LFU:online Universität Innsbruck":MAILTO:Uni-Innsbruck-noreply@uibk.ac.at
SUMMARY:PS Angewandte Methoden der Sozialwissenschaften (LV 408024-0 13W)
DESCRIPTION:Lehrveranstaltung 408024 13W, Gruppe 0\nTitel: PS Angewandte Methoden der Sozialwissenschaften\nOrt: SR  6 (Sowi)\n\nhttps://lfuonline.uibk.ac.at/public/lfuonline_lv.details?sem_id_in=13W&lvnr_id_in=408024\n
CLASS:PUBLIC
DTSTART:20131214T070000Z
DTEND:20131214T150000Z
DTSTAMP:20260421T000821Z
LOCATION:SR  6 (Sowi)
END:VEVENT
END:VCALENDAR