BEGIN:VCALENDAR
VERSION:2.0
PRODID:-//Universität Innsbruck//LFU:online//DE
METHOD:PUBLISH
BEGIN:VEVENT
UID:13W_408025_2157895@uibk.ac.at
ORGANIZER;CN="LFU:online Universität Innsbruck":MAILTO:Uni-Innsbruck-noreply@uibk.ac.at
SUMMARY:PS Angewandte Methoden der Sozialwissenschaften (LV 408025-0 13W)
DESCRIPTION:Lehrveranstaltung 408025 13W, Gruppe 0\nTitel: PS Angewandte Methoden der Sozialwissenschaften\nOrt: SR 12 (Sowi)\n\nhttps://lfuonline.uibk.ac.at/public/lfuonline_lv.details?sem_id_in=13W&lvnr_id_in=408025\n
CLASS:PUBLIC
DTSTART:20131007T130000Z
DTEND:20131007T163000Z
DTSTAMP:20260421T000829Z
LOCATION:SR 12 (Sowi)
END:VEVENT
BEGIN:VEVENT
UID:13W_408025_2199930@uibk.ac.at
ORGANIZER;CN="LFU:online Universität Innsbruck":MAILTO:Uni-Innsbruck-noreply@uibk.ac.at
SUMMARY:PS Angewandte Methoden der Sozialwissenschaften (LV 408025-0 13W)
DESCRIPTION:Lehrveranstaltung 408025 13W, Gruppe 0\nTitel: PS Angewandte Methoden der Sozialwissenschaften\nOrt: SR  3 (Sowi)\n\nhttps://lfuonline.uibk.ac.at/public/lfuonline_lv.details?sem_id_in=13W&lvnr_id_in=408025\n
CLASS:PUBLIC
DTSTART:20131028T140000Z
DTEND:20131028T173000Z
DTSTAMP:20260421T000829Z
LOCATION:SR  3 (Sowi)
END:VEVENT
BEGIN:VEVENT
UID:13W_408025_2167243@uibk.ac.at
ORGANIZER;CN="LFU:online Universität Innsbruck":MAILTO:Uni-Innsbruck-noreply@uibk.ac.at
SUMMARY:PS Angewandte Methoden der Sozialwissenschaften (LV 408025-0 13W)
DESCRIPTION:Lehrveranstaltung 408025 13W, Gruppe 0\nTitel: PS Angewandte Methoden der Sozialwissenschaften\nOrt: SR  3 (Sowi)\n\nhttps://lfuonline.uibk.ac.at/public/lfuonline_lv.details?sem_id_in=13W&lvnr_id_in=408025\n
CLASS:PUBLIC
DTSTART:20131104T140000Z
DTEND:20131104T173000Z
DTSTAMP:20260421T000829Z
LOCATION:SR  3 (Sowi)
END:VEVENT
BEGIN:VEVENT
UID:13W_408025_2157898@uibk.ac.at
ORGANIZER;CN="LFU:online Universität Innsbruck":MAILTO:Uni-Innsbruck-noreply@uibk.ac.at
SUMMARY:PS Angewandte Methoden der Sozialwissenschaften (LV 408025-0 13W)
DESCRIPTION:Lehrveranstaltung 408025 13W, Gruppe 0\nTitel: PS Angewandte Methoden der Sozialwissenschaften\nOrt: SR 12 (Sowi)\n\nhttps://lfuonline.uibk.ac.at/public/lfuonline_lv.details?sem_id_in=13W&lvnr_id_in=408025\n
CLASS:PUBLIC
DTSTART:20131118T140000Z
DTEND:20131118T173000Z
DTSTAMP:20260421T000829Z
LOCATION:SR 12 (Sowi)
END:VEVENT
BEGIN:VEVENT
UID:13W_408025_2167244@uibk.ac.at
ORGANIZER;CN="LFU:online Universität Innsbruck":MAILTO:Uni-Innsbruck-noreply@uibk.ac.at
SUMMARY:PS Angewandte Methoden der Sozialwissenschaften (LV 408025-0 13W)
DESCRIPTION:Lehrveranstaltung 408025 13W, Gruppe 0\nTitel: PS Angewandte Methoden der Sozialwissenschaften\nOrt: SR  3 (Sowi)\n\nhttps://lfuonline.uibk.ac.at/public/lfuonline_lv.details?sem_id_in=13W&lvnr_id_in=408025\n
CLASS:PUBLIC
DTSTART:20131202T140000Z
DTEND:20131202T173000Z
DTSTAMP:20260421T000829Z
LOCATION:SR  3 (Sowi)
END:VEVENT
BEGIN:VEVENT
UID:13W_408025_2157901@uibk.ac.at
ORGANIZER;CN="LFU:online Universität Innsbruck":MAILTO:Uni-Innsbruck-noreply@uibk.ac.at
SUMMARY:PS Angewandte Methoden der Sozialwissenschaften (LV 408025-0 13W)
DESCRIPTION:Lehrveranstaltung 408025 13W, Gruppe 0\nTitel: PS Angewandte Methoden der Sozialwissenschaften\nOrt: SR 12 (Sowi)\n\nhttps://lfuonline.uibk.ac.at/public/lfuonline_lv.details?sem_id_in=13W&lvnr_id_in=408025\n
CLASS:PUBLIC
DTSTART:20140113T140000Z
DTEND:20140113T173000Z
DTSTAMP:20260421T000829Z
LOCATION:SR 12 (Sowi)
END:VEVENT
BEGIN:VEVENT
UID:13W_408025_2157902@uibk.ac.at
ORGANIZER;CN="LFU:online Universität Innsbruck":MAILTO:Uni-Innsbruck-noreply@uibk.ac.at
SUMMARY:PS Angewandte Methoden der Sozialwissenschaften (LV 408025-0 13W)
DESCRIPTION:Lehrveranstaltung 408025 13W, Gruppe 0\nTitel: PS Angewandte Methoden der Sozialwissenschaften\nOrt: SR 12 (Sowi)\n\nhttps://lfuonline.uibk.ac.at/public/lfuonline_lv.details?sem_id_in=13W&lvnr_id_in=408025\n
CLASS:PUBLIC
DTSTART:20140127T140000Z
DTEND:20140127T173000Z
DTSTAMP:20260421T000829Z
LOCATION:SR 12 (Sowi)
END:VEVENT
END:VCALENDAR