BEGIN:VCALENDAR
VERSION:2.0
PRODID:-//Universität Innsbruck//LFU:online//DE
METHOD:PUBLISH
BEGIN:VEVENT
UID:13W_408026_2114887@uibk.ac.at
ORGANIZER;CN="LFU:online Universität Innsbruck":MAILTO:Uni-Innsbruck-noreply@uibk.ac.at
SUMMARY:PS Angewandte Methoden der Sozialwissenschaften (LV 408026-0 13W)
DESCRIPTION:Lehrveranstaltung 408026 13W, Gruppe 0\nTitel: PS Angewandte Methoden der Sozialwissenschaften\nOrt: SR  6 (Sowi)\n\nhttps://lfuonline.uibk.ac.at/public/lfuonline_lv.details?sem_id_in=13W&lvnr_id_in=408026\n
CLASS:PUBLIC
DTSTART:20131009T080000Z
DTEND:20131009T094500Z
DTSTAMP:20260421T000820Z
LOCATION:SR  6 (Sowi)
END:VEVENT
BEGIN:VEVENT
UID:13W_408026_2114888@uibk.ac.at
ORGANIZER;CN="LFU:online Universität Innsbruck":MAILTO:Uni-Innsbruck-noreply@uibk.ac.at
SUMMARY:PS Angewandte Methoden der Sozialwissenschaften (LV 408026-0 13W)
DESCRIPTION:Lehrveranstaltung 408026 13W, Gruppe 0\nTitel: PS Angewandte Methoden der Sozialwissenschaften\nOrt: SR  6 (Sowi)\n\nhttps://lfuonline.uibk.ac.at/public/lfuonline_lv.details?sem_id_in=13W&lvnr_id_in=408026\n
CLASS:PUBLIC
DTSTART:20131016T080000Z
DTEND:20131016T094500Z
DTSTAMP:20260421T000820Z
LOCATION:SR  6 (Sowi)
END:VEVENT
BEGIN:VEVENT
UID:13W_408026_2114889@uibk.ac.at
ORGANIZER;CN="LFU:online Universität Innsbruck":MAILTO:Uni-Innsbruck-noreply@uibk.ac.at
SUMMARY:PS Angewandte Methoden der Sozialwissenschaften (LV 408026-0 13W)
DESCRIPTION:Lehrveranstaltung 408026 13W, Gruppe 0\nTitel: PS Angewandte Methoden der Sozialwissenschaften\nOrt: SR  6 (Sowi)\n\nhttps://lfuonline.uibk.ac.at/public/lfuonline_lv.details?sem_id_in=13W&lvnr_id_in=408026\n
CLASS:PUBLIC
DTSTART:20131023T080000Z
DTEND:20131023T094500Z
DTSTAMP:20260421T000820Z
LOCATION:SR  6 (Sowi)
END:VEVENT
BEGIN:VEVENT
UID:13W_408026_2114890@uibk.ac.at
ORGANIZER;CN="LFU:online Universität Innsbruck":MAILTO:Uni-Innsbruck-noreply@uibk.ac.at
SUMMARY:PS Angewandte Methoden der Sozialwissenschaften (LV 408026-0 13W)
DESCRIPTION:Lehrveranstaltung 408026 13W, Gruppe 0\nTitel: PS Angewandte Methoden der Sozialwissenschaften\nOrt: SR  6 (Sowi)\n\nhttps://lfuonline.uibk.ac.at/public/lfuonline_lv.details?sem_id_in=13W&lvnr_id_in=408026\n
CLASS:PUBLIC
DTSTART:20131030T090000Z
DTEND:20131030T104500Z
DTSTAMP:20260421T000820Z
LOCATION:SR  6 (Sowi)
END:VEVENT
BEGIN:VEVENT
UID:13W_408026_2114891@uibk.ac.at
ORGANIZER;CN="LFU:online Universität Innsbruck":MAILTO:Uni-Innsbruck-noreply@uibk.ac.at
SUMMARY:PS Angewandte Methoden der Sozialwissenschaften (LV 408026-0 13W)
DESCRIPTION:Lehrveranstaltung 408026 13W, Gruppe 0\nTitel: PS Angewandte Methoden der Sozialwissenschaften\nOrt: SR  6 (Sowi)\n\nhttps://lfuonline.uibk.ac.at/public/lfuonline_lv.details?sem_id_in=13W&lvnr_id_in=408026\n
CLASS:PUBLIC
DTSTART:20131106T090000Z
DTEND:20131106T104500Z
DTSTAMP:20260421T000820Z
LOCATION:SR  6 (Sowi)
END:VEVENT
BEGIN:VEVENT
UID:13W_408026_2114892@uibk.ac.at
ORGANIZER;CN="LFU:online Universität Innsbruck":MAILTO:Uni-Innsbruck-noreply@uibk.ac.at
SUMMARY:PS Angewandte Methoden der Sozialwissenschaften (LV 408026-0 13W)
DESCRIPTION:Lehrveranstaltung 408026 13W, Gruppe 0\nTitel: PS Angewandte Methoden der Sozialwissenschaften\nOrt: SR  6 (Sowi)\n\nhttps://lfuonline.uibk.ac.at/public/lfuonline_lv.details?sem_id_in=13W&lvnr_id_in=408026\n
CLASS:PUBLIC
DTSTART:20131113T090000Z
DTEND:20131113T104500Z
DTSTAMP:20260421T000820Z
LOCATION:SR  6 (Sowi)
END:VEVENT
BEGIN:VEVENT
UID:13W_408026_2114893@uibk.ac.at
ORGANIZER;CN="LFU:online Universität Innsbruck":MAILTO:Uni-Innsbruck-noreply@uibk.ac.at
SUMMARY:PS Angewandte Methoden der Sozialwissenschaften (LV 408026-0 13W)
DESCRIPTION:Lehrveranstaltung 408026 13W, Gruppe 0\nTitel: PS Angewandte Methoden der Sozialwissenschaften\nOrt: SR  6 (Sowi)\n\nhttps://lfuonline.uibk.ac.at/public/lfuonline_lv.details?sem_id_in=13W&lvnr_id_in=408026\n
CLASS:PUBLIC
DTSTART:20131120T090000Z
DTEND:20131120T104500Z
DTSTAMP:20260421T000820Z
LOCATION:SR  6 (Sowi)
END:VEVENT
BEGIN:VEVENT
UID:13W_408026_2114894@uibk.ac.at
ORGANIZER;CN="LFU:online Universität Innsbruck":MAILTO:Uni-Innsbruck-noreply@uibk.ac.at
SUMMARY:PS Angewandte Methoden der Sozialwissenschaften (LV 408026-0 13W)
DESCRIPTION:Lehrveranstaltung 408026 13W, Gruppe 0\nTitel: PS Angewandte Methoden der Sozialwissenschaften\nOrt: SR  6 (Sowi)\n\nhttps://lfuonline.uibk.ac.at/public/lfuonline_lv.details?sem_id_in=13W&lvnr_id_in=408026\n
CLASS:PUBLIC
DTSTART:20131127T090000Z
DTEND:20131127T104500Z
DTSTAMP:20260421T000820Z
LOCATION:SR  6 (Sowi)
END:VEVENT
BEGIN:VEVENT
UID:13W_408026_2114895@uibk.ac.at
ORGANIZER;CN="LFU:online Universität Innsbruck":MAILTO:Uni-Innsbruck-noreply@uibk.ac.at
SUMMARY:PS Angewandte Methoden der Sozialwissenschaften (LV 408026-0 13W)
DESCRIPTION:Lehrveranstaltung 408026 13W, Gruppe 0\nTitel: PS Angewandte Methoden der Sozialwissenschaften\nOrt: SR  6 (Sowi)\n\nhttps://lfuonline.uibk.ac.at/public/lfuonline_lv.details?sem_id_in=13W&lvnr_id_in=408026\n
CLASS:PUBLIC
DTSTART:20131204T090000Z
DTEND:20131204T104500Z
DTSTAMP:20260421T000820Z
LOCATION:SR  6 (Sowi)
END:VEVENT
BEGIN:VEVENT
UID:13W_408026_2114896@uibk.ac.at
ORGANIZER;CN="LFU:online Universität Innsbruck":MAILTO:Uni-Innsbruck-noreply@uibk.ac.at
SUMMARY:PS Angewandte Methoden der Sozialwissenschaften (LV 408026-0 13W)
DESCRIPTION:Lehrveranstaltung 408026 13W, Gruppe 0\nTitel: PS Angewandte Methoden der Sozialwissenschaften\nOrt: SR  6 (Sowi)\n\nhttps://lfuonline.uibk.ac.at/public/lfuonline_lv.details?sem_id_in=13W&lvnr_id_in=408026\n
CLASS:PUBLIC
DTSTART:20131211T090000Z
DTEND:20131211T104500Z
DTSTAMP:20260421T000820Z
LOCATION:SR  6 (Sowi)
END:VEVENT
BEGIN:VEVENT
UID:13W_408026_2114897@uibk.ac.at
ORGANIZER;CN="LFU:online Universität Innsbruck":MAILTO:Uni-Innsbruck-noreply@uibk.ac.at
SUMMARY:PS Angewandte Methoden der Sozialwissenschaften (LV 408026-0 13W)
DESCRIPTION:Lehrveranstaltung 408026 13W, Gruppe 0\nTitel: PS Angewandte Methoden der Sozialwissenschaften\nOrt: SR  6 (Sowi)\n\nhttps://lfuonline.uibk.ac.at/public/lfuonline_lv.details?sem_id_in=13W&lvnr_id_in=408026\n
CLASS:PUBLIC
DTSTART:20140108T090000Z
DTEND:20140108T104500Z
DTSTAMP:20260421T000820Z
LOCATION:SR  6 (Sowi)
END:VEVENT
BEGIN:VEVENT
UID:13W_408026_2114898@uibk.ac.at
ORGANIZER;CN="LFU:online Universität Innsbruck":MAILTO:Uni-Innsbruck-noreply@uibk.ac.at
SUMMARY:PS Angewandte Methoden der Sozialwissenschaften (LV 408026-0 13W)
DESCRIPTION:Lehrveranstaltung 408026 13W, Gruppe 0\nTitel: PS Angewandte Methoden der Sozialwissenschaften\nOrt: SR  6 (Sowi)\n\nhttps://lfuonline.uibk.ac.at/public/lfuonline_lv.details?sem_id_in=13W&lvnr_id_in=408026\n
CLASS:PUBLIC
DTSTART:20140115T090000Z
DTEND:20140115T104500Z
DTSTAMP:20260421T000820Z
LOCATION:SR  6 (Sowi)
END:VEVENT
BEGIN:VEVENT
UID:13W_408026_2114899@uibk.ac.at
ORGANIZER;CN="LFU:online Universität Innsbruck":MAILTO:Uni-Innsbruck-noreply@uibk.ac.at
SUMMARY:PS Angewandte Methoden der Sozialwissenschaften (LV 408026-0 13W)
DESCRIPTION:Lehrveranstaltung 408026 13W, Gruppe 0\nTitel: PS Angewandte Methoden der Sozialwissenschaften\nOrt: SR  6 (Sowi)\n\nhttps://lfuonline.uibk.ac.at/public/lfuonline_lv.details?sem_id_in=13W&lvnr_id_in=408026\n
CLASS:PUBLIC
DTSTART:20140122T090000Z
DTEND:20140122T104500Z
DTSTAMP:20260421T000820Z
LOCATION:SR  6 (Sowi)
END:VEVENT
BEGIN:VEVENT
UID:13W_408026_2114900@uibk.ac.at
ORGANIZER;CN="LFU:online Universität Innsbruck":MAILTO:Uni-Innsbruck-noreply@uibk.ac.at
SUMMARY:PS Angewandte Methoden der Sozialwissenschaften (LV 408026-0 13W)
DESCRIPTION:Lehrveranstaltung 408026 13W, Gruppe 0\nTitel: PS Angewandte Methoden der Sozialwissenschaften\nOrt: SR  6 (Sowi)\n\nhttps://lfuonline.uibk.ac.at/public/lfuonline_lv.details?sem_id_in=13W&lvnr_id_in=408026\n
CLASS:PUBLIC
DTSTART:20140129T090000Z
DTEND:20140129T104500Z
DTSTAMP:20260421T000820Z
LOCATION:SR  6 (Sowi)
END:VEVENT
END:VCALENDAR