BEGIN:VCALENDAR
VERSION:2.0
PRODID:-//Universität Innsbruck//LFU:online//DE
METHOD:PUBLISH
BEGIN:VEVENT
UID:18W_408072_3213131@uibk.ac.at
ORGANIZER;CN="LFU:online Universität Innsbruck":MAILTO:Uni-Innsbruck-noreply@uibk.ac.at
SUMMARY:PS Markt, Staat, soziale Institutionen 1 (LV 408072-0 18W)
DESCRIPTION:Lehrveranstaltung 408072 18W, Gruppe 0\nTitel: PS Markt, Staat, soziale Institutionen 1\nOrt: SR  4 (Sowi)\n\nhttps://lfuonline.uibk.ac.at/public/lfuonline_lv.details?sem_id_in=18W&lvnr_id_in=408072\n
CLASS:PUBLIC
DTSTART:20181109T150000Z
DTEND:20181109T181500Z
DTSTAMP:20260423T013419Z
LOCATION:SR  4 (Sowi)
END:VEVENT
BEGIN:VEVENT
UID:18W_408072_3213132@uibk.ac.at
ORGANIZER;CN="LFU:online Universität Innsbruck":MAILTO:Uni-Innsbruck-noreply@uibk.ac.at
SUMMARY:PS Markt, Staat, soziale Institutionen 1 (LV 408072-0 18W)
DESCRIPTION:Lehrveranstaltung 408072 18W, Gruppe 0\nTitel: PS Markt, Staat, soziale Institutionen 1\nOrt: SR  4 (Sowi)\n\nhttps://lfuonline.uibk.ac.at/public/lfuonline_lv.details?sem_id_in=18W&lvnr_id_in=408072\n
CLASS:PUBLIC
DTSTART:20181207T110000Z
DTEND:20181207T173000Z
DTSTAMP:20260423T013419Z
LOCATION:SR  4 (Sowi)
END:VEVENT
BEGIN:VEVENT
UID:18W_408072_3213133@uibk.ac.at
ORGANIZER;CN="LFU:online Universität Innsbruck":MAILTO:Uni-Innsbruck-noreply@uibk.ac.at
SUMMARY:PS Markt, Staat, soziale Institutionen 1 (LV 408072-0 18W)
DESCRIPTION:Lehrveranstaltung 408072 18W, Gruppe 0\nTitel: PS Markt, Staat, soziale Institutionen 1\nOrt: SR 18 (Sowi)\n\nhttps://lfuonline.uibk.ac.at/public/lfuonline_lv.details?sem_id_in=18W&lvnr_id_in=408072\n
CLASS:PUBLIC
DTSTART:20181214T150000Z
DTEND:20181214T184500Z
DTSTAMP:20260423T013419Z
LOCATION:SR 18 (Sowi)
END:VEVENT
BEGIN:VEVENT
UID:18W_408072_3214511@uibk.ac.at
ORGANIZER;CN="LFU:online Universität Innsbruck":MAILTO:Uni-Innsbruck-noreply@uibk.ac.at
SUMMARY:PS Markt, Staat, soziale Institutionen 1 (LV 408072-0 18W)
DESCRIPTION:Lehrveranstaltung 408072 18W, Gruppe 0\nTitel: PS Markt, Staat, soziale Institutionen 1\nOrt: SR  6 (Sowi)\n\nhttps://lfuonline.uibk.ac.at/public/lfuonline_lv.details?sem_id_in=18W&lvnr_id_in=408072\n
CLASS:PUBLIC
DTSTART:20190111T150000Z
DTEND:20190111T181500Z
DTSTAMP:20260423T013419Z
LOCATION:SR  6 (Sowi)
END:VEVENT
BEGIN:VEVENT
UID:18W_408072_3216552@uibk.ac.at
ORGANIZER;CN="LFU:online Universität Innsbruck":MAILTO:Uni-Innsbruck-noreply@uibk.ac.at
SUMMARY:PS Markt, Staat, soziale Institutionen 1 (LV 408072-0 18W)
DESCRIPTION:Lehrveranstaltung 408072 18W, Gruppe 0\nTitel: PS Markt, Staat, soziale Institutionen 1\nOrt: SR  3 (Sowi)\n\nhttps://lfuonline.uibk.ac.at/public/lfuonline_lv.details?sem_id_in=18W&lvnr_id_in=408072\n
CLASS:PUBLIC
DTSTART:20190119T090000Z
DTEND:20190119T154500Z
DTSTAMP:20260423T013419Z
LOCATION:SR  3 (Sowi)
END:VEVENT
BEGIN:VEVENT
UID:18W_408072_3213136@uibk.ac.at
ORGANIZER;CN="LFU:online Universität Innsbruck":MAILTO:Uni-Innsbruck-noreply@uibk.ac.at
SUMMARY:PS Markt, Staat, soziale Institutionen 1 (LV 408072-0 18W)
DESCRIPTION:Lehrveranstaltung 408072 18W, Gruppe 0\nTitel: PS Markt, Staat, soziale Institutionen 1\nOrt: SR  1 (Sowi)\n\nhttps://lfuonline.uibk.ac.at/public/lfuonline_lv.details?sem_id_in=18W&lvnr_id_in=408072\n
CLASS:PUBLIC
DTSTART:20190125T150000Z
DTEND:20190125T181500Z
DTSTAMP:20260423T013419Z
LOCATION:SR  1 (Sowi)
END:VEVENT
END:VCALENDAR