BEGIN:VCALENDAR
VERSION:2.0
PRODID:-//Universität Innsbruck//LFU:online//DE
METHOD:PUBLISH
BEGIN:VEVENT
UID:19S_408083_3305828@uibk.ac.at
ORGANIZER;CN="LFU:online Universität Innsbruck":MAILTO:Uni-Innsbruck-noreply@uibk.ac.at
SUMMARY:PS Lebenswelt - Lebensformen: Individuum und Gesellschaft 1: Sociology of Gender Relations: Cross-cultural perspectives (LV 408083-0 19S)
DESCRIPTION:Lehrveranstaltung 408083 19S, Gruppe 0\nTitel: PS Lebenswelt - Lebensformen: Individuum und Gesellschaft 1: Sociology of Gender Relations: Cross-cultural perspectives\nOrt: SR I (Theologie)\n\nhttps://lfuonline.uibk.ac.at/public/lfuonline_lv.details?sem_id_in=19S&lvnr_id_in=408083\n
CLASS:PUBLIC
DTSTART:20190517T070000Z
DTEND:20190517T143000Z
DTSTAMP:20260423T012932Z
LOCATION:SR I (Theologie)
END:VEVENT
BEGIN:VEVENT
UID:19S_408083_3305829@uibk.ac.at
ORGANIZER;CN="LFU:online Universität Innsbruck":MAILTO:Uni-Innsbruck-noreply@uibk.ac.at
SUMMARY:PS Lebenswelt - Lebensformen: Individuum und Gesellschaft 1: Sociology of Gender Relations: Cross-cultural perspectives (LV 408083-0 19S)
DESCRIPTION:Lehrveranstaltung 408083 19S, Gruppe 0\nTitel: PS Lebenswelt - Lebensformen: Individuum und Gesellschaft 1: Sociology of Gender Relations: Cross-cultural perspectives\nOrt: SR I (Theologie)\n\nhttps://lfuonline.uibk.ac.at/public/lfuonline_lv.details?sem_id_in=19S&lvnr_id_in=408083\n
CLASS:PUBLIC
DTSTART:20190518T070000Z
DTEND:20190518T143000Z
DTSTAMP:20260423T012932Z
LOCATION:SR I (Theologie)
END:VEVENT
BEGIN:VEVENT
UID:19S_408083_3305826@uibk.ac.at
ORGANIZER;CN="LFU:online Universität Innsbruck":MAILTO:Uni-Innsbruck-noreply@uibk.ac.at
SUMMARY:PS Lebenswelt - Lebensformen: Individuum und Gesellschaft 1: Sociology of Gender Relations: Cross-cultural perspectives (LV 408083-0 19S)
DESCRIPTION:Lehrveranstaltung 408083 19S, Gruppe 0\nTitel: PS Lebenswelt - Lebensformen: Individuum und Gesellschaft 1: Sociology of Gender Relations: Cross-cultural perspectives\nOrt: SR I (Theologie)\n\nhttps://lfuonline.uibk.ac.at/public/lfuonline_lv.details?sem_id_in=19S&lvnr_id_in=408083\n
CLASS:PUBLIC
DTSTART:20190524T070000Z
DTEND:20190524T143000Z
DTSTAMP:20260423T012932Z
LOCATION:SR I (Theologie)
END:VEVENT
BEGIN:VEVENT
UID:19S_408083_3438811@uibk.ac.at
ORGANIZER;CN="LFU:online Universität Innsbruck":MAILTO:Uni-Innsbruck-noreply@uibk.ac.at
SUMMARY:PS Lebenswelt - Lebensformen: Individuum und Gesellschaft 1: Sociology of Gender Relations: Cross-cultural perspectives (LV 408083-0 19S)
DESCRIPTION:Lehrveranstaltung 408083 19S, Gruppe 0\nTitel: PS Lebenswelt - Lebensformen: Individuum und Gesellschaft 1: Sociology of Gender Relations: Cross-cultural perspectives\nOrt: SR  1 (Sowi)\n\nhttps://lfuonline.uibk.ac.at/public/lfuonline_lv.details?sem_id_in=19S&lvnr_id_in=408083\n
CLASS:PUBLIC
DTSTART:20190525T070000Z
DTEND:20190525T143000Z
DTSTAMP:20260423T012932Z
LOCATION:SR  1 (Sowi)
END:VEVENT
END:VCALENDAR