BEGIN:VCALENDAR
VERSION:2.0
PRODID:-//Universität Innsbruck//LFU:online//DE
METHOD:PUBLISH
BEGIN:VEVENT
UID:20S_408120_3542975@uibk.ac.at
ORGANIZER;CN="LFU:online Universität Innsbruck":MAILTO:Uni-Innsbruck-noreply@uibk.ac.at
SUMMARY:PR Forschungsprojekt 1 (LV 408120-0 20S)
DESCRIPTION:Lehrveranstaltung 408120 20S, Gruppe 0\nTitel: PR Forschungsprojekt 1\nOrt: SR  6 (Sowi)\n\nhttps://lfuonline.uibk.ac.at/public/lfuonline_lv.details?sem_id_in=20S&lvnr_id_in=408120\n
CLASS:PUBLIC
DTSTART:20200318T130000Z
DTEND:20200318T164500Z
DTSTAMP:20260421T092018Z
LOCATION:SR  6 (Sowi)
COMMENT:Schermer
END:VEVENT
BEGIN:VEVENT
UID:20S_408120_3542976@uibk.ac.at
ORGANIZER;CN="LFU:online Universität Innsbruck":MAILTO:Uni-Innsbruck-noreply@uibk.ac.at
SUMMARY:PR Forschungsprojekt 1 (LV 408120-0 20S)
DESCRIPTION:Lehrveranstaltung 408120 20S, Gruppe 0\nTitel: PR Forschungsprojekt 1\nOrt: SR  6 (Sowi)\n\nhttps://lfuonline.uibk.ac.at/public/lfuonline_lv.details?sem_id_in=20S&lvnr_id_in=408120\n
CLASS:PUBLIC
DTSTART:20200401T120000Z
DTEND:20200401T154500Z
DTSTAMP:20260421T092018Z
LOCATION:SR  6 (Sowi)
COMMENT:Schermer
END:VEVENT
BEGIN:VEVENT
UID:20S_408120_3542977@uibk.ac.at
ORGANIZER;CN="LFU:online Universität Innsbruck":MAILTO:Uni-Innsbruck-noreply@uibk.ac.at
SUMMARY:PR Forschungsprojekt 1 (LV 408120-0 20S)
DESCRIPTION:Lehrveranstaltung 408120 20S, Gruppe 0\nTitel: PR Forschungsprojekt 1\nOrt: SR  6 (Sowi)\n\nhttps://lfuonline.uibk.ac.at/public/lfuonline_lv.details?sem_id_in=20S&lvnr_id_in=408120\n
CLASS:PUBLIC
DTSTART:20200429T120000Z
DTEND:20200429T154500Z
DTSTAMP:20260421T092018Z
LOCATION:SR  6 (Sowi)
COMMENT:Schermer\n
END:VEVENT
BEGIN:VEVENT
UID:20S_408120_3542978@uibk.ac.at
ORGANIZER;CN="LFU:online Universität Innsbruck":MAILTO:Uni-Innsbruck-noreply@uibk.ac.at
SUMMARY:PR Forschungsprojekt 1 (LV 408120-0 20S)
DESCRIPTION:Lehrveranstaltung 408120 20S, Gruppe 0\nTitel: PR Forschungsprojekt 1\nOrt: SR  6 (Sowi)\n\nhttps://lfuonline.uibk.ac.at/public/lfuonline_lv.details?sem_id_in=20S&lvnr_id_in=408120\n
CLASS:PUBLIC
DTSTART:20200513T120000Z
DTEND:20200513T154500Z
DTSTAMP:20260421T092018Z
LOCATION:SR  6 (Sowi)
COMMENT:Holtkamp
END:VEVENT
BEGIN:VEVENT
UID:20S_408120_3542979@uibk.ac.at
ORGANIZER;CN="LFU:online Universität Innsbruck":MAILTO:Uni-Innsbruck-noreply@uibk.ac.at
SUMMARY:PR Forschungsprojekt 1 (LV 408120-0 20S)
DESCRIPTION:Lehrveranstaltung 408120 20S, Gruppe 0\nTitel: PR Forschungsprojekt 1\nOrt: SR  6 (Sowi)\n\nhttps://lfuonline.uibk.ac.at/public/lfuonline_lv.details?sem_id_in=20S&lvnr_id_in=408120\n
CLASS:PUBLIC
DTSTART:20200527T120000Z
DTEND:20200527T154500Z
DTSTAMP:20260421T092018Z
LOCATION:SR  6 (Sowi)
COMMENT:Holtkamp
END:VEVENT
BEGIN:VEVENT
UID:20S_408120_3542980@uibk.ac.at
ORGANIZER;CN="LFU:online Universität Innsbruck":MAILTO:Uni-Innsbruck-noreply@uibk.ac.at
SUMMARY:PR Forschungsprojekt 1 (LV 408120-0 20S)
DESCRIPTION:Lehrveranstaltung 408120 20S, Gruppe 0\nTitel: PR Forschungsprojekt 1\nOrt: SR  6 (Sowi)\n\nhttps://lfuonline.uibk.ac.at/public/lfuonline_lv.details?sem_id_in=20S&lvnr_id_in=408120\n
CLASS:PUBLIC
DTSTART:20200610T120000Z
DTEND:20200610T154500Z
DTSTAMP:20260421T092018Z
LOCATION:SR  6 (Sowi)
COMMENT:Holtkamp
END:VEVENT
BEGIN:VEVENT
UID:20S_408120_3542981@uibk.ac.at
ORGANIZER;CN="LFU:online Universität Innsbruck":MAILTO:Uni-Innsbruck-noreply@uibk.ac.at
SUMMARY:PR Forschungsprojekt 1 (LV 408120-0 20S)
DESCRIPTION:Lehrveranstaltung 408120 20S, Gruppe 0\nTitel: PR Forschungsprojekt 1\nOrt: SR  6 (Sowi)\n\nhttps://lfuonline.uibk.ac.at/public/lfuonline_lv.details?sem_id_in=20S&lvnr_id_in=408120\n
CLASS:PUBLIC
DTSTART:20200624T120000Z
DTEND:20200624T154500Z
DTSTAMP:20260421T092018Z
LOCATION:SR  6 (Sowi)
COMMENT:Schermer, Holtkamp
END:VEVENT
END:VCALENDAR