BEGIN:VCALENDAR
VERSION:2.0
PRODID:-//Universität Innsbruck//LFU:online//DE
METHOD:PUBLISH
BEGIN:VEVENT
UID:20S_408122_3443458@uibk.ac.at
ORGANIZER;CN="LFU:online Universität Innsbruck":MAILTO:Uni-Innsbruck-noreply@uibk.ac.at
SUMMARY:PR Forschungsprojekt 2 (LV 408122-0 20S)
DESCRIPTION:Lehrveranstaltung 408122 20S, Gruppe 0\nTitel: PR Forschungsprojekt 2\nOrt: ZID Sowi AR 4\n\nhttps://lfuonline.uibk.ac.at/public/lfuonline_lv.details?sem_id_in=20S&lvnr_id_in=408122\n
CLASS:PUBLIC
DTSTART:20200319T090000Z
DTEND:20200319T124500Z
DTSTAMP:20260421T092018Z
LOCATION:ZID Sowi AR 4
END:VEVENT
BEGIN:VEVENT
UID:20S_408122_3443459@uibk.ac.at
ORGANIZER;CN="LFU:online Universität Innsbruck":MAILTO:Uni-Innsbruck-noreply@uibk.ac.at
SUMMARY:PR Forschungsprojekt 2 (LV 408122-0 20S)
DESCRIPTION:Lehrveranstaltung 408122 20S, Gruppe 0\nTitel: PR Forschungsprojekt 2\nOrt: ZID Sowi AR 4\n\nhttps://lfuonline.uibk.ac.at/public/lfuonline_lv.details?sem_id_in=20S&lvnr_id_in=408122\n
CLASS:PUBLIC
DTSTART:20200402T080000Z
DTEND:20200402T114500Z
DTSTAMP:20260421T092018Z
LOCATION:ZID Sowi AR 4
END:VEVENT
BEGIN:VEVENT
UID:20S_408122_3443460@uibk.ac.at
ORGANIZER;CN="LFU:online Universität Innsbruck":MAILTO:Uni-Innsbruck-noreply@uibk.ac.at
SUMMARY:PR Forschungsprojekt 2 (LV 408122-0 20S)
DESCRIPTION:Lehrveranstaltung 408122 20S, Gruppe 0\nTitel: PR Forschungsprojekt 2\nOrt: ZID Sowi AR 4\n\nhttps://lfuonline.uibk.ac.at/public/lfuonline_lv.details?sem_id_in=20S&lvnr_id_in=408122\n
CLASS:PUBLIC
DTSTART:20200430T080000Z
DTEND:20200430T114500Z
DTSTAMP:20260421T092018Z
LOCATION:ZID Sowi AR 4
END:VEVENT
BEGIN:VEVENT
UID:20S_408122_3443461@uibk.ac.at
ORGANIZER;CN="LFU:online Universität Innsbruck":MAILTO:Uni-Innsbruck-noreply@uibk.ac.at
SUMMARY:PR Forschungsprojekt 2 (LV 408122-0 20S)
DESCRIPTION:Lehrveranstaltung 408122 20S, Gruppe 0\nTitel: PR Forschungsprojekt 2\nOrt: ZID Sowi AR 4\n\nhttps://lfuonline.uibk.ac.at/public/lfuonline_lv.details?sem_id_in=20S&lvnr_id_in=408122\n
CLASS:PUBLIC
DTSTART:20200514T080000Z
DTEND:20200514T114500Z
DTSTAMP:20260421T092018Z
LOCATION:ZID Sowi AR 4
END:VEVENT
BEGIN:VEVENT
UID:20S_408122_3443462@uibk.ac.at
ORGANIZER;CN="LFU:online Universität Innsbruck":MAILTO:Uni-Innsbruck-noreply@uibk.ac.at
SUMMARY:PR Forschungsprojekt 2 (LV 408122-0 20S)
DESCRIPTION:Lehrveranstaltung 408122 20S, Gruppe 0\nTitel: PR Forschungsprojekt 2\nOrt: ZID Sowi AR 4\n\nhttps://lfuonline.uibk.ac.at/public/lfuonline_lv.details?sem_id_in=20S&lvnr_id_in=408122\n
CLASS:PUBLIC
DTSTART:20200528T080000Z
DTEND:20200528T114500Z
DTSTAMP:20260421T092018Z
LOCATION:ZID Sowi AR 4
END:VEVENT
BEGIN:VEVENT
UID:20S_408122_3443463@uibk.ac.at
ORGANIZER;CN="LFU:online Universität Innsbruck":MAILTO:Uni-Innsbruck-noreply@uibk.ac.at
SUMMARY:PR Forschungsprojekt 2 (LV 408122-0 20S)
DESCRIPTION:Lehrveranstaltung 408122 20S, Gruppe 0\nTitel: PR Forschungsprojekt 2\nOrt: ZID Sowi AR 4\n\nhttps://lfuonline.uibk.ac.at/public/lfuonline_lv.details?sem_id_in=20S&lvnr_id_in=408122\n
CLASS:PUBLIC
DTSTART:20200625T080000Z
DTEND:20200625T114500Z
DTSTAMP:20260421T092018Z
LOCATION:ZID Sowi AR 4
END:VEVENT
END:VCALENDAR