BEGIN:VCALENDAR
VERSION:2.0
PRODID:-//Universität Innsbruck//LFU:online//DE
METHOD:PUBLISH
BEGIN:VEVENT
UID:20S_408123_3550899@uibk.ac.at
ORGANIZER;CN="LFU:online Universität Innsbruck":MAILTO:Uni-Innsbruck-noreply@uibk.ac.at
SUMMARY:PR Forschungsprojekt 2 (LV 408123-0 20S)
DESCRIPTION:Lehrveranstaltung 408123 20S, Gruppe 0\nTitel: PR Forschungsprojekt 2\nOrt: SR  1 (Sowi)\n\nhttps://lfuonline.uibk.ac.at/public/lfuonline_lv.details?sem_id_in=20S&lvnr_id_in=408123\n
CLASS:PUBLIC
DTSTART:20200306T171500Z
DTEND:20200306T190000Z
DTSTAMP:20260421T092018Z
LOCATION:SR  1 (Sowi)
END:VEVENT
BEGIN:VEVENT
UID:20S_408123_3550900@uibk.ac.at
ORGANIZER;CN="LFU:online Universität Innsbruck":MAILTO:Uni-Innsbruck-noreply@uibk.ac.at
SUMMARY:PR Forschungsprojekt 2 (LV 408123-0 20S)
DESCRIPTION:Lehrveranstaltung 408123 20S, Gruppe 0\nTitel: PR Forschungsprojekt 2\nOrt: SR  1 (Sowi)\n\nhttps://lfuonline.uibk.ac.at/public/lfuonline_lv.details?sem_id_in=20S&lvnr_id_in=408123\n
CLASS:PUBLIC
DTSTART:20200307T073000Z
DTEND:20200307T154500Z
DTSTAMP:20260421T092018Z
LOCATION:SR  1 (Sowi)
END:VEVENT
BEGIN:VEVENT
UID:20S_408123_3550916@uibk.ac.at
ORGANIZER;CN="LFU:online Universität Innsbruck":MAILTO:Uni-Innsbruck-noreply@uibk.ac.at
SUMMARY:PR Forschungsprojekt 2 (LV 408123-0 20S)
DESCRIPTION:Lehrveranstaltung 408123 20S, Gruppe 0\nTitel: PR Forschungsprojekt 2\nOrt: SR  1 (Sowi)\n\nhttps://lfuonline.uibk.ac.at/public/lfuonline_lv.details?sem_id_in=20S&lvnr_id_in=408123\n
CLASS:PUBLIC
DTSTART:20200508T161500Z
DTEND:20200508T180000Z
DTSTAMP:20260421T092018Z
LOCATION:SR  1 (Sowi)
END:VEVENT
BEGIN:VEVENT
UID:20S_408123_3550915@uibk.ac.at
ORGANIZER;CN="LFU:online Universität Innsbruck":MAILTO:Uni-Innsbruck-noreply@uibk.ac.at
SUMMARY:PR Forschungsprojekt 2 (LV 408123-0 20S)
DESCRIPTION:Lehrveranstaltung 408123 20S, Gruppe 0\nTitel: PR Forschungsprojekt 2\nOrt: SR  1 (Sowi)\n\nhttps://lfuonline.uibk.ac.at/public/lfuonline_lv.details?sem_id_in=20S&lvnr_id_in=408123\n
CLASS:PUBLIC
DTSTART:20200509T063000Z
DTEND:20200509T144500Z
DTSTAMP:20260421T092018Z
LOCATION:SR  1 (Sowi)
END:VEVENT
BEGIN:VEVENT
UID:20S_408123_3551096@uibk.ac.at
ORGANIZER;CN="LFU:online Universität Innsbruck":MAILTO:Uni-Innsbruck-noreply@uibk.ac.at
SUMMARY:PR Forschungsprojekt 2 (LV 408123-0 20S)
DESCRIPTION:Lehrveranstaltung 408123 20S, Gruppe 0\nTitel: PR Forschungsprojekt 2\nOrt: SR  1 (Sowi)\n\nhttps://lfuonline.uibk.ac.at/public/lfuonline_lv.details?sem_id_in=20S&lvnr_id_in=408123\n
CLASS:PUBLIC
DTSTART:20200605T161500Z
DTEND:20200605T180000Z
DTSTAMP:20260421T092018Z
LOCATION:SR  1 (Sowi)
END:VEVENT
BEGIN:VEVENT
UID:20S_408123_3551102@uibk.ac.at
ORGANIZER;CN="LFU:online Universität Innsbruck":MAILTO:Uni-Innsbruck-noreply@uibk.ac.at
SUMMARY:PR Forschungsprojekt 2 (LV 408123-0 20S)
DESCRIPTION:Lehrveranstaltung 408123 20S, Gruppe 0\nTitel: PR Forschungsprojekt 2\nOrt: SR  1 (Sowi)\n\nhttps://lfuonline.uibk.ac.at/public/lfuonline_lv.details?sem_id_in=20S&lvnr_id_in=408123\n
CLASS:PUBLIC
DTSTART:20200618T161500Z
DTEND:20200618T180000Z
DTSTAMP:20260421T092018Z
LOCATION:SR  1 (Sowi)
END:VEVENT
END:VCALENDAR