BEGIN:VCALENDAR
VERSION:2.0
PRODID:-//Universität Innsbruck//LFU:online//DE
METHOD:PUBLISH
BEGIN:VEVENT
UID:20S_408124_3558672@uibk.ac.at
ORGANIZER;CN="LFU:online Universität Innsbruck":MAILTO:Uni-Innsbruck-noreply@uibk.ac.at
SUMMARY:PR Forschungsprojekt 2 (LV 408124-0 20S)
DESCRIPTION:Lehrveranstaltung 408124 20S, Gruppe 0\nTitel: PR Forschungsprojekt 2\nOrt: SR  3 (Sowi)\n\nhttps://lfuonline.uibk.ac.at/public/lfuonline_lv.details?sem_id_in=20S&lvnr_id_in=408124\n
CLASS:PUBLIC
DTSTART:20200313T090000Z
DTEND:20200313T170000Z
DTSTAMP:20260421T092018Z
LOCATION:SR  3 (Sowi)
END:VEVENT
BEGIN:VEVENT
UID:20S_408124_3533791@uibk.ac.at
ORGANIZER;CN="LFU:online Universität Innsbruck":MAILTO:Uni-Innsbruck-noreply@uibk.ac.at
SUMMARY:PR Forschungsprojekt 2 (LV 408124-0 20S)
DESCRIPTION:Lehrveranstaltung 408124 20S, Gruppe 0\nTitel: PR Forschungsprojekt 2\nOrt: SR  1 (Sowi)\n\nhttps://lfuonline.uibk.ac.at/public/lfuonline_lv.details?sem_id_in=20S&lvnr_id_in=408124\n
CLASS:PUBLIC
DTSTART:20200314T090000Z
DTEND:20200314T170000Z
DTSTAMP:20260421T092018Z
LOCATION:SR  1 (Sowi)
END:VEVENT
BEGIN:VEVENT
UID:20S_408124_3560400@uibk.ac.at
ORGANIZER;CN="LFU:online Universität Innsbruck":MAILTO:Uni-Innsbruck-noreply@uibk.ac.at
SUMMARY:PR Forschungsprojekt 2 (LV 408124-0 20S)
DESCRIPTION:Lehrveranstaltung 408124 20S, Gruppe 0\nTitel: PR Forschungsprojekt 2\nOrt: SR 13 (Sowi)\n\nhttps://lfuonline.uibk.ac.at/public/lfuonline_lv.details?sem_id_in=20S&lvnr_id_in=408124\n
CLASS:PUBLIC
DTSTART:20200515T080000Z
DTEND:20200515T154500Z
DTSTAMP:20260421T092018Z
LOCATION:SR 13 (Sowi)
END:VEVENT
BEGIN:VEVENT
UID:20S_408124_3533792@uibk.ac.at
ORGANIZER;CN="LFU:online Universität Innsbruck":MAILTO:Uni-Innsbruck-noreply@uibk.ac.at
SUMMARY:PR Forschungsprojekt 2 (LV 408124-0 20S)
DESCRIPTION:Lehrveranstaltung 408124 20S, Gruppe 0\nTitel: PR Forschungsprojekt 2\nOrt: SR  1 (Sowi)\n\nhttps://lfuonline.uibk.ac.at/public/lfuonline_lv.details?sem_id_in=20S&lvnr_id_in=408124\n
CLASS:PUBLIC
DTSTART:20200516T080000Z
DTEND:20200516T160000Z
DTSTAMP:20260421T092018Z
LOCATION:SR  1 (Sowi)
END:VEVENT
BEGIN:VEVENT
UID:20S_408124_3593106@uibk.ac.at
ORGANIZER;CN="LFU:online Universität Innsbruck":MAILTO:Uni-Innsbruck-noreply@uibk.ac.at
SUMMARY:PR Forschungsprojekt 2 (LV 408124-0 20S)
DESCRIPTION:Lehrveranstaltung 408124 20S, Gruppe 0\nTitel: PR Forschungsprojekt 2\nOrt: SR 19 (Sowi)\n\nhttps://lfuonline.uibk.ac.at/public/lfuonline_lv.details?sem_id_in=20S&lvnr_id_in=408124\n
CLASS:PUBLIC
DTSTART:20200619T070000Z
DTEND:20200619T144500Z
DTSTAMP:20260421T092018Z
LOCATION:SR 19 (Sowi)
END:VEVENT
END:VCALENDAR