BEGIN:VCALENDAR
VERSION:2.0
PRODID:-//Universität Innsbruck//LFU:online//DE
METHOD:PUBLISH
BEGIN:VEVENT
UID:18S_408620_3107264@uibk.ac.at
ORGANIZER;CN="LFU:online Universität Innsbruck":MAILTO:Uni-Innsbruck-noreply@uibk.ac.at
SUMMARY:VO Zeitgenössische soziologische Theorie: Zur relationalen Theorie sozialer Praktiken - Hinführung und Anwendungen (LV 408620-0 18S)
DESCRIPTION:Lehrveranstaltung 408620 18S, Gruppe 0\nTitel: VO Zeitgenössische soziologische Theorie: Zur relationalen Theorie sozialer Praktiken - Hinführung und Anwendungen\nOrt: SR  6 (Sowi)\n\nhttps://lfuonline.uibk.ac.at/public/lfuonline_lv.details?sem_id_in=18S&lvnr_id_in=408620\n
CLASS:PUBLIC
DTSTART:20180315T170000Z
DTEND:20180315T183000Z
DTSTAMP:20260423T013530Z
LOCATION:SR  6 (Sowi)
END:VEVENT
BEGIN:VEVENT
UID:18S_408620_3107265@uibk.ac.at
ORGANIZER;CN="LFU:online Universität Innsbruck":MAILTO:Uni-Innsbruck-noreply@uibk.ac.at
SUMMARY:VO Zeitgenössische soziologische Theorie: Zur relationalen Theorie sozialer Praktiken - Hinführung und Anwendungen (LV 408620-0 18S)
DESCRIPTION:Lehrveranstaltung 408620 18S, Gruppe 0\nTitel: VO Zeitgenössische soziologische Theorie: Zur relationalen Theorie sozialer Praktiken - Hinführung und Anwendungen\nOrt: SR  6 (Sowi)\n\nhttps://lfuonline.uibk.ac.at/public/lfuonline_lv.details?sem_id_in=18S&lvnr_id_in=408620\n
CLASS:PUBLIC
DTSTART:20180322T170000Z
DTEND:20180322T183000Z
DTSTAMP:20260423T013530Z
LOCATION:SR  6 (Sowi)
END:VEVENT
BEGIN:VEVENT
UID:18S_408620_3107266@uibk.ac.at
ORGANIZER;CN="LFU:online Universität Innsbruck":MAILTO:Uni-Innsbruck-noreply@uibk.ac.at
SUMMARY:VO Zeitgenössische soziologische Theorie: Zur relationalen Theorie sozialer Praktiken - Hinführung und Anwendungen (LV 408620-0 18S)
DESCRIPTION:Lehrveranstaltung 408620 18S, Gruppe 0\nTitel: VO Zeitgenössische soziologische Theorie: Zur relationalen Theorie sozialer Praktiken - Hinführung und Anwendungen\nOrt: SR  6 (Sowi)\n\nhttps://lfuonline.uibk.ac.at/public/lfuonline_lv.details?sem_id_in=18S&lvnr_id_in=408620\n
CLASS:PUBLIC
DTSTART:20180412T160000Z
DTEND:20180412T173000Z
DTSTAMP:20260423T013530Z
LOCATION:SR  6 (Sowi)
END:VEVENT
BEGIN:VEVENT
UID:18S_408620_3107267@uibk.ac.at
ORGANIZER;CN="LFU:online Universität Innsbruck":MAILTO:Uni-Innsbruck-noreply@uibk.ac.at
SUMMARY:VO Zeitgenössische soziologische Theorie: Zur relationalen Theorie sozialer Praktiken - Hinführung und Anwendungen (LV 408620-0 18S)
DESCRIPTION:Lehrveranstaltung 408620 18S, Gruppe 0\nTitel: VO Zeitgenössische soziologische Theorie: Zur relationalen Theorie sozialer Praktiken - Hinführung und Anwendungen\nOrt: SR  6 (Sowi)\n\nhttps://lfuonline.uibk.ac.at/public/lfuonline_lv.details?sem_id_in=18S&lvnr_id_in=408620\n
CLASS:PUBLIC
DTSTART:20180419T160000Z
DTEND:20180419T173000Z
DTSTAMP:20260423T013530Z
LOCATION:SR  6 (Sowi)
END:VEVENT
BEGIN:VEVENT
UID:18S_408620_3107268@uibk.ac.at
ORGANIZER;CN="LFU:online Universität Innsbruck":MAILTO:Uni-Innsbruck-noreply@uibk.ac.at
SUMMARY:VO Zeitgenössische soziologische Theorie: Zur relationalen Theorie sozialer Praktiken - Hinführung und Anwendungen (LV 408620-0 18S)
DESCRIPTION:Lehrveranstaltung 408620 18S, Gruppe 0\nTitel: VO Zeitgenössische soziologische Theorie: Zur relationalen Theorie sozialer Praktiken - Hinführung und Anwendungen\nOrt: SR  6 (Sowi)\n\nhttps://lfuonline.uibk.ac.at/public/lfuonline_lv.details?sem_id_in=18S&lvnr_id_in=408620\n
CLASS:PUBLIC
DTSTART:20180426T160000Z
DTEND:20180426T173000Z
DTSTAMP:20260423T013530Z
LOCATION:SR  6 (Sowi)
END:VEVENT
BEGIN:VEVENT
UID:18S_408620_3107269@uibk.ac.at
ORGANIZER;CN="LFU:online Universität Innsbruck":MAILTO:Uni-Innsbruck-noreply@uibk.ac.at
SUMMARY:VO Zeitgenössische soziologische Theorie: Zur relationalen Theorie sozialer Praktiken - Hinführung und Anwendungen (LV 408620-0 18S)
DESCRIPTION:Lehrveranstaltung 408620 18S, Gruppe 0\nTitel: VO Zeitgenössische soziologische Theorie: Zur relationalen Theorie sozialer Praktiken - Hinführung und Anwendungen\nOrt: SR  6 (Sowi)\n\nhttps://lfuonline.uibk.ac.at/public/lfuonline_lv.details?sem_id_in=18S&lvnr_id_in=408620\n
CLASS:PUBLIC
DTSTART:20180503T160000Z
DTEND:20180503T173000Z
DTSTAMP:20260423T013530Z
LOCATION:SR  6 (Sowi)
END:VEVENT
BEGIN:VEVENT
UID:18S_408620_3107270@uibk.ac.at
ORGANIZER;CN="LFU:online Universität Innsbruck":MAILTO:Uni-Innsbruck-noreply@uibk.ac.at
SUMMARY:VO Zeitgenössische soziologische Theorie: Zur relationalen Theorie sozialer Praktiken - Hinführung und Anwendungen (LV 408620-0 18S)
DESCRIPTION:Lehrveranstaltung 408620 18S, Gruppe 0\nTitel: VO Zeitgenössische soziologische Theorie: Zur relationalen Theorie sozialer Praktiken - Hinführung und Anwendungen\nOrt: SR  6 (Sowi)\n\nhttps://lfuonline.uibk.ac.at/public/lfuonline_lv.details?sem_id_in=18S&lvnr_id_in=408620\n
CLASS:PUBLIC
DTSTART:20180517T160000Z
DTEND:20180517T173000Z
DTSTAMP:20260423T013530Z
LOCATION:SR  6 (Sowi)
END:VEVENT
BEGIN:VEVENT
UID:18S_408620_3107272@uibk.ac.at
ORGANIZER;CN="LFU:online Universität Innsbruck":MAILTO:Uni-Innsbruck-noreply@uibk.ac.at
SUMMARY:VO Zeitgenössische soziologische Theorie: Zur relationalen Theorie sozialer Praktiken - Hinführung und Anwendungen (LV 408620-0 18S)
DESCRIPTION:Lehrveranstaltung 408620 18S, Gruppe 0\nTitel: VO Zeitgenössische soziologische Theorie: Zur relationalen Theorie sozialer Praktiken - Hinführung und Anwendungen\nOrt: SR  6 (Sowi)\n\nhttps://lfuonline.uibk.ac.at/public/lfuonline_lv.details?sem_id_in=18S&lvnr_id_in=408620\n
CLASS:PUBLIC
DTSTART:20180607T160000Z
DTEND:20180607T173000Z
DTSTAMP:20260423T013530Z
LOCATION:SR  6 (Sowi)
END:VEVENT
BEGIN:VEVENT
UID:18S_408620_3107273@uibk.ac.at
ORGANIZER;CN="LFU:online Universität Innsbruck":MAILTO:Uni-Innsbruck-noreply@uibk.ac.at
SUMMARY:VO Zeitgenössische soziologische Theorie: Zur relationalen Theorie sozialer Praktiken - Hinführung und Anwendungen (LV 408620-0 18S)
DESCRIPTION:Lehrveranstaltung 408620 18S, Gruppe 0\nTitel: VO Zeitgenössische soziologische Theorie: Zur relationalen Theorie sozialer Praktiken - Hinführung und Anwendungen\nOrt: SR  6 (Sowi)\n\nhttps://lfuonline.uibk.ac.at/public/lfuonline_lv.details?sem_id_in=18S&lvnr_id_in=408620\n
CLASS:PUBLIC
DTSTART:20180614T160000Z
DTEND:20180614T173000Z
DTSTAMP:20260423T013530Z
LOCATION:SR  6 (Sowi)
END:VEVENT
BEGIN:VEVENT
UID:18S_408620_3128503@uibk.ac.at
ORGANIZER;CN="LFU:online Universität Innsbruck":MAILTO:Uni-Innsbruck-noreply@uibk.ac.at
SUMMARY:VO Zeitgenössische soziologische Theorie: Zur relationalen Theorie sozialer Praktiken - Hinführung und Anwendungen (LV 408620-0 18S)
DESCRIPTION:Lehrveranstaltung 408620 18S, Gruppe 0\nTitel: VO Zeitgenössische soziologische Theorie: Zur relationalen Theorie sozialer Praktiken - Hinführung und Anwendungen\nOrt: SR  6 (Sowi)\n\nhttps://lfuonline.uibk.ac.at/public/lfuonline_lv.details?sem_id_in=18S&lvnr_id_in=408620\n
CLASS:PUBLIC
DTSTART:20180614T173000Z
DTEND:20180614T190000Z
DTSTAMP:20260423T013530Z
LOCATION:SR  6 (Sowi)
END:VEVENT
BEGIN:VEVENT
UID:18S_408620_3107274@uibk.ac.at
ORGANIZER;CN="LFU:online Universität Innsbruck":MAILTO:Uni-Innsbruck-noreply@uibk.ac.at
SUMMARY:VO Zeitgenössische soziologische Theorie: Zur relationalen Theorie sozialer Praktiken - Hinführung und Anwendungen (LV 408620-0 18S)
DESCRIPTION:Lehrveranstaltung 408620 18S, Gruppe 0\nTitel: VO Zeitgenössische soziologische Theorie: Zur relationalen Theorie sozialer Praktiken - Hinführung und Anwendungen\nOrt: SR  6 (Sowi)\n\nhttps://lfuonline.uibk.ac.at/public/lfuonline_lv.details?sem_id_in=18S&lvnr_id_in=408620\n
CLASS:PUBLIC
DTSTART:20180621T160000Z
DTEND:20180621T173000Z
DTSTAMP:20260423T013530Z
LOCATION:SR  6 (Sowi)
END:VEVENT
BEGIN:VEVENT
UID:18S_408620_3107275@uibk.ac.at
ORGANIZER;CN="LFU:online Universität Innsbruck":MAILTO:Uni-Innsbruck-noreply@uibk.ac.at
SUMMARY:VO Zeitgenössische soziologische Theorie: Zur relationalen Theorie sozialer Praktiken - Hinführung und Anwendungen (LV 408620-0 18S)
DESCRIPTION:Lehrveranstaltung 408620 18S, Gruppe 0\nTitel: VO Zeitgenössische soziologische Theorie: Zur relationalen Theorie sozialer Praktiken - Hinführung und Anwendungen\nOrt: SR  6 (Sowi)\n\nhttps://lfuonline.uibk.ac.at/public/lfuonline_lv.details?sem_id_in=18S&lvnr_id_in=408620\n
CLASS:PUBLIC
DTSTART:20180628T160000Z
DTEND:20180628T173000Z
DTSTAMP:20260423T013530Z
LOCATION:SR  6 (Sowi)
END:VEVENT
END:VCALENDAR