BEGIN:VCALENDAR
VERSION:2.0
PRODID:-//Universität Innsbruck//LFU:online//DE
METHOD:PUBLISH
BEGIN:VEVENT
UID:17W_408641_3032271@uibk.ac.at
ORGANIZER;CN="LFU:online Universität Innsbruck":MAILTO:Uni-Innsbruck-noreply@uibk.ac.at
SUMMARY:SE Staats-, Demokratie-, Machttheorien (LV 408641-0 17W)
DESCRIPTION:Lehrveranstaltung 408641 17W, Gruppe 0\nTitel: SE Staats-, Demokratie-, Machttheorien\nOrt: SR 16 (Sowi)\n\nhttps://lfuonline.uibk.ac.at/public/lfuonline_lv.details?sem_id_in=17W&lvnr_id_in=408641\n
CLASS:PUBLIC
DTSTART:20180119T080000Z
DTEND:20180119T160000Z
DTSTAMP:20260419T124015Z
LOCATION:SR 16 (Sowi)
END:VEVENT
BEGIN:VEVENT
UID:17W_408641_3032272@uibk.ac.at
ORGANIZER;CN="LFU:online Universität Innsbruck":MAILTO:Uni-Innsbruck-noreply@uibk.ac.at
SUMMARY:SE Staats-, Demokratie-, Machttheorien (LV 408641-0 17W)
DESCRIPTION:Lehrveranstaltung 408641 17W, Gruppe 0\nTitel: SE Staats-, Demokratie-, Machttheorien\nOrt: SR 16 (Sowi)\n\nhttps://lfuonline.uibk.ac.at/public/lfuonline_lv.details?sem_id_in=17W&lvnr_id_in=408641\n
CLASS:PUBLIC
DTSTART:20180120T080000Z
DTEND:20180120T150000Z
DTSTAMP:20260419T124015Z
LOCATION:SR 16 (Sowi)
END:VEVENT
BEGIN:VEVENT
UID:17W_408641_3037272@uibk.ac.at
ORGANIZER;CN="LFU:online Universität Innsbruck":MAILTO:Uni-Innsbruck-noreply@uibk.ac.at
SUMMARY:SE Staats-, Demokratie-, Machttheorien (LV 408641-0 17W)
DESCRIPTION:Lehrveranstaltung 408641 17W, Gruppe 0\nTitel: SE Staats-, Demokratie-, Machttheorien\nOrt: SR  3 (Sowi)\n\nhttps://lfuonline.uibk.ac.at/public/lfuonline_lv.details?sem_id_in=17W&lvnr_id_in=408641\n
CLASS:PUBLIC
DTSTART:20180126T080000Z
DTEND:20180126T160000Z
DTSTAMP:20260419T124015Z
LOCATION:SR  3 (Sowi)
END:VEVENT
BEGIN:VEVENT
UID:17W_408641_3037273@uibk.ac.at
ORGANIZER;CN="LFU:online Universität Innsbruck":MAILTO:Uni-Innsbruck-noreply@uibk.ac.at
SUMMARY:SE Staats-, Demokratie-, Machttheorien (LV 408641-0 17W)
DESCRIPTION:Lehrveranstaltung 408641 17W, Gruppe 0\nTitel: SE Staats-, Demokratie-, Machttheorien\nOrt: SR  3 (Sowi)\n\nhttps://lfuonline.uibk.ac.at/public/lfuonline_lv.details?sem_id_in=17W&lvnr_id_in=408641\n
CLASS:PUBLIC
DTSTART:20180127T080000Z
DTEND:20180127T150000Z
DTSTAMP:20260419T124015Z
LOCATION:SR  3 (Sowi)
END:VEVENT
END:VCALENDAR