BEGIN:VCALENDAR
VERSION:2.0
PRODID:-//Universität Innsbruck//LFU:online//DE
METHOD:PUBLISH
BEGIN:VEVENT
UID:17W_432027_2927106@uibk.ac.at
ORGANIZER;CN="LFU:online Universität Innsbruck":MAILTO:Uni-Innsbruck-noreply@uibk.ac.at
SUMMARY:VO Einführung in die Makroökonomik: Kreislauf, Konjunktur und Wachstum (LV 432027-0 17W)
DESCRIPTION:Lehrveranstaltung 432027 17W, Gruppe 0\nTitel: VO Einführung in die Makroökonomik: Kreislauf, Konjunktur und Wachstum\nOrt: Aula (Sowi)\n\nhttps://lfuonline.uibk.ac.at/public/lfuonline_lv.details?sem_id_in=17W&lvnr_id_in=432027\n
CLASS:PUBLIC
DTSTART:20171004T160000Z
DTEND:20171004T184500Z
DTSTAMP:20260419T123927Z
LOCATION:Aula (Sowi)
END:VEVENT
BEGIN:VEVENT
UID:17W_432027_2927107@uibk.ac.at
ORGANIZER;CN="LFU:online Universität Innsbruck":MAILTO:Uni-Innsbruck-noreply@uibk.ac.at
SUMMARY:VO Einführung in die Makroökonomik: Kreislauf, Konjunktur und Wachstum (LV 432027-0 17W)
DESCRIPTION:Lehrveranstaltung 432027 17W, Gruppe 0\nTitel: VO Einführung in die Makroökonomik: Kreislauf, Konjunktur und Wachstum\nOrt: Aula (Sowi)\n\nhttps://lfuonline.uibk.ac.at/public/lfuonline_lv.details?sem_id_in=17W&lvnr_id_in=432027\n
CLASS:PUBLIC
DTSTART:20171011T160000Z
DTEND:20171011T184500Z
DTSTAMP:20260419T123927Z
LOCATION:Aula (Sowi)
END:VEVENT
BEGIN:VEVENT
UID:17W_432027_2927108@uibk.ac.at
ORGANIZER;CN="LFU:online Universität Innsbruck":MAILTO:Uni-Innsbruck-noreply@uibk.ac.at
SUMMARY:VO Einführung in die Makroökonomik: Kreislauf, Konjunktur und Wachstum (LV 432027-0 17W)
DESCRIPTION:Lehrveranstaltung 432027 17W, Gruppe 0\nTitel: VO Einführung in die Makroökonomik: Kreislauf, Konjunktur und Wachstum\nOrt: Aula (Sowi)\n\nhttps://lfuonline.uibk.ac.at/public/lfuonline_lv.details?sem_id_in=17W&lvnr_id_in=432027\n
CLASS:PUBLIC
DTSTART:20171018T160000Z
DTEND:20171018T184500Z
DTSTAMP:20260419T123927Z
LOCATION:Aula (Sowi)
END:VEVENT
BEGIN:VEVENT
UID:17W_432027_2927109@uibk.ac.at
ORGANIZER;CN="LFU:online Universität Innsbruck":MAILTO:Uni-Innsbruck-noreply@uibk.ac.at
SUMMARY:VO Einführung in die Makroökonomik: Kreislauf, Konjunktur und Wachstum (LV 432027-0 17W)
DESCRIPTION:Lehrveranstaltung 432027 17W, Gruppe 0\nTitel: VO Einführung in die Makroökonomik: Kreislauf, Konjunktur und Wachstum\nOrt: Aula (Sowi)\n\nhttps://lfuonline.uibk.ac.at/public/lfuonline_lv.details?sem_id_in=17W&lvnr_id_in=432027\n
CLASS:PUBLIC
DTSTART:20171025T160000Z
DTEND:20171025T184500Z
DTSTAMP:20260419T123927Z
LOCATION:Aula (Sowi)
END:VEVENT
BEGIN:VEVENT
UID:17W_432027_2927110@uibk.ac.at
ORGANIZER;CN="LFU:online Universität Innsbruck":MAILTO:Uni-Innsbruck-noreply@uibk.ac.at
SUMMARY:VO Einführung in die Makroökonomik: Kreislauf, Konjunktur und Wachstum (LV 432027-0 17W)
DESCRIPTION:Lehrveranstaltung 432027 17W, Gruppe 0\nTitel: VO Einführung in die Makroökonomik: Kreislauf, Konjunktur und Wachstum\nOrt: Aula (Sowi)\n\nhttps://lfuonline.uibk.ac.at/public/lfuonline_lv.details?sem_id_in=17W&lvnr_id_in=432027\n
CLASS:PUBLIC
DTSTART:20171108T170000Z
DTEND:20171108T194500Z
DTSTAMP:20260419T123927Z
LOCATION:Aula (Sowi)
END:VEVENT
BEGIN:VEVENT
UID:17W_432027_2927111@uibk.ac.at
ORGANIZER;CN="LFU:online Universität Innsbruck":MAILTO:Uni-Innsbruck-noreply@uibk.ac.at
SUMMARY:VO Einführung in die Makroökonomik: Kreislauf, Konjunktur und Wachstum (LV 432027-0 17W)
DESCRIPTION:Lehrveranstaltung 432027 17W, Gruppe 0\nTitel: VO Einführung in die Makroökonomik: Kreislauf, Konjunktur und Wachstum\nOrt: Aula (Sowi)\n\nhttps://lfuonline.uibk.ac.at/public/lfuonline_lv.details?sem_id_in=17W&lvnr_id_in=432027\n
CLASS:PUBLIC
DTSTART:20171115T170000Z
DTEND:20171115T194500Z
DTSTAMP:20260419T123927Z
LOCATION:Aula (Sowi)
END:VEVENT
BEGIN:VEVENT
UID:17W_432027_2927112@uibk.ac.at
ORGANIZER;CN="LFU:online Universität Innsbruck":MAILTO:Uni-Innsbruck-noreply@uibk.ac.at
SUMMARY:VO Einführung in die Makroökonomik: Kreislauf, Konjunktur und Wachstum (LV 432027-0 17W)
DESCRIPTION:Lehrveranstaltung 432027 17W, Gruppe 0\nTitel: VO Einführung in die Makroökonomik: Kreislauf, Konjunktur und Wachstum\nOrt: Aula (Sowi)\n\nhttps://lfuonline.uibk.ac.at/public/lfuonline_lv.details?sem_id_in=17W&lvnr_id_in=432027\n
CLASS:PUBLIC
DTSTART:20171122T170000Z
DTEND:20171122T194500Z
DTSTAMP:20260419T123927Z
LOCATION:Aula (Sowi)
END:VEVENT
BEGIN:VEVENT
UID:17W_432027_2927113@uibk.ac.at
ORGANIZER;CN="LFU:online Universität Innsbruck":MAILTO:Uni-Innsbruck-noreply@uibk.ac.at
SUMMARY:VO Einführung in die Makroökonomik: Kreislauf, Konjunktur und Wachstum (LV 432027-0 17W)
DESCRIPTION:Lehrveranstaltung 432027 17W, Gruppe 0\nTitel: VO Einführung in die Makroökonomik: Kreislauf, Konjunktur und Wachstum\nOrt: Aula (Sowi)\n\nhttps://lfuonline.uibk.ac.at/public/lfuonline_lv.details?sem_id_in=17W&lvnr_id_in=432027\n
CLASS:PUBLIC
DTSTART:20171129T170000Z
DTEND:20171129T194500Z
DTSTAMP:20260419T123927Z
LOCATION:Aula (Sowi)
END:VEVENT
BEGIN:VEVENT
UID:17W_432027_2927114@uibk.ac.at
ORGANIZER;CN="LFU:online Universität Innsbruck":MAILTO:Uni-Innsbruck-noreply@uibk.ac.at
SUMMARY:VO Einführung in die Makroökonomik: Kreislauf, Konjunktur und Wachstum (LV 432027-0 17W)
DESCRIPTION:Lehrveranstaltung 432027 17W, Gruppe 0\nTitel: VO Einführung in die Makroökonomik: Kreislauf, Konjunktur und Wachstum\nOrt: Aula (Sowi)\n\nhttps://lfuonline.uibk.ac.at/public/lfuonline_lv.details?sem_id_in=17W&lvnr_id_in=432027\n
CLASS:PUBLIC
DTSTART:20171206T170000Z
DTEND:20171206T194500Z
DTSTAMP:20260419T123927Z
LOCATION:Aula (Sowi)
END:VEVENT
BEGIN:VEVENT
UID:17W_432027_2927115@uibk.ac.at
ORGANIZER;CN="LFU:online Universität Innsbruck":MAILTO:Uni-Innsbruck-noreply@uibk.ac.at
SUMMARY:VO Einführung in die Makroökonomik: Kreislauf, Konjunktur und Wachstum (LV 432027-0 17W)
DESCRIPTION:Lehrveranstaltung 432027 17W, Gruppe 0\nTitel: VO Einführung in die Makroökonomik: Kreislauf, Konjunktur und Wachstum\nOrt: Aula (Sowi)\n\nhttps://lfuonline.uibk.ac.at/public/lfuonline_lv.details?sem_id_in=17W&lvnr_id_in=432027\n
CLASS:PUBLIC
DTSTART:20171213T170000Z
DTEND:20171213T194500Z
DTSTAMP:20260419T123927Z
LOCATION:Aula (Sowi)
END:VEVENT
BEGIN:VEVENT
UID:17W_432027_2927116@uibk.ac.at
ORGANIZER;CN="LFU:online Universität Innsbruck":MAILTO:Uni-Innsbruck-noreply@uibk.ac.at
SUMMARY:VO Einführung in die Makroökonomik: Kreislauf, Konjunktur und Wachstum (LV 432027-0 17W)
DESCRIPTION:Lehrveranstaltung 432027 17W, Gruppe 0\nTitel: VO Einführung in die Makroökonomik: Kreislauf, Konjunktur und Wachstum\nOrt: Aula (Sowi)\n\nhttps://lfuonline.uibk.ac.at/public/lfuonline_lv.details?sem_id_in=17W&lvnr_id_in=432027\n
CLASS:PUBLIC
DTSTART:20180110T170000Z
DTEND:20180110T194500Z
DTSTAMP:20260419T123927Z
LOCATION:Aula (Sowi)
END:VEVENT
BEGIN:VEVENT
UID:17W_432027_2927117@uibk.ac.at
ORGANIZER;CN="LFU:online Universität Innsbruck":MAILTO:Uni-Innsbruck-noreply@uibk.ac.at
SUMMARY:VO Einführung in die Makroökonomik: Kreislauf, Konjunktur und Wachstum (LV 432027-0 17W)
DESCRIPTION:Lehrveranstaltung 432027 17W, Gruppe 0\nTitel: VO Einführung in die Makroökonomik: Kreislauf, Konjunktur und Wachstum\nOrt: Aula (Sowi)\n\nhttps://lfuonline.uibk.ac.at/public/lfuonline_lv.details?sem_id_in=17W&lvnr_id_in=432027\n
CLASS:PUBLIC
DTSTART:20180117T170000Z
DTEND:20180117T194500Z
DTSTAMP:20260419T123927Z
LOCATION:Aula (Sowi)
END:VEVENT
BEGIN:VEVENT
UID:17W_432027_2927118@uibk.ac.at
ORGANIZER;CN="LFU:online Universität Innsbruck":MAILTO:Uni-Innsbruck-noreply@uibk.ac.at
SUMMARY:VO Einführung in die Makroökonomik: Kreislauf, Konjunktur und Wachstum (LV 432027-0 17W)
DESCRIPTION:Lehrveranstaltung 432027 17W, Gruppe 0\nTitel: VO Einführung in die Makroökonomik: Kreislauf, Konjunktur und Wachstum\nOrt: Aula (Sowi)\n\nhttps://lfuonline.uibk.ac.at/public/lfuonline_lv.details?sem_id_in=17W&lvnr_id_in=432027\n
CLASS:PUBLIC
DTSTART:20180124T170000Z
DTEND:20180124T194500Z
DTSTAMP:20260419T123927Z
LOCATION:Aula (Sowi)
END:VEVENT
BEGIN:VEVENT
UID:17W_432027_2927119@uibk.ac.at
ORGANIZER;CN="LFU:online Universität Innsbruck":MAILTO:Uni-Innsbruck-noreply@uibk.ac.at
SUMMARY:VO Einführung in die Makroökonomik: Kreislauf, Konjunktur und Wachstum (LV 432027-0 17W)
DESCRIPTION:Lehrveranstaltung 432027 17W, Gruppe 0\nTitel: VO Einführung in die Makroökonomik: Kreislauf, Konjunktur und Wachstum\nOrt: Aula (Sowi)\n\nhttps://lfuonline.uibk.ac.at/public/lfuonline_lv.details?sem_id_in=17W&lvnr_id_in=432027\n
CLASS:PUBLIC
DTSTART:20180131T170000Z
DTEND:20180131T194500Z
DTSTAMP:20260419T123927Z
LOCATION:Aula (Sowi)
END:VEVENT
END:VCALENDAR