BEGIN:VCALENDAR
VERSION:2.0
PRODID:-//Universität Innsbruck//LFU:online//DE
METHOD:PUBLISH
BEGIN:VEVENT
UID:17W_432028_2927149@uibk.ac.at
ORGANIZER;CN="LFU:online Universität Innsbruck":MAILTO:Uni-Innsbruck-noreply@uibk.ac.at
SUMMARY:PS Einführung in die Makroökonomik: Kreislauf, Konjunktur und Wachstum (LV 432028-0 17W)
DESCRIPTION:Lehrveranstaltung 432028 17W, Gruppe 0\nTitel: PS Einführung in die Makroökonomik: Kreislauf, Konjunktur und Wachstum\nOrt: SR  4 (Sowi)\n\nhttps://lfuonline.uibk.ac.at/public/lfuonline_lv.details?sem_id_in=17W&lvnr_id_in=432028\n
CLASS:PUBLIC
DTSTART:20171003T130000Z
DTEND:20171003T134500Z
DTSTAMP:20260419T123857Z
LOCATION:SR  4 (Sowi)
END:VEVENT
BEGIN:VEVENT
UID:17W_432028_2927150@uibk.ac.at
ORGANIZER;CN="LFU:online Universität Innsbruck":MAILTO:Uni-Innsbruck-noreply@uibk.ac.at
SUMMARY:PS Einführung in die Makroökonomik: Kreislauf, Konjunktur und Wachstum (LV 432028-0 17W)
DESCRIPTION:Lehrveranstaltung 432028 17W, Gruppe 0\nTitel: PS Einführung in die Makroökonomik: Kreislauf, Konjunktur und Wachstum\nOrt: SR  4 (Sowi)\n\nhttps://lfuonline.uibk.ac.at/public/lfuonline_lv.details?sem_id_in=17W&lvnr_id_in=432028\n
CLASS:PUBLIC
DTSTART:20171010T130000Z
DTEND:20171010T134500Z
DTSTAMP:20260419T123857Z
LOCATION:SR  4 (Sowi)
END:VEVENT
BEGIN:VEVENT
UID:17W_432028_2927151@uibk.ac.at
ORGANIZER;CN="LFU:online Universität Innsbruck":MAILTO:Uni-Innsbruck-noreply@uibk.ac.at
SUMMARY:PS Einführung in die Makroökonomik: Kreislauf, Konjunktur und Wachstum (LV 432028-0 17W)
DESCRIPTION:Lehrveranstaltung 432028 17W, Gruppe 0\nTitel: PS Einführung in die Makroökonomik: Kreislauf, Konjunktur und Wachstum\nOrt: SR  4 (Sowi)\n\nhttps://lfuonline.uibk.ac.at/public/lfuonline_lv.details?sem_id_in=17W&lvnr_id_in=432028\n
CLASS:PUBLIC
DTSTART:20171017T130000Z
DTEND:20171017T134500Z
DTSTAMP:20260419T123857Z
LOCATION:SR  4 (Sowi)
END:VEVENT
BEGIN:VEVENT
UID:17W_432028_2927152@uibk.ac.at
ORGANIZER;CN="LFU:online Universität Innsbruck":MAILTO:Uni-Innsbruck-noreply@uibk.ac.at
SUMMARY:PS Einführung in die Makroökonomik: Kreislauf, Konjunktur und Wachstum (LV 432028-0 17W)
DESCRIPTION:Lehrveranstaltung 432028 17W, Gruppe 0\nTitel: PS Einführung in die Makroökonomik: Kreislauf, Konjunktur und Wachstum\nOrt: SR  4 (Sowi)\n\nhttps://lfuonline.uibk.ac.at/public/lfuonline_lv.details?sem_id_in=17W&lvnr_id_in=432028\n
CLASS:PUBLIC
DTSTART:20171024T130000Z
DTEND:20171024T134500Z
DTSTAMP:20260419T123857Z
LOCATION:SR  4 (Sowi)
END:VEVENT
BEGIN:VEVENT
UID:17W_432028_2927153@uibk.ac.at
ORGANIZER;CN="LFU:online Universität Innsbruck":MAILTO:Uni-Innsbruck-noreply@uibk.ac.at
SUMMARY:PS Einführung in die Makroökonomik: Kreislauf, Konjunktur und Wachstum (LV 432028-0 17W)
DESCRIPTION:Lehrveranstaltung 432028 17W, Gruppe 0\nTitel: PS Einführung in die Makroökonomik: Kreislauf, Konjunktur und Wachstum\nOrt: SR  4 (Sowi)\n\nhttps://lfuonline.uibk.ac.at/public/lfuonline_lv.details?sem_id_in=17W&lvnr_id_in=432028\n
CLASS:PUBLIC
DTSTART:20171031T140000Z
DTEND:20171031T144500Z
DTSTAMP:20260419T123857Z
LOCATION:SR  4 (Sowi)
END:VEVENT
BEGIN:VEVENT
UID:17W_432028_2927154@uibk.ac.at
ORGANIZER;CN="LFU:online Universität Innsbruck":MAILTO:Uni-Innsbruck-noreply@uibk.ac.at
SUMMARY:PS Einführung in die Makroökonomik: Kreislauf, Konjunktur und Wachstum (LV 432028-0 17W)
DESCRIPTION:Lehrveranstaltung 432028 17W, Gruppe 0\nTitel: PS Einführung in die Makroökonomik: Kreislauf, Konjunktur und Wachstum\nOrt: SR  4 (Sowi)\n\nhttps://lfuonline.uibk.ac.at/public/lfuonline_lv.details?sem_id_in=17W&lvnr_id_in=432028\n
CLASS:PUBLIC
DTSTART:20171107T140000Z
DTEND:20171107T144500Z
DTSTAMP:20260419T123857Z
LOCATION:SR  4 (Sowi)
END:VEVENT
BEGIN:VEVENT
UID:17W_432028_2927155@uibk.ac.at
ORGANIZER;CN="LFU:online Universität Innsbruck":MAILTO:Uni-Innsbruck-noreply@uibk.ac.at
SUMMARY:PS Einführung in die Makroökonomik: Kreislauf, Konjunktur und Wachstum (LV 432028-0 17W)
DESCRIPTION:Lehrveranstaltung 432028 17W, Gruppe 0\nTitel: PS Einführung in die Makroökonomik: Kreislauf, Konjunktur und Wachstum\nOrt: SR  4 (Sowi)\n\nhttps://lfuonline.uibk.ac.at/public/lfuonline_lv.details?sem_id_in=17W&lvnr_id_in=432028\n
CLASS:PUBLIC
DTSTART:20171114T140000Z
DTEND:20171114T144500Z
DTSTAMP:20260419T123857Z
LOCATION:SR  4 (Sowi)
END:VEVENT
BEGIN:VEVENT
UID:17W_432028_2927156@uibk.ac.at
ORGANIZER;CN="LFU:online Universität Innsbruck":MAILTO:Uni-Innsbruck-noreply@uibk.ac.at
SUMMARY:PS Einführung in die Makroökonomik: Kreislauf, Konjunktur und Wachstum (LV 432028-0 17W)
DESCRIPTION:Lehrveranstaltung 432028 17W, Gruppe 0\nTitel: PS Einführung in die Makroökonomik: Kreislauf, Konjunktur und Wachstum\nOrt: SR  4 (Sowi)\n\nhttps://lfuonline.uibk.ac.at/public/lfuonline_lv.details?sem_id_in=17W&lvnr_id_in=432028\n
CLASS:PUBLIC
DTSTART:20171121T140000Z
DTEND:20171121T144500Z
DTSTAMP:20260419T123857Z
LOCATION:SR  4 (Sowi)
END:VEVENT
BEGIN:VEVENT
UID:17W_432028_2927157@uibk.ac.at
ORGANIZER;CN="LFU:online Universität Innsbruck":MAILTO:Uni-Innsbruck-noreply@uibk.ac.at
SUMMARY:PS Einführung in die Makroökonomik: Kreislauf, Konjunktur und Wachstum (LV 432028-0 17W)
DESCRIPTION:Lehrveranstaltung 432028 17W, Gruppe 0\nTitel: PS Einführung in die Makroökonomik: Kreislauf, Konjunktur und Wachstum\nOrt: SR  4 (Sowi)\n\nhttps://lfuonline.uibk.ac.at/public/lfuonline_lv.details?sem_id_in=17W&lvnr_id_in=432028\n
CLASS:PUBLIC
DTSTART:20171128T140000Z
DTEND:20171128T144500Z
DTSTAMP:20260419T123857Z
LOCATION:SR  4 (Sowi)
END:VEVENT
BEGIN:VEVENT
UID:17W_432028_2927158@uibk.ac.at
ORGANIZER;CN="LFU:online Universität Innsbruck":MAILTO:Uni-Innsbruck-noreply@uibk.ac.at
SUMMARY:PS Einführung in die Makroökonomik: Kreislauf, Konjunktur und Wachstum (LV 432028-0 17W)
DESCRIPTION:Lehrveranstaltung 432028 17W, Gruppe 0\nTitel: PS Einführung in die Makroökonomik: Kreislauf, Konjunktur und Wachstum\nOrt: SR  4 (Sowi)\n\nhttps://lfuonline.uibk.ac.at/public/lfuonline_lv.details?sem_id_in=17W&lvnr_id_in=432028\n
CLASS:PUBLIC
DTSTART:20171205T140000Z
DTEND:20171205T144500Z
DTSTAMP:20260419T123857Z
LOCATION:SR  4 (Sowi)
END:VEVENT
BEGIN:VEVENT
UID:17W_432028_2927159@uibk.ac.at
ORGANIZER;CN="LFU:online Universität Innsbruck":MAILTO:Uni-Innsbruck-noreply@uibk.ac.at
SUMMARY:PS Einführung in die Makroökonomik: Kreislauf, Konjunktur und Wachstum (LV 432028-0 17W)
DESCRIPTION:Lehrveranstaltung 432028 17W, Gruppe 0\nTitel: PS Einführung in die Makroökonomik: Kreislauf, Konjunktur und Wachstum\nOrt: SR  4 (Sowi)\n\nhttps://lfuonline.uibk.ac.at/public/lfuonline_lv.details?sem_id_in=17W&lvnr_id_in=432028\n
CLASS:PUBLIC
DTSTART:20171212T140000Z
DTEND:20171212T144500Z
DTSTAMP:20260419T123857Z
LOCATION:SR  4 (Sowi)
END:VEVENT
BEGIN:VEVENT
UID:17W_432028_2927160@uibk.ac.at
ORGANIZER;CN="LFU:online Universität Innsbruck":MAILTO:Uni-Innsbruck-noreply@uibk.ac.at
SUMMARY:PS Einführung in die Makroökonomik: Kreislauf, Konjunktur und Wachstum (LV 432028-0 17W)
DESCRIPTION:Lehrveranstaltung 432028 17W, Gruppe 0\nTitel: PS Einführung in die Makroökonomik: Kreislauf, Konjunktur und Wachstum\nOrt: SR  4 (Sowi)\n\nhttps://lfuonline.uibk.ac.at/public/lfuonline_lv.details?sem_id_in=17W&lvnr_id_in=432028\n
CLASS:PUBLIC
DTSTART:20180109T140000Z
DTEND:20180109T144500Z
DTSTAMP:20260419T123857Z
LOCATION:SR  4 (Sowi)
END:VEVENT
BEGIN:VEVENT
UID:17W_432028_2927161@uibk.ac.at
ORGANIZER;CN="LFU:online Universität Innsbruck":MAILTO:Uni-Innsbruck-noreply@uibk.ac.at
SUMMARY:PS Einführung in die Makroökonomik: Kreislauf, Konjunktur und Wachstum (LV 432028-0 17W)
DESCRIPTION:Lehrveranstaltung 432028 17W, Gruppe 0\nTitel: PS Einführung in die Makroökonomik: Kreislauf, Konjunktur und Wachstum\nOrt: SR  4 (Sowi)\n\nhttps://lfuonline.uibk.ac.at/public/lfuonline_lv.details?sem_id_in=17W&lvnr_id_in=432028\n
CLASS:PUBLIC
DTSTART:20180116T140000Z
DTEND:20180116T144500Z
DTSTAMP:20260419T123857Z
LOCATION:SR  4 (Sowi)
END:VEVENT
BEGIN:VEVENT
UID:17W_432028_3037016@uibk.ac.at
ORGANIZER;CN="LFU:online Universität Innsbruck":MAILTO:Uni-Innsbruck-noreply@uibk.ac.at
SUMMARY:PS Einführung in die Makroökonomik: Kreislauf, Konjunktur und Wachstum (LV 432028-0 17W)
DESCRIPTION:Lehrveranstaltung 432028 17W, Gruppe 0\nTitel: PS Einführung in die Makroökonomik: Kreislauf, Konjunktur und Wachstum\nOrt: Aula (Sowi)\n\nhttps://lfuonline.uibk.ac.at/public/lfuonline_lv.details?sem_id_in=17W&lvnr_id_in=432028\n
CLASS:PUBLIC
DTSTART:20180123T170000Z
DTEND:20180123T184500Z
DTSTAMP:20260419T123857Z
LOCATION:Aula (Sowi)
COMMENT:Schlussklausur (gem. 432029+432030+432031)
END:VEVENT
END:VCALENDAR