BEGIN:VCALENDAR
VERSION:2.0
PRODID:-//Universität Innsbruck//LFU:online//DE
METHOD:PUBLISH
BEGIN:VEVENT
UID:17W_432029_2927164@uibk.ac.at
ORGANIZER;CN="LFU:online Universität Innsbruck":MAILTO:Uni-Innsbruck-noreply@uibk.ac.at
SUMMARY:PS Einführung in die Makroökonomik: Kreislauf, Konjunktur und Wachstum (LV 432029-0 17W)
DESCRIPTION:Lehrveranstaltung 432029 17W, Gruppe 0\nTitel: PS Einführung in die Makroökonomik: Kreislauf, Konjunktur und Wachstum\nOrt: SR  4 (Sowi)\n\nhttps://lfuonline.uibk.ac.at/public/lfuonline_lv.details?sem_id_in=17W&lvnr_id_in=432029\n
CLASS:PUBLIC
DTSTART:20171003T140000Z
DTEND:20171003T144500Z
DTSTAMP:20260419T123857Z
LOCATION:SR  4 (Sowi)
END:VEVENT
BEGIN:VEVENT
UID:17W_432029_2927165@uibk.ac.at
ORGANIZER;CN="LFU:online Universität Innsbruck":MAILTO:Uni-Innsbruck-noreply@uibk.ac.at
SUMMARY:PS Einführung in die Makroökonomik: Kreislauf, Konjunktur und Wachstum (LV 432029-0 17W)
DESCRIPTION:Lehrveranstaltung 432029 17W, Gruppe 0\nTitel: PS Einführung in die Makroökonomik: Kreislauf, Konjunktur und Wachstum\nOrt: SR  4 (Sowi)\n\nhttps://lfuonline.uibk.ac.at/public/lfuonline_lv.details?sem_id_in=17W&lvnr_id_in=432029\n
CLASS:PUBLIC
DTSTART:20171010T140000Z
DTEND:20171010T144500Z
DTSTAMP:20260419T123857Z
LOCATION:SR  4 (Sowi)
END:VEVENT
BEGIN:VEVENT
UID:17W_432029_2927166@uibk.ac.at
ORGANIZER;CN="LFU:online Universität Innsbruck":MAILTO:Uni-Innsbruck-noreply@uibk.ac.at
SUMMARY:PS Einführung in die Makroökonomik: Kreislauf, Konjunktur und Wachstum (LV 432029-0 17W)
DESCRIPTION:Lehrveranstaltung 432029 17W, Gruppe 0\nTitel: PS Einführung in die Makroökonomik: Kreislauf, Konjunktur und Wachstum\nOrt: SR  4 (Sowi)\n\nhttps://lfuonline.uibk.ac.at/public/lfuonline_lv.details?sem_id_in=17W&lvnr_id_in=432029\n
CLASS:PUBLIC
DTSTART:20171017T140000Z
DTEND:20171017T144500Z
DTSTAMP:20260419T123857Z
LOCATION:SR  4 (Sowi)
END:VEVENT
BEGIN:VEVENT
UID:17W_432029_2927167@uibk.ac.at
ORGANIZER;CN="LFU:online Universität Innsbruck":MAILTO:Uni-Innsbruck-noreply@uibk.ac.at
SUMMARY:PS Einführung in die Makroökonomik: Kreislauf, Konjunktur und Wachstum (LV 432029-0 17W)
DESCRIPTION:Lehrveranstaltung 432029 17W, Gruppe 0\nTitel: PS Einführung in die Makroökonomik: Kreislauf, Konjunktur und Wachstum\nOrt: SR  4 (Sowi)\n\nhttps://lfuonline.uibk.ac.at/public/lfuonline_lv.details?sem_id_in=17W&lvnr_id_in=432029\n
CLASS:PUBLIC
DTSTART:20171024T140000Z
DTEND:20171024T144500Z
DTSTAMP:20260419T123857Z
LOCATION:SR  4 (Sowi)
END:VEVENT
BEGIN:VEVENT
UID:17W_432029_2927168@uibk.ac.at
ORGANIZER;CN="LFU:online Universität Innsbruck":MAILTO:Uni-Innsbruck-noreply@uibk.ac.at
SUMMARY:PS Einführung in die Makroökonomik: Kreislauf, Konjunktur und Wachstum (LV 432029-0 17W)
DESCRIPTION:Lehrveranstaltung 432029 17W, Gruppe 0\nTitel: PS Einführung in die Makroökonomik: Kreislauf, Konjunktur und Wachstum\nOrt: SR  4 (Sowi)\n\nhttps://lfuonline.uibk.ac.at/public/lfuonline_lv.details?sem_id_in=17W&lvnr_id_in=432029\n
CLASS:PUBLIC
DTSTART:20171031T150000Z
DTEND:20171031T154500Z
DTSTAMP:20260419T123857Z
LOCATION:SR  4 (Sowi)
END:VEVENT
BEGIN:VEVENT
UID:17W_432029_2927169@uibk.ac.at
ORGANIZER;CN="LFU:online Universität Innsbruck":MAILTO:Uni-Innsbruck-noreply@uibk.ac.at
SUMMARY:PS Einführung in die Makroökonomik: Kreislauf, Konjunktur und Wachstum (LV 432029-0 17W)
DESCRIPTION:Lehrveranstaltung 432029 17W, Gruppe 0\nTitel: PS Einführung in die Makroökonomik: Kreislauf, Konjunktur und Wachstum\nOrt: SR  4 (Sowi)\n\nhttps://lfuonline.uibk.ac.at/public/lfuonline_lv.details?sem_id_in=17W&lvnr_id_in=432029\n
CLASS:PUBLIC
DTSTART:20171107T150000Z
DTEND:20171107T154500Z
DTSTAMP:20260419T123857Z
LOCATION:SR  4 (Sowi)
END:VEVENT
BEGIN:VEVENT
UID:17W_432029_2927170@uibk.ac.at
ORGANIZER;CN="LFU:online Universität Innsbruck":MAILTO:Uni-Innsbruck-noreply@uibk.ac.at
SUMMARY:PS Einführung in die Makroökonomik: Kreislauf, Konjunktur und Wachstum (LV 432029-0 17W)
DESCRIPTION:Lehrveranstaltung 432029 17W, Gruppe 0\nTitel: PS Einführung in die Makroökonomik: Kreislauf, Konjunktur und Wachstum\nOrt: SR  4 (Sowi)\n\nhttps://lfuonline.uibk.ac.at/public/lfuonline_lv.details?sem_id_in=17W&lvnr_id_in=432029\n
CLASS:PUBLIC
DTSTART:20171114T150000Z
DTEND:20171114T154500Z
DTSTAMP:20260419T123857Z
LOCATION:SR  4 (Sowi)
END:VEVENT
BEGIN:VEVENT
UID:17W_432029_2927171@uibk.ac.at
ORGANIZER;CN="LFU:online Universität Innsbruck":MAILTO:Uni-Innsbruck-noreply@uibk.ac.at
SUMMARY:PS Einführung in die Makroökonomik: Kreislauf, Konjunktur und Wachstum (LV 432029-0 17W)
DESCRIPTION:Lehrveranstaltung 432029 17W, Gruppe 0\nTitel: PS Einführung in die Makroökonomik: Kreislauf, Konjunktur und Wachstum\nOrt: SR  4 (Sowi)\n\nhttps://lfuonline.uibk.ac.at/public/lfuonline_lv.details?sem_id_in=17W&lvnr_id_in=432029\n
CLASS:PUBLIC
DTSTART:20171121T150000Z
DTEND:20171121T154500Z
DTSTAMP:20260419T123857Z
LOCATION:SR  4 (Sowi)
END:VEVENT
BEGIN:VEVENT
UID:17W_432029_2927172@uibk.ac.at
ORGANIZER;CN="LFU:online Universität Innsbruck":MAILTO:Uni-Innsbruck-noreply@uibk.ac.at
SUMMARY:PS Einführung in die Makroökonomik: Kreislauf, Konjunktur und Wachstum (LV 432029-0 17W)
DESCRIPTION:Lehrveranstaltung 432029 17W, Gruppe 0\nTitel: PS Einführung in die Makroökonomik: Kreislauf, Konjunktur und Wachstum\nOrt: SR  4 (Sowi)\n\nhttps://lfuonline.uibk.ac.at/public/lfuonline_lv.details?sem_id_in=17W&lvnr_id_in=432029\n
CLASS:PUBLIC
DTSTART:20171128T150000Z
DTEND:20171128T154500Z
DTSTAMP:20260419T123857Z
LOCATION:SR  4 (Sowi)
END:VEVENT
BEGIN:VEVENT
UID:17W_432029_2927173@uibk.ac.at
ORGANIZER;CN="LFU:online Universität Innsbruck":MAILTO:Uni-Innsbruck-noreply@uibk.ac.at
SUMMARY:PS Einführung in die Makroökonomik: Kreislauf, Konjunktur und Wachstum (LV 432029-0 17W)
DESCRIPTION:Lehrveranstaltung 432029 17W, Gruppe 0\nTitel: PS Einführung in die Makroökonomik: Kreislauf, Konjunktur und Wachstum\nOrt: SR  4 (Sowi)\n\nhttps://lfuonline.uibk.ac.at/public/lfuonline_lv.details?sem_id_in=17W&lvnr_id_in=432029\n
CLASS:PUBLIC
DTSTART:20171205T150000Z
DTEND:20171205T154500Z
DTSTAMP:20260419T123857Z
LOCATION:SR  4 (Sowi)
END:VEVENT
BEGIN:VEVENT
UID:17W_432029_2927174@uibk.ac.at
ORGANIZER;CN="LFU:online Universität Innsbruck":MAILTO:Uni-Innsbruck-noreply@uibk.ac.at
SUMMARY:PS Einführung in die Makroökonomik: Kreislauf, Konjunktur und Wachstum (LV 432029-0 17W)
DESCRIPTION:Lehrveranstaltung 432029 17W, Gruppe 0\nTitel: PS Einführung in die Makroökonomik: Kreislauf, Konjunktur und Wachstum\nOrt: SR  4 (Sowi)\n\nhttps://lfuonline.uibk.ac.at/public/lfuonline_lv.details?sem_id_in=17W&lvnr_id_in=432029\n
CLASS:PUBLIC
DTSTART:20171212T150000Z
DTEND:20171212T154500Z
DTSTAMP:20260419T123857Z
LOCATION:SR  4 (Sowi)
END:VEVENT
BEGIN:VEVENT
UID:17W_432029_2927175@uibk.ac.at
ORGANIZER;CN="LFU:online Universität Innsbruck":MAILTO:Uni-Innsbruck-noreply@uibk.ac.at
SUMMARY:PS Einführung in die Makroökonomik: Kreislauf, Konjunktur und Wachstum (LV 432029-0 17W)
DESCRIPTION:Lehrveranstaltung 432029 17W, Gruppe 0\nTitel: PS Einführung in die Makroökonomik: Kreislauf, Konjunktur und Wachstum\nOrt: SR  4 (Sowi)\n\nhttps://lfuonline.uibk.ac.at/public/lfuonline_lv.details?sem_id_in=17W&lvnr_id_in=432029\n
CLASS:PUBLIC
DTSTART:20180109T150000Z
DTEND:20180109T154500Z
DTSTAMP:20260419T123857Z
LOCATION:SR  4 (Sowi)
END:VEVENT
BEGIN:VEVENT
UID:17W_432029_2927176@uibk.ac.at
ORGANIZER;CN="LFU:online Universität Innsbruck":MAILTO:Uni-Innsbruck-noreply@uibk.ac.at
SUMMARY:PS Einführung in die Makroökonomik: Kreislauf, Konjunktur und Wachstum (LV 432029-0 17W)
DESCRIPTION:Lehrveranstaltung 432029 17W, Gruppe 0\nTitel: PS Einführung in die Makroökonomik: Kreislauf, Konjunktur und Wachstum\nOrt: SR  4 (Sowi)\n\nhttps://lfuonline.uibk.ac.at/public/lfuonline_lv.details?sem_id_in=17W&lvnr_id_in=432029\n
CLASS:PUBLIC
DTSTART:20180116T150000Z
DTEND:20180116T154500Z
DTSTAMP:20260419T123857Z
LOCATION:SR  4 (Sowi)
END:VEVENT
BEGIN:VEVENT
UID:17W_432029_2927177@uibk.ac.at
ORGANIZER;CN="LFU:online Universität Innsbruck":MAILTO:Uni-Innsbruck-noreply@uibk.ac.at
SUMMARY:PS Einführung in die Makroökonomik: Kreislauf, Konjunktur und Wachstum (LV 432029-0 17W)
DESCRIPTION:Lehrveranstaltung 432029 17W, Gruppe 0\nTitel: PS Einführung in die Makroökonomik: Kreislauf, Konjunktur und Wachstum\nOrt: SR  4 (Sowi)\n\nhttps://lfuonline.uibk.ac.at/public/lfuonline_lv.details?sem_id_in=17W&lvnr_id_in=432029\n
CLASS:PUBLIC
DTSTART:20180123T150000Z
DTEND:20180123T154500Z
DTSTAMP:20260419T123857Z
LOCATION:SR  4 (Sowi)
END:VEVENT
BEGIN:VEVENT
UID:17W_432029_2927270@uibk.ac.at
ORGANIZER;CN="LFU:online Universität Innsbruck":MAILTO:Uni-Innsbruck-noreply@uibk.ac.at
SUMMARY:PS Einführung in die Makroökonomik: Kreislauf, Konjunktur und Wachstum (LV 432029-0 17W)
DESCRIPTION:Lehrveranstaltung 432029 17W, Gruppe 0\nTitel: PS Einführung in die Makroökonomik: Kreislauf, Konjunktur und Wachstum\nOrt: Aula (Sowi)\n\nhttps://lfuonline.uibk.ac.at/public/lfuonline_lv.details?sem_id_in=17W&lvnr_id_in=432029\n
CLASS:PUBLIC
DTSTART:20180123T170000Z
DTEND:20180123T184500Z
DTSTAMP:20260419T123857Z
LOCATION:Aula (Sowi)
COMMENT:Schlussklausur (gem. 432028+432030+432031)
END:VEVENT
END:VCALENDAR