BEGIN:VCALENDAR
VERSION:2.0
PRODID:-//Universität Innsbruck//LFU:online//DE
METHOD:PUBLISH
BEGIN:VEVENT
UID:17W_432030_2927222@uibk.ac.at
ORGANIZER;CN="LFU:online Universität Innsbruck":MAILTO:Uni-Innsbruck-noreply@uibk.ac.at
SUMMARY:PS Einführung in die Makroökonomik: Kreislauf, Konjunktur und Wachstum (LV 432030-0 17W)
DESCRIPTION:Lehrveranstaltung 432030 17W, Gruppe 0\nTitel: PS Einführung in die Makroökonomik: Kreislauf, Konjunktur und Wachstum\nOrt: SR  4 (Sowi)\n\nhttps://lfuonline.uibk.ac.at/public/lfuonline_lv.details?sem_id_in=17W&lvnr_id_in=432030\n
CLASS:PUBLIC
DTSTART:20171003T150000Z
DTEND:20171003T154500Z
DTSTAMP:20260419T123857Z
LOCATION:SR  4 (Sowi)
END:VEVENT
BEGIN:VEVENT
UID:17W_432030_2927223@uibk.ac.at
ORGANIZER;CN="LFU:online Universität Innsbruck":MAILTO:Uni-Innsbruck-noreply@uibk.ac.at
SUMMARY:PS Einführung in die Makroökonomik: Kreislauf, Konjunktur und Wachstum (LV 432030-0 17W)
DESCRIPTION:Lehrveranstaltung 432030 17W, Gruppe 0\nTitel: PS Einführung in die Makroökonomik: Kreislauf, Konjunktur und Wachstum\nOrt: SR  4 (Sowi)\n\nhttps://lfuonline.uibk.ac.at/public/lfuonline_lv.details?sem_id_in=17W&lvnr_id_in=432030\n
CLASS:PUBLIC
DTSTART:20171010T150000Z
DTEND:20171010T154500Z
DTSTAMP:20260419T123857Z
LOCATION:SR  4 (Sowi)
END:VEVENT
BEGIN:VEVENT
UID:17W_432030_2927224@uibk.ac.at
ORGANIZER;CN="LFU:online Universität Innsbruck":MAILTO:Uni-Innsbruck-noreply@uibk.ac.at
SUMMARY:PS Einführung in die Makroökonomik: Kreislauf, Konjunktur und Wachstum (LV 432030-0 17W)
DESCRIPTION:Lehrveranstaltung 432030 17W, Gruppe 0\nTitel: PS Einführung in die Makroökonomik: Kreislauf, Konjunktur und Wachstum\nOrt: SR  4 (Sowi)\n\nhttps://lfuonline.uibk.ac.at/public/lfuonline_lv.details?sem_id_in=17W&lvnr_id_in=432030\n
CLASS:PUBLIC
DTSTART:20171017T150000Z
DTEND:20171017T154500Z
DTSTAMP:20260419T123857Z
LOCATION:SR  4 (Sowi)
END:VEVENT
BEGIN:VEVENT
UID:17W_432030_2927225@uibk.ac.at
ORGANIZER;CN="LFU:online Universität Innsbruck":MAILTO:Uni-Innsbruck-noreply@uibk.ac.at
SUMMARY:PS Einführung in die Makroökonomik: Kreislauf, Konjunktur und Wachstum (LV 432030-0 17W)
DESCRIPTION:Lehrveranstaltung 432030 17W, Gruppe 0\nTitel: PS Einführung in die Makroökonomik: Kreislauf, Konjunktur und Wachstum\nOrt: SR  4 (Sowi)\n\nhttps://lfuonline.uibk.ac.at/public/lfuonline_lv.details?sem_id_in=17W&lvnr_id_in=432030\n
CLASS:PUBLIC
DTSTART:20171024T150000Z
DTEND:20171024T154500Z
DTSTAMP:20260419T123857Z
LOCATION:SR  4 (Sowi)
END:VEVENT
BEGIN:VEVENT
UID:17W_432030_2927226@uibk.ac.at
ORGANIZER;CN="LFU:online Universität Innsbruck":MAILTO:Uni-Innsbruck-noreply@uibk.ac.at
SUMMARY:PS Einführung in die Makroökonomik: Kreislauf, Konjunktur und Wachstum (LV 432030-0 17W)
DESCRIPTION:Lehrveranstaltung 432030 17W, Gruppe 0\nTitel: PS Einführung in die Makroökonomik: Kreislauf, Konjunktur und Wachstum\nOrt: SR  4 (Sowi)\n\nhttps://lfuonline.uibk.ac.at/public/lfuonline_lv.details?sem_id_in=17W&lvnr_id_in=432030\n
CLASS:PUBLIC
DTSTART:20171031T160000Z
DTEND:20171031T164500Z
DTSTAMP:20260419T123857Z
LOCATION:SR  4 (Sowi)
END:VEVENT
BEGIN:VEVENT
UID:17W_432030_2927227@uibk.ac.at
ORGANIZER;CN="LFU:online Universität Innsbruck":MAILTO:Uni-Innsbruck-noreply@uibk.ac.at
SUMMARY:PS Einführung in die Makroökonomik: Kreislauf, Konjunktur und Wachstum (LV 432030-0 17W)
DESCRIPTION:Lehrveranstaltung 432030 17W, Gruppe 0\nTitel: PS Einführung in die Makroökonomik: Kreislauf, Konjunktur und Wachstum\nOrt: SR  4 (Sowi)\n\nhttps://lfuonline.uibk.ac.at/public/lfuonline_lv.details?sem_id_in=17W&lvnr_id_in=432030\n
CLASS:PUBLIC
DTSTART:20171107T160000Z
DTEND:20171107T164500Z
DTSTAMP:20260419T123857Z
LOCATION:SR  4 (Sowi)
END:VEVENT
BEGIN:VEVENT
UID:17W_432030_2927228@uibk.ac.at
ORGANIZER;CN="LFU:online Universität Innsbruck":MAILTO:Uni-Innsbruck-noreply@uibk.ac.at
SUMMARY:PS Einführung in die Makroökonomik: Kreislauf, Konjunktur und Wachstum (LV 432030-0 17W)
DESCRIPTION:Lehrveranstaltung 432030 17W, Gruppe 0\nTitel: PS Einführung in die Makroökonomik: Kreislauf, Konjunktur und Wachstum\nOrt: SR  4 (Sowi)\n\nhttps://lfuonline.uibk.ac.at/public/lfuonline_lv.details?sem_id_in=17W&lvnr_id_in=432030\n
CLASS:PUBLIC
DTSTART:20171114T160000Z
DTEND:20171114T164500Z
DTSTAMP:20260419T123857Z
LOCATION:SR  4 (Sowi)
END:VEVENT
BEGIN:VEVENT
UID:17W_432030_2927229@uibk.ac.at
ORGANIZER;CN="LFU:online Universität Innsbruck":MAILTO:Uni-Innsbruck-noreply@uibk.ac.at
SUMMARY:PS Einführung in die Makroökonomik: Kreislauf, Konjunktur und Wachstum (LV 432030-0 17W)
DESCRIPTION:Lehrveranstaltung 432030 17W, Gruppe 0\nTitel: PS Einführung in die Makroökonomik: Kreislauf, Konjunktur und Wachstum\nOrt: SR  4 (Sowi)\n\nhttps://lfuonline.uibk.ac.at/public/lfuonline_lv.details?sem_id_in=17W&lvnr_id_in=432030\n
CLASS:PUBLIC
DTSTART:20171121T160000Z
DTEND:20171121T164500Z
DTSTAMP:20260419T123857Z
LOCATION:SR  4 (Sowi)
END:VEVENT
BEGIN:VEVENT
UID:17W_432030_2927230@uibk.ac.at
ORGANIZER;CN="LFU:online Universität Innsbruck":MAILTO:Uni-Innsbruck-noreply@uibk.ac.at
SUMMARY:PS Einführung in die Makroökonomik: Kreislauf, Konjunktur und Wachstum (LV 432030-0 17W)
DESCRIPTION:Lehrveranstaltung 432030 17W, Gruppe 0\nTitel: PS Einführung in die Makroökonomik: Kreislauf, Konjunktur und Wachstum\nOrt: SR  4 (Sowi)\n\nhttps://lfuonline.uibk.ac.at/public/lfuonline_lv.details?sem_id_in=17W&lvnr_id_in=432030\n
CLASS:PUBLIC
DTSTART:20171128T160000Z
DTEND:20171128T164500Z
DTSTAMP:20260419T123857Z
LOCATION:SR  4 (Sowi)
END:VEVENT
BEGIN:VEVENT
UID:17W_432030_2927231@uibk.ac.at
ORGANIZER;CN="LFU:online Universität Innsbruck":MAILTO:Uni-Innsbruck-noreply@uibk.ac.at
SUMMARY:PS Einführung in die Makroökonomik: Kreislauf, Konjunktur und Wachstum (LV 432030-0 17W)
DESCRIPTION:Lehrveranstaltung 432030 17W, Gruppe 0\nTitel: PS Einführung in die Makroökonomik: Kreislauf, Konjunktur und Wachstum\nOrt: SR  4 (Sowi)\n\nhttps://lfuonline.uibk.ac.at/public/lfuonline_lv.details?sem_id_in=17W&lvnr_id_in=432030\n
CLASS:PUBLIC
DTSTART:20171205T160000Z
DTEND:20171205T164500Z
DTSTAMP:20260419T123857Z
LOCATION:SR  4 (Sowi)
END:VEVENT
BEGIN:VEVENT
UID:17W_432030_2927232@uibk.ac.at
ORGANIZER;CN="LFU:online Universität Innsbruck":MAILTO:Uni-Innsbruck-noreply@uibk.ac.at
SUMMARY:PS Einführung in die Makroökonomik: Kreislauf, Konjunktur und Wachstum (LV 432030-0 17W)
DESCRIPTION:Lehrveranstaltung 432030 17W, Gruppe 0\nTitel: PS Einführung in die Makroökonomik: Kreislauf, Konjunktur und Wachstum\nOrt: SR  4 (Sowi)\n\nhttps://lfuonline.uibk.ac.at/public/lfuonline_lv.details?sem_id_in=17W&lvnr_id_in=432030\n
CLASS:PUBLIC
DTSTART:20171212T160000Z
DTEND:20171212T164500Z
DTSTAMP:20260419T123857Z
LOCATION:SR  4 (Sowi)
END:VEVENT
BEGIN:VEVENT
UID:17W_432030_2927233@uibk.ac.at
ORGANIZER;CN="LFU:online Universität Innsbruck":MAILTO:Uni-Innsbruck-noreply@uibk.ac.at
SUMMARY:PS Einführung in die Makroökonomik: Kreislauf, Konjunktur und Wachstum (LV 432030-0 17W)
DESCRIPTION:Lehrveranstaltung 432030 17W, Gruppe 0\nTitel: PS Einführung in die Makroökonomik: Kreislauf, Konjunktur und Wachstum\nOrt: SR  4 (Sowi)\n\nhttps://lfuonline.uibk.ac.at/public/lfuonline_lv.details?sem_id_in=17W&lvnr_id_in=432030\n
CLASS:PUBLIC
DTSTART:20180109T160000Z
DTEND:20180109T164500Z
DTSTAMP:20260419T123857Z
LOCATION:SR  4 (Sowi)
END:VEVENT
BEGIN:VEVENT
UID:17W_432030_2927234@uibk.ac.at
ORGANIZER;CN="LFU:online Universität Innsbruck":MAILTO:Uni-Innsbruck-noreply@uibk.ac.at
SUMMARY:PS Einführung in die Makroökonomik: Kreislauf, Konjunktur und Wachstum (LV 432030-0 17W)
DESCRIPTION:Lehrveranstaltung 432030 17W, Gruppe 0\nTitel: PS Einführung in die Makroökonomik: Kreislauf, Konjunktur und Wachstum\nOrt: SR  4 (Sowi)\n\nhttps://lfuonline.uibk.ac.at/public/lfuonline_lv.details?sem_id_in=17W&lvnr_id_in=432030\n
CLASS:PUBLIC
DTSTART:20180116T160000Z
DTEND:20180116T164500Z
DTSTAMP:20260419T123857Z
LOCATION:SR  4 (Sowi)
END:VEVENT
BEGIN:VEVENT
UID:17W_432030_2927235@uibk.ac.at
ORGANIZER;CN="LFU:online Universität Innsbruck":MAILTO:Uni-Innsbruck-noreply@uibk.ac.at
SUMMARY:PS Einführung in die Makroökonomik: Kreislauf, Konjunktur und Wachstum (LV 432030-0 17W)
DESCRIPTION:Lehrveranstaltung 432030 17W, Gruppe 0\nTitel: PS Einführung in die Makroökonomik: Kreislauf, Konjunktur und Wachstum\nOrt: SR  4 (Sowi)\n\nhttps://lfuonline.uibk.ac.at/public/lfuonline_lv.details?sem_id_in=17W&lvnr_id_in=432030\n
CLASS:PUBLIC
DTSTART:20180123T160000Z
DTEND:20180123T164500Z
DTSTAMP:20260419T123857Z
LOCATION:SR  4 (Sowi)
END:VEVENT
BEGIN:VEVENT
UID:17W_432030_2927271@uibk.ac.at
ORGANIZER;CN="LFU:online Universität Innsbruck":MAILTO:Uni-Innsbruck-noreply@uibk.ac.at
SUMMARY:PS Einführung in die Makroökonomik: Kreislauf, Konjunktur und Wachstum (LV 432030-0 17W)
DESCRIPTION:Lehrveranstaltung 432030 17W, Gruppe 0\nTitel: PS Einführung in die Makroökonomik: Kreislauf, Konjunktur und Wachstum\nOrt: Aula (Sowi)\n\nhttps://lfuonline.uibk.ac.at/public/lfuonline_lv.details?sem_id_in=17W&lvnr_id_in=432030\n
CLASS:PUBLIC
DTSTART:20180123T170000Z
DTEND:20180123T184500Z
DTSTAMP:20260419T123857Z
LOCATION:Aula (Sowi)
COMMENT:Schlussklausur (gem. 432028+432029+432031)
END:VEVENT
END:VCALENDAR