BEGIN:VCALENDAR
VERSION:2.0
PRODID:-//Universität Innsbruck//LFU:online//DE
METHOD:PUBLISH
BEGIN:VEVENT
UID:17W_432032_2979731@uibk.ac.at
ORGANIZER;CN="LFU:online Universität Innsbruck":MAILTO:Uni-Innsbruck-noreply@uibk.ac.at
SUMMARY:PS Einführung in die Makroökonomik: Kreislauf, Konjunktur und Wachstum (LV 432032-0 17W)
DESCRIPTION:Lehrveranstaltung 432032 17W, Gruppe 0\nTitel: PS Einführung in die Makroökonomik: Kreislauf, Konjunktur und Wachstum\nOrt: SR  9 (Sowi)\n\nhttps://lfuonline.uibk.ac.at/public/lfuonline_lv.details?sem_id_in=17W&lvnr_id_in=432032\n
CLASS:PUBLIC
DTSTART:20171104T080000Z
DTEND:20171104T144500Z
DTSTAMP:20260419T123858Z
LOCATION:SR  9 (Sowi)
END:VEVENT
BEGIN:VEVENT
UID:17W_432032_2979732@uibk.ac.at
ORGANIZER;CN="LFU:online Universität Innsbruck":MAILTO:Uni-Innsbruck-noreply@uibk.ac.at
SUMMARY:PS Einführung in die Makroökonomik: Kreislauf, Konjunktur und Wachstum (LV 432032-0 17W)
DESCRIPTION:Lehrveranstaltung 432032 17W, Gruppe 0\nTitel: PS Einführung in die Makroökonomik: Kreislauf, Konjunktur und Wachstum\nOrt: SR  9 (Sowi)\n\nhttps://lfuonline.uibk.ac.at/public/lfuonline_lv.details?sem_id_in=17W&lvnr_id_in=432032\n
CLASS:PUBLIC
DTSTART:20171125T080000Z
DTEND:20171125T144500Z
DTSTAMP:20260419T123858Z
LOCATION:SR  9 (Sowi)
END:VEVENT
BEGIN:VEVENT
UID:17W_432032_2992892@uibk.ac.at
ORGANIZER;CN="LFU:online Universität Innsbruck":MAILTO:Uni-Innsbruck-noreply@uibk.ac.at
SUMMARY:PS Einführung in die Makroökonomik: Kreislauf, Konjunktur und Wachstum (LV 432032-0 17W)
DESCRIPTION:Lehrveranstaltung 432032 17W, Gruppe 0\nTitel: PS Einführung in die Makroökonomik: Kreislauf, Konjunktur und Wachstum\nOrt: HS 2 (Sowi)\n\nhttps://lfuonline.uibk.ac.at/public/lfuonline_lv.details?sem_id_in=17W&lvnr_id_in=432032\n
CLASS:PUBLIC
DTSTART:20180113T070000Z
DTEND:20180113T084500Z
DTSTAMP:20260419T123858Z
LOCATION:HS 2 (Sowi)
END:VEVENT
END:VCALENDAR