BEGIN:VCALENDAR
VERSION:2.0
PRODID:-//Universität Innsbruck//LFU:online//DE
METHOD:PUBLISH
BEGIN:VEVENT
UID:17W_432033_2958015@uibk.ac.at
ORGANIZER;CN="LFU:online Universität Innsbruck":MAILTO:Uni-Innsbruck-noreply@uibk.ac.at
SUMMARY:PS Einführung in die Makroökonomik: Kreislauf, Konjunktur und Wachstum (LV 432033-0 17W)
DESCRIPTION:Lehrveranstaltung 432033 17W, Gruppe 0\nTitel: PS Einführung in die Makroökonomik: Kreislauf, Konjunktur und Wachstum\nOrt: UR 3 (Sowi)\n\nhttps://lfuonline.uibk.ac.at/public/lfuonline_lv.details?sem_id_in=17W&lvnr_id_in=432033\n
CLASS:PUBLIC
DTSTART:20171005T060000Z
DTEND:20171005T064500Z
DTSTAMP:20260419T123858Z
LOCATION:UR 3 (Sowi)
END:VEVENT
BEGIN:VEVENT
UID:17W_432033_2958016@uibk.ac.at
ORGANIZER;CN="LFU:online Universität Innsbruck":MAILTO:Uni-Innsbruck-noreply@uibk.ac.at
SUMMARY:PS Einführung in die Makroökonomik: Kreislauf, Konjunktur und Wachstum (LV 432033-0 17W)
DESCRIPTION:Lehrveranstaltung 432033 17W, Gruppe 0\nTitel: PS Einführung in die Makroökonomik: Kreislauf, Konjunktur und Wachstum\nOrt: UR 3 (Sowi)\n\nhttps://lfuonline.uibk.ac.at/public/lfuonline_lv.details?sem_id_in=17W&lvnr_id_in=432033\n
CLASS:PUBLIC
DTSTART:20171012T060000Z
DTEND:20171012T064500Z
DTSTAMP:20260419T123858Z
LOCATION:UR 3 (Sowi)
END:VEVENT
BEGIN:VEVENT
UID:17W_432033_2958017@uibk.ac.at
ORGANIZER;CN="LFU:online Universität Innsbruck":MAILTO:Uni-Innsbruck-noreply@uibk.ac.at
SUMMARY:PS Einführung in die Makroökonomik: Kreislauf, Konjunktur und Wachstum (LV 432033-0 17W)
DESCRIPTION:Lehrveranstaltung 432033 17W, Gruppe 0\nTitel: PS Einführung in die Makroökonomik: Kreislauf, Konjunktur und Wachstum\nOrt: UR 3 (Sowi)\n\nhttps://lfuonline.uibk.ac.at/public/lfuonline_lv.details?sem_id_in=17W&lvnr_id_in=432033\n
CLASS:PUBLIC
DTSTART:20171019T060000Z
DTEND:20171019T064500Z
DTSTAMP:20260419T123858Z
LOCATION:UR 3 (Sowi)
END:VEVENT
BEGIN:VEVENT
UID:17W_432033_2958018@uibk.ac.at
ORGANIZER;CN="LFU:online Universität Innsbruck":MAILTO:Uni-Innsbruck-noreply@uibk.ac.at
SUMMARY:PS Einführung in die Makroökonomik: Kreislauf, Konjunktur und Wachstum (LV 432033-0 17W)
DESCRIPTION:Lehrveranstaltung 432033 17W, Gruppe 0\nTitel: PS Einführung in die Makroökonomik: Kreislauf, Konjunktur und Wachstum\nOrt: UR 3 (Sowi)\n\nhttps://lfuonline.uibk.ac.at/public/lfuonline_lv.details?sem_id_in=17W&lvnr_id_in=432033\n
CLASS:PUBLIC
DTSTART:20171109T070000Z
DTEND:20171109T074500Z
DTSTAMP:20260419T123858Z
LOCATION:UR 3 (Sowi)
END:VEVENT
BEGIN:VEVENT
UID:17W_432033_2958019@uibk.ac.at
ORGANIZER;CN="LFU:online Universität Innsbruck":MAILTO:Uni-Innsbruck-noreply@uibk.ac.at
SUMMARY:PS Einführung in die Makroökonomik: Kreislauf, Konjunktur und Wachstum (LV 432033-0 17W)
DESCRIPTION:Lehrveranstaltung 432033 17W, Gruppe 0\nTitel: PS Einführung in die Makroökonomik: Kreislauf, Konjunktur und Wachstum\nOrt: UR 3 (Sowi)\n\nhttps://lfuonline.uibk.ac.at/public/lfuonline_lv.details?sem_id_in=17W&lvnr_id_in=432033\n
CLASS:PUBLIC
DTSTART:20171116T070000Z
DTEND:20171116T074500Z
DTSTAMP:20260419T123858Z
LOCATION:UR 3 (Sowi)
END:VEVENT
BEGIN:VEVENT
UID:17W_432033_2958020@uibk.ac.at
ORGANIZER;CN="LFU:online Universität Innsbruck":MAILTO:Uni-Innsbruck-noreply@uibk.ac.at
SUMMARY:PS Einführung in die Makroökonomik: Kreislauf, Konjunktur und Wachstum (LV 432033-0 17W)
DESCRIPTION:Lehrveranstaltung 432033 17W, Gruppe 0\nTitel: PS Einführung in die Makroökonomik: Kreislauf, Konjunktur und Wachstum\nOrt: UR 3 (Sowi)\n\nhttps://lfuonline.uibk.ac.at/public/lfuonline_lv.details?sem_id_in=17W&lvnr_id_in=432033\n
CLASS:PUBLIC
DTSTART:20171123T070000Z
DTEND:20171123T074500Z
DTSTAMP:20260419T123858Z
LOCATION:UR 3 (Sowi)
END:VEVENT
BEGIN:VEVENT
UID:17W_432033_2958021@uibk.ac.at
ORGANIZER;CN="LFU:online Universität Innsbruck":MAILTO:Uni-Innsbruck-noreply@uibk.ac.at
SUMMARY:PS Einführung in die Makroökonomik: Kreislauf, Konjunktur und Wachstum (LV 432033-0 17W)
DESCRIPTION:Lehrveranstaltung 432033 17W, Gruppe 0\nTitel: PS Einführung in die Makroökonomik: Kreislauf, Konjunktur und Wachstum\nOrt: UR 3 (Sowi)\n\nhttps://lfuonline.uibk.ac.at/public/lfuonline_lv.details?sem_id_in=17W&lvnr_id_in=432033\n
CLASS:PUBLIC
DTSTART:20171130T070000Z
DTEND:20171130T074500Z
DTSTAMP:20260419T123858Z
LOCATION:UR 3 (Sowi)
END:VEVENT
BEGIN:VEVENT
UID:17W_432033_2958022@uibk.ac.at
ORGANIZER;CN="LFU:online Universität Innsbruck":MAILTO:Uni-Innsbruck-noreply@uibk.ac.at
SUMMARY:PS Einführung in die Makroökonomik: Kreislauf, Konjunktur und Wachstum (LV 432033-0 17W)
DESCRIPTION:Lehrveranstaltung 432033 17W, Gruppe 0\nTitel: PS Einführung in die Makroökonomik: Kreislauf, Konjunktur und Wachstum\nOrt: UR 3 (Sowi)\n\nhttps://lfuonline.uibk.ac.at/public/lfuonline_lv.details?sem_id_in=17W&lvnr_id_in=432033\n
CLASS:PUBLIC
DTSTART:20171207T070000Z
DTEND:20171207T074500Z
DTSTAMP:20260419T123858Z
LOCATION:UR 3 (Sowi)
END:VEVENT
BEGIN:VEVENT
UID:17W_432033_2958023@uibk.ac.at
ORGANIZER;CN="LFU:online Universität Innsbruck":MAILTO:Uni-Innsbruck-noreply@uibk.ac.at
SUMMARY:PS Einführung in die Makroökonomik: Kreislauf, Konjunktur und Wachstum (LV 432033-0 17W)
DESCRIPTION:Lehrveranstaltung 432033 17W, Gruppe 0\nTitel: PS Einführung in die Makroökonomik: Kreislauf, Konjunktur und Wachstum\nOrt: UR 3 (Sowi)\n\nhttps://lfuonline.uibk.ac.at/public/lfuonline_lv.details?sem_id_in=17W&lvnr_id_in=432033\n
CLASS:PUBLIC
DTSTART:20171214T070000Z
DTEND:20171214T074500Z
DTSTAMP:20260419T123858Z
LOCATION:UR 3 (Sowi)
END:VEVENT
BEGIN:VEVENT
UID:17W_432033_2958024@uibk.ac.at
ORGANIZER;CN="LFU:online Universität Innsbruck":MAILTO:Uni-Innsbruck-noreply@uibk.ac.at
SUMMARY:PS Einführung in die Makroökonomik: Kreislauf, Konjunktur und Wachstum (LV 432033-0 17W)
DESCRIPTION:Lehrveranstaltung 432033 17W, Gruppe 0\nTitel: PS Einführung in die Makroökonomik: Kreislauf, Konjunktur und Wachstum\nOrt: UR 3 (Sowi)\n\nhttps://lfuonline.uibk.ac.at/public/lfuonline_lv.details?sem_id_in=17W&lvnr_id_in=432033\n
CLASS:PUBLIC
DTSTART:20180111T070000Z
DTEND:20180111T074500Z
DTSTAMP:20260419T123858Z
LOCATION:UR 3 (Sowi)
END:VEVENT
BEGIN:VEVENT
UID:17W_432033_2958025@uibk.ac.at
ORGANIZER;CN="LFU:online Universität Innsbruck":MAILTO:Uni-Innsbruck-noreply@uibk.ac.at
SUMMARY:PS Einführung in die Makroökonomik: Kreislauf, Konjunktur und Wachstum (LV 432033-0 17W)
DESCRIPTION:Lehrveranstaltung 432033 17W, Gruppe 0\nTitel: PS Einführung in die Makroökonomik: Kreislauf, Konjunktur und Wachstum\nOrt: UR 3 (Sowi)\n\nhttps://lfuonline.uibk.ac.at/public/lfuonline_lv.details?sem_id_in=17W&lvnr_id_in=432033\n
CLASS:PUBLIC
DTSTART:20180118T070000Z
DTEND:20180118T074500Z
DTSTAMP:20260419T123858Z
LOCATION:UR 3 (Sowi)
END:VEVENT
BEGIN:VEVENT
UID:17W_432033_2958026@uibk.ac.at
ORGANIZER;CN="LFU:online Universität Innsbruck":MAILTO:Uni-Innsbruck-noreply@uibk.ac.at
SUMMARY:PS Einführung in die Makroökonomik: Kreislauf, Konjunktur und Wachstum (LV 432033-0 17W)
DESCRIPTION:Lehrveranstaltung 432033 17W, Gruppe 0\nTitel: PS Einführung in die Makroökonomik: Kreislauf, Konjunktur und Wachstum\nOrt: UR 3 (Sowi)\n\nhttps://lfuonline.uibk.ac.at/public/lfuonline_lv.details?sem_id_in=17W&lvnr_id_in=432033\n
CLASS:PUBLIC
DTSTART:20180125T070000Z
DTEND:20180125T074500Z
DTSTAMP:20260419T123858Z
LOCATION:UR 3 (Sowi)
END:VEVENT
BEGIN:VEVENT
UID:17W_432033_3110714@uibk.ac.at
ORGANIZER;CN="LFU:online Universität Innsbruck":MAILTO:Uni-Innsbruck-noreply@uibk.ac.at
SUMMARY:PS Einführung in die Makroökonomik: Kreislauf, Konjunktur und Wachstum (LV 432033-0 17W)
DESCRIPTION:Lehrveranstaltung 432033 17W, Gruppe 0\nTitel: PS Einführung in die Makroökonomik: Kreislauf, Konjunktur und Wachstum\nOrt: SR  4 (Sowi)\n\nhttps://lfuonline.uibk.ac.at/public/lfuonline_lv.details?sem_id_in=17W&lvnr_id_in=432033\n
CLASS:PUBLIC
DTSTART:20180129T070000Z
DTEND:20180129T074500Z
DTSTAMP:20260419T123858Z
LOCATION:SR  4 (Sowi)
END:VEVENT
BEGIN:VEVENT
UID:17W_432033_2958027@uibk.ac.at
ORGANIZER;CN="LFU:online Universität Innsbruck":MAILTO:Uni-Innsbruck-noreply@uibk.ac.at
SUMMARY:PS Einführung in die Makroökonomik: Kreislauf, Konjunktur und Wachstum (LV 432033-0 17W)
DESCRIPTION:Lehrveranstaltung 432033 17W, Gruppe 0\nTitel: PS Einführung in die Makroökonomik: Kreislauf, Konjunktur und Wachstum\nOrt: UR 3 (Sowi)\n\nhttps://lfuonline.uibk.ac.at/public/lfuonline_lv.details?sem_id_in=17W&lvnr_id_in=432033\n
CLASS:PUBLIC
DTSTART:20180201T070000Z
DTEND:20180201T074500Z
DTSTAMP:20260419T123858Z
LOCATION:UR 3 (Sowi)
END:VEVENT
END:VCALENDAR