BEGIN:VCALENDAR
VERSION:2.0
PRODID:-//Universität Innsbruck//LFU:online//DE
METHOD:PUBLISH
BEGIN:VEVENT
UID:17W_432034_3035626@uibk.ac.at
ORGANIZER;CN="LFU:online Universität Innsbruck":MAILTO:Uni-Innsbruck-noreply@uibk.ac.at
SUMMARY:PS Einführung in die Makroökonomik: Kreislauf, Konjunktur und Wachstum (LV 432034-0 17W)
DESCRIPTION:Lehrveranstaltung 432034 17W, Gruppe 0\nTitel: PS Einführung in die Makroökonomik: Kreislauf, Konjunktur und Wachstum\nOrt: SR  9 (Sowi)\n\nhttps://lfuonline.uibk.ac.at/public/lfuonline_lv.details?sem_id_in=17W&lvnr_id_in=432034\n
CLASS:PUBLIC
DTSTART:20171005T150000Z
DTEND:20171005T154500Z
DTSTAMP:20260419T123857Z
LOCATION:SR  9 (Sowi)
END:VEVENT
BEGIN:VEVENT
UID:17W_432034_3035640@uibk.ac.at
ORGANIZER;CN="LFU:online Universität Innsbruck":MAILTO:Uni-Innsbruck-noreply@uibk.ac.at
SUMMARY:PS Einführung in die Makroökonomik: Kreislauf, Konjunktur und Wachstum (LV 432034-0 17W)
DESCRIPTION:Lehrveranstaltung 432034 17W, Gruppe 0\nTitel: PS Einführung in die Makroökonomik: Kreislauf, Konjunktur und Wachstum\nOrt: SR  2 (Sowi)\n\nhttps://lfuonline.uibk.ac.at/public/lfuonline_lv.details?sem_id_in=17W&lvnr_id_in=432034\n
CLASS:PUBLIC
DTSTART:20171012T150000Z
DTEND:20171012T154500Z
DTSTAMP:20260419T123857Z
LOCATION:SR  2 (Sowi)
END:VEVENT
BEGIN:VEVENT
UID:17W_432034_3035628@uibk.ac.at
ORGANIZER;CN="LFU:online Universität Innsbruck":MAILTO:Uni-Innsbruck-noreply@uibk.ac.at
SUMMARY:PS Einführung in die Makroökonomik: Kreislauf, Konjunktur und Wachstum (LV 432034-0 17W)
DESCRIPTION:Lehrveranstaltung 432034 17W, Gruppe 0\nTitel: PS Einführung in die Makroökonomik: Kreislauf, Konjunktur und Wachstum\nOrt: SR  9 (Sowi)\n\nhttps://lfuonline.uibk.ac.at/public/lfuonline_lv.details?sem_id_in=17W&lvnr_id_in=432034\n
CLASS:PUBLIC
DTSTART:20171019T150000Z
DTEND:20171019T154500Z
DTSTAMP:20260419T123857Z
LOCATION:SR  9 (Sowi)
END:VEVENT
BEGIN:VEVENT
UID:17W_432034_3035629@uibk.ac.at
ORGANIZER;CN="LFU:online Universität Innsbruck":MAILTO:Uni-Innsbruck-noreply@uibk.ac.at
SUMMARY:PS Einführung in die Makroökonomik: Kreislauf, Konjunktur und Wachstum (LV 432034-0 17W)
DESCRIPTION:Lehrveranstaltung 432034 17W, Gruppe 0\nTitel: PS Einführung in die Makroökonomik: Kreislauf, Konjunktur und Wachstum\nOrt: SR  9 (Sowi)\n\nhttps://lfuonline.uibk.ac.at/public/lfuonline_lv.details?sem_id_in=17W&lvnr_id_in=432034\n
CLASS:PUBLIC
DTSTART:20171109T160000Z
DTEND:20171109T164500Z
DTSTAMP:20260419T123857Z
LOCATION:SR  9 (Sowi)
END:VEVENT
BEGIN:VEVENT
UID:17W_432034_3035641@uibk.ac.at
ORGANIZER;CN="LFU:online Universität Innsbruck":MAILTO:Uni-Innsbruck-noreply@uibk.ac.at
SUMMARY:PS Einführung in die Makroökonomik: Kreislauf, Konjunktur und Wachstum (LV 432034-0 17W)
DESCRIPTION:Lehrveranstaltung 432034 17W, Gruppe 0\nTitel: PS Einführung in die Makroökonomik: Kreislauf, Konjunktur und Wachstum\nOrt: UR 2 (Sowi)\n\nhttps://lfuonline.uibk.ac.at/public/lfuonline_lv.details?sem_id_in=17W&lvnr_id_in=432034\n
CLASS:PUBLIC
DTSTART:20171116T160000Z
DTEND:20171116T164500Z
DTSTAMP:20260419T123857Z
LOCATION:UR 2 (Sowi)
END:VEVENT
BEGIN:VEVENT
UID:17W_432034_3035631@uibk.ac.at
ORGANIZER;CN="LFU:online Universität Innsbruck":MAILTO:Uni-Innsbruck-noreply@uibk.ac.at
SUMMARY:PS Einführung in die Makroökonomik: Kreislauf, Konjunktur und Wachstum (LV 432034-0 17W)
DESCRIPTION:Lehrveranstaltung 432034 17W, Gruppe 0\nTitel: PS Einführung in die Makroökonomik: Kreislauf, Konjunktur und Wachstum\nOrt: SR  9 (Sowi)\n\nhttps://lfuonline.uibk.ac.at/public/lfuonline_lv.details?sem_id_in=17W&lvnr_id_in=432034\n
CLASS:PUBLIC
DTSTART:20171123T160000Z
DTEND:20171123T164500Z
DTSTAMP:20260419T123857Z
LOCATION:SR  9 (Sowi)
END:VEVENT
BEGIN:VEVENT
UID:17W_432034_3035642@uibk.ac.at
ORGANIZER;CN="LFU:online Universität Innsbruck":MAILTO:Uni-Innsbruck-noreply@uibk.ac.at
SUMMARY:PS Einführung in die Makroökonomik: Kreislauf, Konjunktur und Wachstum (LV 432034-0 17W)
DESCRIPTION:Lehrveranstaltung 432034 17W, Gruppe 0\nTitel: PS Einführung in die Makroökonomik: Kreislauf, Konjunktur und Wachstum\nOrt: SR  2 (Sowi)\n\nhttps://lfuonline.uibk.ac.at/public/lfuonline_lv.details?sem_id_in=17W&lvnr_id_in=432034\n
CLASS:PUBLIC
DTSTART:20171130T160000Z
DTEND:20171130T164500Z
DTSTAMP:20260419T123857Z
LOCATION:SR  2 (Sowi)
END:VEVENT
BEGIN:VEVENT
UID:17W_432034_3035633@uibk.ac.at
ORGANIZER;CN="LFU:online Universität Innsbruck":MAILTO:Uni-Innsbruck-noreply@uibk.ac.at
SUMMARY:PS Einführung in die Makroökonomik: Kreislauf, Konjunktur und Wachstum (LV 432034-0 17W)
DESCRIPTION:Lehrveranstaltung 432034 17W, Gruppe 0\nTitel: PS Einführung in die Makroökonomik: Kreislauf, Konjunktur und Wachstum\nOrt: SR  9 (Sowi)\n\nhttps://lfuonline.uibk.ac.at/public/lfuonline_lv.details?sem_id_in=17W&lvnr_id_in=432034\n
CLASS:PUBLIC
DTSTART:20171207T160000Z
DTEND:20171207T164500Z
DTSTAMP:20260419T123857Z
LOCATION:SR  9 (Sowi)
END:VEVENT
BEGIN:VEVENT
UID:17W_432034_3035634@uibk.ac.at
ORGANIZER;CN="LFU:online Universität Innsbruck":MAILTO:Uni-Innsbruck-noreply@uibk.ac.at
SUMMARY:PS Einführung in die Makroökonomik: Kreislauf, Konjunktur und Wachstum (LV 432034-0 17W)
DESCRIPTION:Lehrveranstaltung 432034 17W, Gruppe 0\nTitel: PS Einführung in die Makroökonomik: Kreislauf, Konjunktur und Wachstum\nOrt: SR  9 (Sowi)\n\nhttps://lfuonline.uibk.ac.at/public/lfuonline_lv.details?sem_id_in=17W&lvnr_id_in=432034\n
CLASS:PUBLIC
DTSTART:20171214T160000Z
DTEND:20171214T164500Z
DTSTAMP:20260419T123857Z
LOCATION:SR  9 (Sowi)
END:VEVENT
BEGIN:VEVENT
UID:17W_432034_3035635@uibk.ac.at
ORGANIZER;CN="LFU:online Universität Innsbruck":MAILTO:Uni-Innsbruck-noreply@uibk.ac.at
SUMMARY:PS Einführung in die Makroökonomik: Kreislauf, Konjunktur und Wachstum (LV 432034-0 17W)
DESCRIPTION:Lehrveranstaltung 432034 17W, Gruppe 0\nTitel: PS Einführung in die Makroökonomik: Kreislauf, Konjunktur und Wachstum\nOrt: SR  9 (Sowi)\n\nhttps://lfuonline.uibk.ac.at/public/lfuonline_lv.details?sem_id_in=17W&lvnr_id_in=432034\n
CLASS:PUBLIC
DTSTART:20180111T160000Z
DTEND:20180111T164500Z
DTSTAMP:20260419T123857Z
LOCATION:SR  9 (Sowi)
END:VEVENT
BEGIN:VEVENT
UID:17W_432034_3035636@uibk.ac.at
ORGANIZER;CN="LFU:online Universität Innsbruck":MAILTO:Uni-Innsbruck-noreply@uibk.ac.at
SUMMARY:PS Einführung in die Makroökonomik: Kreislauf, Konjunktur und Wachstum (LV 432034-0 17W)
DESCRIPTION:Lehrveranstaltung 432034 17W, Gruppe 0\nTitel: PS Einführung in die Makroökonomik: Kreislauf, Konjunktur und Wachstum\nOrt: SR  9 (Sowi)\n\nhttps://lfuonline.uibk.ac.at/public/lfuonline_lv.details?sem_id_in=17W&lvnr_id_in=432034\n
CLASS:PUBLIC
DTSTART:20180118T160000Z
DTEND:20180118T164500Z
DTSTAMP:20260419T123857Z
LOCATION:SR  9 (Sowi)
END:VEVENT
BEGIN:VEVENT
UID:17W_432034_3035637@uibk.ac.at
ORGANIZER;CN="LFU:online Universität Innsbruck":MAILTO:Uni-Innsbruck-noreply@uibk.ac.at
SUMMARY:PS Einführung in die Makroökonomik: Kreislauf, Konjunktur und Wachstum (LV 432034-0 17W)
DESCRIPTION:Lehrveranstaltung 432034 17W, Gruppe 0\nTitel: PS Einführung in die Makroökonomik: Kreislauf, Konjunktur und Wachstum\nOrt: SR  9 (Sowi)\n\nhttps://lfuonline.uibk.ac.at/public/lfuonline_lv.details?sem_id_in=17W&lvnr_id_in=432034\n
CLASS:PUBLIC
DTSTART:20180125T160000Z
DTEND:20180125T164500Z
DTSTAMP:20260419T123857Z
LOCATION:SR  9 (Sowi)
END:VEVENT
BEGIN:VEVENT
UID:17W_432034_3035638@uibk.ac.at
ORGANIZER;CN="LFU:online Universität Innsbruck":MAILTO:Uni-Innsbruck-noreply@uibk.ac.at
SUMMARY:PS Einführung in die Makroökonomik: Kreislauf, Konjunktur und Wachstum (LV 432034-0 17W)
DESCRIPTION:Lehrveranstaltung 432034 17W, Gruppe 0\nTitel: PS Einführung in die Makroökonomik: Kreislauf, Konjunktur und Wachstum\nOrt: SR  9 (Sowi)\n\nhttps://lfuonline.uibk.ac.at/public/lfuonline_lv.details?sem_id_in=17W&lvnr_id_in=432034\n
CLASS:PUBLIC
DTSTART:20180201T160000Z
DTEND:20180201T164500Z
DTSTAMP:20260419T123857Z
LOCATION:SR  9 (Sowi)
END:VEVENT
END:VCALENDAR