BEGIN:VCALENDAR
VERSION:2.0
PRODID:-//Universität Innsbruck//LFU:online//DE
METHOD:PUBLISH
BEGIN:VEVENT
UID:17W_432035_3035643@uibk.ac.at
ORGANIZER;CN="LFU:online Universität Innsbruck":MAILTO:Uni-Innsbruck-noreply@uibk.ac.at
SUMMARY:PS Einführung in die Makroökonomik: Kreislauf, Konjunktur und Wachstum (LV 432035-0 17W)
DESCRIPTION:Lehrveranstaltung 432035 17W, Gruppe 0\nTitel: PS Einführung in die Makroökonomik: Kreislauf, Konjunktur und Wachstum\nOrt: SR  4 (Sowi)\n\nhttps://lfuonline.uibk.ac.at/public/lfuonline_lv.details?sem_id_in=17W&lvnr_id_in=432035\n
CLASS:PUBLIC
DTSTART:20171005T160000Z
DTEND:20171005T164500Z
DTSTAMP:20260419T123857Z
LOCATION:SR  4 (Sowi)
END:VEVENT
BEGIN:VEVENT
UID:17W_432035_3035644@uibk.ac.at
ORGANIZER;CN="LFU:online Universität Innsbruck":MAILTO:Uni-Innsbruck-noreply@uibk.ac.at
SUMMARY:PS Einführung in die Makroökonomik: Kreislauf, Konjunktur und Wachstum (LV 432035-0 17W)
DESCRIPTION:Lehrveranstaltung 432035 17W, Gruppe 0\nTitel: PS Einführung in die Makroökonomik: Kreislauf, Konjunktur und Wachstum\nOrt: SR  4 (Sowi)\n\nhttps://lfuonline.uibk.ac.at/public/lfuonline_lv.details?sem_id_in=17W&lvnr_id_in=432035\n
CLASS:PUBLIC
DTSTART:20171012T160000Z
DTEND:20171012T164500Z
DTSTAMP:20260419T123857Z
LOCATION:SR  4 (Sowi)
END:VEVENT
BEGIN:VEVENT
UID:17W_432035_3035645@uibk.ac.at
ORGANIZER;CN="LFU:online Universität Innsbruck":MAILTO:Uni-Innsbruck-noreply@uibk.ac.at
SUMMARY:PS Einführung in die Makroökonomik: Kreislauf, Konjunktur und Wachstum (LV 432035-0 17W)
DESCRIPTION:Lehrveranstaltung 432035 17W, Gruppe 0\nTitel: PS Einführung in die Makroökonomik: Kreislauf, Konjunktur und Wachstum\nOrt: SR  4 (Sowi)\n\nhttps://lfuonline.uibk.ac.at/public/lfuonline_lv.details?sem_id_in=17W&lvnr_id_in=432035\n
CLASS:PUBLIC
DTSTART:20171019T160000Z
DTEND:20171019T164500Z
DTSTAMP:20260419T123857Z
LOCATION:SR  4 (Sowi)
END:VEVENT
BEGIN:VEVENT
UID:17W_432035_3035646@uibk.ac.at
ORGANIZER;CN="LFU:online Universität Innsbruck":MAILTO:Uni-Innsbruck-noreply@uibk.ac.at
SUMMARY:PS Einführung in die Makroökonomik: Kreislauf, Konjunktur und Wachstum (LV 432035-0 17W)
DESCRIPTION:Lehrveranstaltung 432035 17W, Gruppe 0\nTitel: PS Einführung in die Makroökonomik: Kreislauf, Konjunktur und Wachstum\nOrt: SR  4 (Sowi)\n\nhttps://lfuonline.uibk.ac.at/public/lfuonline_lv.details?sem_id_in=17W&lvnr_id_in=432035\n
CLASS:PUBLIC
DTSTART:20171109T170000Z
DTEND:20171109T174500Z
DTSTAMP:20260419T123857Z
LOCATION:SR  4 (Sowi)
END:VEVENT
BEGIN:VEVENT
UID:17W_432035_3035647@uibk.ac.at
ORGANIZER;CN="LFU:online Universität Innsbruck":MAILTO:Uni-Innsbruck-noreply@uibk.ac.at
SUMMARY:PS Einführung in die Makroökonomik: Kreislauf, Konjunktur und Wachstum (LV 432035-0 17W)
DESCRIPTION:Lehrveranstaltung 432035 17W, Gruppe 0\nTitel: PS Einführung in die Makroökonomik: Kreislauf, Konjunktur und Wachstum\nOrt: SR  4 (Sowi)\n\nhttps://lfuonline.uibk.ac.at/public/lfuonline_lv.details?sem_id_in=17W&lvnr_id_in=432035\n
CLASS:PUBLIC
DTSTART:20171116T170000Z
DTEND:20171116T174500Z
DTSTAMP:20260419T123857Z
LOCATION:SR  4 (Sowi)
END:VEVENT
BEGIN:VEVENT
UID:17W_432035_3035648@uibk.ac.at
ORGANIZER;CN="LFU:online Universität Innsbruck":MAILTO:Uni-Innsbruck-noreply@uibk.ac.at
SUMMARY:PS Einführung in die Makroökonomik: Kreislauf, Konjunktur und Wachstum (LV 432035-0 17W)
DESCRIPTION:Lehrveranstaltung 432035 17W, Gruppe 0\nTitel: PS Einführung in die Makroökonomik: Kreislauf, Konjunktur und Wachstum\nOrt: SR  4 (Sowi)\n\nhttps://lfuonline.uibk.ac.at/public/lfuonline_lv.details?sem_id_in=17W&lvnr_id_in=432035\n
CLASS:PUBLIC
DTSTART:20171123T170000Z
DTEND:20171123T174500Z
DTSTAMP:20260419T123857Z
LOCATION:SR  4 (Sowi)
END:VEVENT
BEGIN:VEVENT
UID:17W_432035_3035649@uibk.ac.at
ORGANIZER;CN="LFU:online Universität Innsbruck":MAILTO:Uni-Innsbruck-noreply@uibk.ac.at
SUMMARY:PS Einführung in die Makroökonomik: Kreislauf, Konjunktur und Wachstum (LV 432035-0 17W)
DESCRIPTION:Lehrveranstaltung 432035 17W, Gruppe 0\nTitel: PS Einführung in die Makroökonomik: Kreislauf, Konjunktur und Wachstum\nOrt: SR  4 (Sowi)\n\nhttps://lfuonline.uibk.ac.at/public/lfuonline_lv.details?sem_id_in=17W&lvnr_id_in=432035\n
CLASS:PUBLIC
DTSTART:20171130T170000Z
DTEND:20171130T174500Z
DTSTAMP:20260419T123857Z
LOCATION:SR  4 (Sowi)
END:VEVENT
BEGIN:VEVENT
UID:17W_432035_3035650@uibk.ac.at
ORGANIZER;CN="LFU:online Universität Innsbruck":MAILTO:Uni-Innsbruck-noreply@uibk.ac.at
SUMMARY:PS Einführung in die Makroökonomik: Kreislauf, Konjunktur und Wachstum (LV 432035-0 17W)
DESCRIPTION:Lehrveranstaltung 432035 17W, Gruppe 0\nTitel: PS Einführung in die Makroökonomik: Kreislauf, Konjunktur und Wachstum\nOrt: SR  4 (Sowi)\n\nhttps://lfuonline.uibk.ac.at/public/lfuonline_lv.details?sem_id_in=17W&lvnr_id_in=432035\n
CLASS:PUBLIC
DTSTART:20171207T170000Z
DTEND:20171207T174500Z
DTSTAMP:20260419T123857Z
LOCATION:SR  4 (Sowi)
END:VEVENT
BEGIN:VEVENT
UID:17W_432035_3035651@uibk.ac.at
ORGANIZER;CN="LFU:online Universität Innsbruck":MAILTO:Uni-Innsbruck-noreply@uibk.ac.at
SUMMARY:PS Einführung in die Makroökonomik: Kreislauf, Konjunktur und Wachstum (LV 432035-0 17W)
DESCRIPTION:Lehrveranstaltung 432035 17W, Gruppe 0\nTitel: PS Einführung in die Makroökonomik: Kreislauf, Konjunktur und Wachstum\nOrt: SR  4 (Sowi)\n\nhttps://lfuonline.uibk.ac.at/public/lfuonline_lv.details?sem_id_in=17W&lvnr_id_in=432035\n
CLASS:PUBLIC
DTSTART:20171214T170000Z
DTEND:20171214T174500Z
DTSTAMP:20260419T123857Z
LOCATION:SR  4 (Sowi)
END:VEVENT
BEGIN:VEVENT
UID:17W_432035_3035661@uibk.ac.at
ORGANIZER;CN="LFU:online Universität Innsbruck":MAILTO:Uni-Innsbruck-noreply@uibk.ac.at
SUMMARY:PS Einführung in die Makroökonomik: Kreislauf, Konjunktur und Wachstum (LV 432035-0 17W)
DESCRIPTION:Lehrveranstaltung 432035 17W, Gruppe 0\nTitel: PS Einführung in die Makroökonomik: Kreislauf, Konjunktur und Wachstum\nOrt: SR  4 (Sowi)\n\nhttps://lfuonline.uibk.ac.at/public/lfuonline_lv.details?sem_id_in=17W&lvnr_id_in=432035\n
CLASS:PUBLIC
DTSTART:20180111T170000Z
DTEND:20180111T174500Z
DTSTAMP:20260419T123857Z
LOCATION:SR  4 (Sowi)
END:VEVENT
BEGIN:VEVENT
UID:17W_432035_3035662@uibk.ac.at
ORGANIZER;CN="LFU:online Universität Innsbruck":MAILTO:Uni-Innsbruck-noreply@uibk.ac.at
SUMMARY:PS Einführung in die Makroökonomik: Kreislauf, Konjunktur und Wachstum (LV 432035-0 17W)
DESCRIPTION:Lehrveranstaltung 432035 17W, Gruppe 0\nTitel: PS Einführung in die Makroökonomik: Kreislauf, Konjunktur und Wachstum\nOrt: SR  4 (Sowi)\n\nhttps://lfuonline.uibk.ac.at/public/lfuonline_lv.details?sem_id_in=17W&lvnr_id_in=432035\n
CLASS:PUBLIC
DTSTART:20180118T170000Z
DTEND:20180118T174500Z
DTSTAMP:20260419T123857Z
LOCATION:SR  4 (Sowi)
END:VEVENT
BEGIN:VEVENT
UID:17W_432035_3035663@uibk.ac.at
ORGANIZER;CN="LFU:online Universität Innsbruck":MAILTO:Uni-Innsbruck-noreply@uibk.ac.at
SUMMARY:PS Einführung in die Makroökonomik: Kreislauf, Konjunktur und Wachstum (LV 432035-0 17W)
DESCRIPTION:Lehrveranstaltung 432035 17W, Gruppe 0\nTitel: PS Einführung in die Makroökonomik: Kreislauf, Konjunktur und Wachstum\nOrt: SR  4 (Sowi)\n\nhttps://lfuonline.uibk.ac.at/public/lfuonline_lv.details?sem_id_in=17W&lvnr_id_in=432035\n
CLASS:PUBLIC
DTSTART:20180125T170000Z
DTEND:20180125T174500Z
DTSTAMP:20260419T123857Z
LOCATION:SR  4 (Sowi)
END:VEVENT
BEGIN:VEVENT
UID:17W_432035_3035664@uibk.ac.at
ORGANIZER;CN="LFU:online Universität Innsbruck":MAILTO:Uni-Innsbruck-noreply@uibk.ac.at
SUMMARY:PS Einführung in die Makroökonomik: Kreislauf, Konjunktur und Wachstum (LV 432035-0 17W)
DESCRIPTION:Lehrveranstaltung 432035 17W, Gruppe 0\nTitel: PS Einführung in die Makroökonomik: Kreislauf, Konjunktur und Wachstum\nOrt: SR  4 (Sowi)\n\nhttps://lfuonline.uibk.ac.at/public/lfuonline_lv.details?sem_id_in=17W&lvnr_id_in=432035\n
CLASS:PUBLIC
DTSTART:20180201T170000Z
DTEND:20180201T174500Z
DTSTAMP:20260419T123857Z
LOCATION:SR  4 (Sowi)
END:VEVENT
END:VCALENDAR