BEGIN:VCALENDAR
VERSION:2.0
PRODID:-//Universität Innsbruck//LFU:online//DE
METHOD:PUBLISH
BEGIN:VEVENT
UID:17W_432038_2923799@uibk.ac.at
ORGANIZER;CN="LFU:online Universität Innsbruck":MAILTO:Uni-Innsbruck-noreply@uibk.ac.at
SUMMARY:PS Einführung in die Makroökonomik: Kreislauf, Konjunktur und Wachstum (LV 432038-0 17W)
DESCRIPTION:Lehrveranstaltung 432038 17W, Gruppe 0\nTitel: PS Einführung in die Makroökonomik: Kreislauf, Konjunktur und Wachstum\nOrt: SR  9 (Sowi)\n\nhttps://lfuonline.uibk.ac.at/public/lfuonline_lv.details?sem_id_in=17W&lvnr_id_in=432038\n
CLASS:PUBLIC
DTSTART:20171006T070000Z
DTEND:20171006T084500Z
DTSTAMP:20260419T123857Z
LOCATION:SR  9 (Sowi)
END:VEVENT
BEGIN:VEVENT
UID:17W_432038_2923800@uibk.ac.at
ORGANIZER;CN="LFU:online Universität Innsbruck":MAILTO:Uni-Innsbruck-noreply@uibk.ac.at
SUMMARY:PS Einführung in die Makroökonomik: Kreislauf, Konjunktur und Wachstum (LV 432038-0 17W)
DESCRIPTION:Lehrveranstaltung 432038 17W, Gruppe 0\nTitel: PS Einführung in die Makroökonomik: Kreislauf, Konjunktur und Wachstum\nOrt: SR  9 (Sowi)\n\nhttps://lfuonline.uibk.ac.at/public/lfuonline_lv.details?sem_id_in=17W&lvnr_id_in=432038\n
CLASS:PUBLIC
DTSTART:20171020T070000Z
DTEND:20171020T084500Z
DTSTAMP:20260419T123857Z
LOCATION:SR  9 (Sowi)
END:VEVENT
BEGIN:VEVENT
UID:17W_432038_2923801@uibk.ac.at
ORGANIZER;CN="LFU:online Universität Innsbruck":MAILTO:Uni-Innsbruck-noreply@uibk.ac.at
SUMMARY:PS Einführung in die Makroökonomik: Kreislauf, Konjunktur und Wachstum (LV 432038-0 17W)
DESCRIPTION:Lehrveranstaltung 432038 17W, Gruppe 0\nTitel: PS Einführung in die Makroökonomik: Kreislauf, Konjunktur und Wachstum\nOrt: SR  9 (Sowi)\n\nhttps://lfuonline.uibk.ac.at/public/lfuonline_lv.details?sem_id_in=17W&lvnr_id_in=432038\n
CLASS:PUBLIC
DTSTART:20171103T080000Z
DTEND:20171103T094500Z
DTSTAMP:20260419T123857Z
LOCATION:SR  9 (Sowi)
END:VEVENT
BEGIN:VEVENT
UID:17W_432038_2923802@uibk.ac.at
ORGANIZER;CN="LFU:online Universität Innsbruck":MAILTO:Uni-Innsbruck-noreply@uibk.ac.at
SUMMARY:PS Einführung in die Makroökonomik: Kreislauf, Konjunktur und Wachstum (LV 432038-0 17W)
DESCRIPTION:Lehrveranstaltung 432038 17W, Gruppe 0\nTitel: PS Einführung in die Makroökonomik: Kreislauf, Konjunktur und Wachstum\nOrt: SR  9 (Sowi)\n\nhttps://lfuonline.uibk.ac.at/public/lfuonline_lv.details?sem_id_in=17W&lvnr_id_in=432038\n
CLASS:PUBLIC
DTSTART:20171117T080000Z
DTEND:20171117T094500Z
DTSTAMP:20260419T123857Z
LOCATION:SR  9 (Sowi)
END:VEVENT
BEGIN:VEVENT
UID:17W_432038_2923803@uibk.ac.at
ORGANIZER;CN="LFU:online Universität Innsbruck":MAILTO:Uni-Innsbruck-noreply@uibk.ac.at
SUMMARY:PS Einführung in die Makroökonomik: Kreislauf, Konjunktur und Wachstum (LV 432038-0 17W)
DESCRIPTION:Lehrveranstaltung 432038 17W, Gruppe 0\nTitel: PS Einführung in die Makroökonomik: Kreislauf, Konjunktur und Wachstum\nOrt: SR  9 (Sowi)\n\nhttps://lfuonline.uibk.ac.at/public/lfuonline_lv.details?sem_id_in=17W&lvnr_id_in=432038\n
CLASS:PUBLIC
DTSTART:20171201T080000Z
DTEND:20171201T094500Z
DTSTAMP:20260419T123857Z
LOCATION:SR  9 (Sowi)
END:VEVENT
BEGIN:VEVENT
UID:17W_432038_2923804@uibk.ac.at
ORGANIZER;CN="LFU:online Universität Innsbruck":MAILTO:Uni-Innsbruck-noreply@uibk.ac.at
SUMMARY:PS Einführung in die Makroökonomik: Kreislauf, Konjunktur und Wachstum (LV 432038-0 17W)
DESCRIPTION:Lehrveranstaltung 432038 17W, Gruppe 0\nTitel: PS Einführung in die Makroökonomik: Kreislauf, Konjunktur und Wachstum\nOrt: SR  9 (Sowi)\n\nhttps://lfuonline.uibk.ac.at/public/lfuonline_lv.details?sem_id_in=17W&lvnr_id_in=432038\n
CLASS:PUBLIC
DTSTART:20171215T080000Z
DTEND:20171215T094500Z
DTSTAMP:20260419T123857Z
LOCATION:SR  9 (Sowi)
END:VEVENT
BEGIN:VEVENT
UID:17W_432038_3034694@uibk.ac.at
ORGANIZER;CN="LFU:online Universität Innsbruck":MAILTO:Uni-Innsbruck-noreply@uibk.ac.at
SUMMARY:PS Einführung in die Makroökonomik: Kreislauf, Konjunktur und Wachstum (LV 432038-0 17W)
DESCRIPTION:Lehrveranstaltung 432038 17W, Gruppe 0\nTitel: PS Einführung in die Makroökonomik: Kreislauf, Konjunktur und Wachstum\nOrt: SR  9 (Sowi)\n\nhttps://lfuonline.uibk.ac.at/public/lfuonline_lv.details?sem_id_in=17W&lvnr_id_in=432038\n
CLASS:PUBLIC
DTSTART:20180112T080000Z
DTEND:20180112T094500Z
DTSTAMP:20260419T123857Z
LOCATION:SR  9 (Sowi)
END:VEVENT
BEGIN:VEVENT
UID:17W_432038_3034696@uibk.ac.at
ORGANIZER;CN="LFU:online Universität Innsbruck":MAILTO:Uni-Innsbruck-noreply@uibk.ac.at
SUMMARY:PS Einführung in die Makroökonomik: Kreislauf, Konjunktur und Wachstum (LV 432038-0 17W)
DESCRIPTION:Lehrveranstaltung 432038 17W, Gruppe 0\nTitel: PS Einführung in die Makroökonomik: Kreislauf, Konjunktur und Wachstum\nOrt: HS 1 (Sowi)\n\nhttps://lfuonline.uibk.ac.at/public/lfuonline_lv.details?sem_id_in=17W&lvnr_id_in=432038\n
CLASS:PUBLIC
DTSTART:20180119T080000Z
DTEND:20180119T094500Z
DTSTAMP:20260419T123857Z
LOCATION:HS 1 (Sowi)
COMMENT:Prüfung gem. mit PS 432039
END:VEVENT
END:VCALENDAR