BEGIN:VCALENDAR
VERSION:2.0
PRODID:-//Universität Innsbruck//LFU:online//DE
METHOD:PUBLISH
BEGIN:VEVENT
UID:17W_432039_2923793@uibk.ac.at
ORGANIZER;CN="LFU:online Universität Innsbruck":MAILTO:Uni-Innsbruck-noreply@uibk.ac.at
SUMMARY:PS Einführung in die Makroökonomik: Kreislauf, Konjunktur und Wachstum (LV 432039-0 17W)
DESCRIPTION:Lehrveranstaltung 432039 17W, Gruppe 0\nTitel: PS Einführung in die Makroökonomik: Kreislauf, Konjunktur und Wachstum\nOrt: SR  9 (Sowi)\n\nhttps://lfuonline.uibk.ac.at/public/lfuonline_lv.details?sem_id_in=17W&lvnr_id_in=432039\n
CLASS:PUBLIC
DTSTART:20171006T090000Z
DTEND:20171006T104500Z
DTSTAMP:20260419T123927Z
LOCATION:SR  9 (Sowi)
END:VEVENT
BEGIN:VEVENT
UID:17W_432039_2923794@uibk.ac.at
ORGANIZER;CN="LFU:online Universität Innsbruck":MAILTO:Uni-Innsbruck-noreply@uibk.ac.at
SUMMARY:PS Einführung in die Makroökonomik: Kreislauf, Konjunktur und Wachstum (LV 432039-0 17W)
DESCRIPTION:Lehrveranstaltung 432039 17W, Gruppe 0\nTitel: PS Einführung in die Makroökonomik: Kreislauf, Konjunktur und Wachstum\nOrt: SR  9 (Sowi)\n\nhttps://lfuonline.uibk.ac.at/public/lfuonline_lv.details?sem_id_in=17W&lvnr_id_in=432039\n
CLASS:PUBLIC
DTSTART:20171020T090000Z
DTEND:20171020T104500Z
DTSTAMP:20260419T123927Z
LOCATION:SR  9 (Sowi)
END:VEVENT
BEGIN:VEVENT
UID:17W_432039_2923795@uibk.ac.at
ORGANIZER;CN="LFU:online Universität Innsbruck":MAILTO:Uni-Innsbruck-noreply@uibk.ac.at
SUMMARY:PS Einführung in die Makroökonomik: Kreislauf, Konjunktur und Wachstum (LV 432039-0 17W)
DESCRIPTION:Lehrveranstaltung 432039 17W, Gruppe 0\nTitel: PS Einführung in die Makroökonomik: Kreislauf, Konjunktur und Wachstum\nOrt: SR  9 (Sowi)\n\nhttps://lfuonline.uibk.ac.at/public/lfuonline_lv.details?sem_id_in=17W&lvnr_id_in=432039\n
CLASS:PUBLIC
DTSTART:20171103T100000Z
DTEND:20171103T114500Z
DTSTAMP:20260419T123927Z
LOCATION:SR  9 (Sowi)
END:VEVENT
BEGIN:VEVENT
UID:17W_432039_2923796@uibk.ac.at
ORGANIZER;CN="LFU:online Universität Innsbruck":MAILTO:Uni-Innsbruck-noreply@uibk.ac.at
SUMMARY:PS Einführung in die Makroökonomik: Kreislauf, Konjunktur und Wachstum (LV 432039-0 17W)
DESCRIPTION:Lehrveranstaltung 432039 17W, Gruppe 0\nTitel: PS Einführung in die Makroökonomik: Kreislauf, Konjunktur und Wachstum\nOrt: SR  9 (Sowi)\n\nhttps://lfuonline.uibk.ac.at/public/lfuonline_lv.details?sem_id_in=17W&lvnr_id_in=432039\n
CLASS:PUBLIC
DTSTART:20171117T100000Z
DTEND:20171117T114500Z
DTSTAMP:20260419T123927Z
LOCATION:SR  9 (Sowi)
END:VEVENT
BEGIN:VEVENT
UID:17W_432039_2923797@uibk.ac.at
ORGANIZER;CN="LFU:online Universität Innsbruck":MAILTO:Uni-Innsbruck-noreply@uibk.ac.at
SUMMARY:PS Einführung in die Makroökonomik: Kreislauf, Konjunktur und Wachstum (LV 432039-0 17W)
DESCRIPTION:Lehrveranstaltung 432039 17W, Gruppe 0\nTitel: PS Einführung in die Makroökonomik: Kreislauf, Konjunktur und Wachstum\nOrt: SR  9 (Sowi)\n\nhttps://lfuonline.uibk.ac.at/public/lfuonline_lv.details?sem_id_in=17W&lvnr_id_in=432039\n
CLASS:PUBLIC
DTSTART:20171201T100000Z
DTEND:20171201T114500Z
DTSTAMP:20260419T123927Z
LOCATION:SR  9 (Sowi)
END:VEVENT
BEGIN:VEVENT
UID:17W_432039_2923798@uibk.ac.at
ORGANIZER;CN="LFU:online Universität Innsbruck":MAILTO:Uni-Innsbruck-noreply@uibk.ac.at
SUMMARY:PS Einführung in die Makroökonomik: Kreislauf, Konjunktur und Wachstum (LV 432039-0 17W)
DESCRIPTION:Lehrveranstaltung 432039 17W, Gruppe 0\nTitel: PS Einführung in die Makroökonomik: Kreislauf, Konjunktur und Wachstum\nOrt: SR  9 (Sowi)\n\nhttps://lfuonline.uibk.ac.at/public/lfuonline_lv.details?sem_id_in=17W&lvnr_id_in=432039\n
CLASS:PUBLIC
DTSTART:20171215T100000Z
DTEND:20171215T114500Z
DTSTAMP:20260419T123927Z
LOCATION:SR  9 (Sowi)
END:VEVENT
BEGIN:VEVENT
UID:17W_432039_3034693@uibk.ac.at
ORGANIZER;CN="LFU:online Universität Innsbruck":MAILTO:Uni-Innsbruck-noreply@uibk.ac.at
SUMMARY:PS Einführung in die Makroökonomik: Kreislauf, Konjunktur und Wachstum (LV 432039-0 17W)
DESCRIPTION:Lehrveranstaltung 432039 17W, Gruppe 0\nTitel: PS Einführung in die Makroökonomik: Kreislauf, Konjunktur und Wachstum\nOrt: SR  9 (Sowi)\n\nhttps://lfuonline.uibk.ac.at/public/lfuonline_lv.details?sem_id_in=17W&lvnr_id_in=432039\n
CLASS:PUBLIC
DTSTART:20180112T100000Z
DTEND:20180112T114500Z
DTSTAMP:20260419T123927Z
LOCATION:SR  9 (Sowi)
END:VEVENT
BEGIN:VEVENT
UID:17W_432039_3034699@uibk.ac.at
ORGANIZER;CN="LFU:online Universität Innsbruck":MAILTO:Uni-Innsbruck-noreply@uibk.ac.at
SUMMARY:PS Einführung in die Makroökonomik: Kreislauf, Konjunktur und Wachstum (LV 432039-0 17W)
DESCRIPTION:Lehrveranstaltung 432039 17W, Gruppe 0\nTitel: PS Einführung in die Makroökonomik: Kreislauf, Konjunktur und Wachstum\nOrt: HS 1 (Sowi)\n\nhttps://lfuonline.uibk.ac.at/public/lfuonline_lv.details?sem_id_in=17W&lvnr_id_in=432039\n
CLASS:PUBLIC
DTSTART:20180119T080000Z
DTEND:20180119T094500Z
DTSTAMP:20260419T123927Z
LOCATION:HS 1 (Sowi)
COMMENT:Prüfung gem. mit PS 432038
END:VEVENT
END:VCALENDAR