BEGIN:VCALENDAR
VERSION:2.0
PRODID:-//Universität Innsbruck//LFU:online//DE
METHOD:PUBLISH
BEGIN:VEVENT
UID:19S_432175_3196380@uibk.ac.at
ORGANIZER;CN="LFU:online Universität Innsbruck":MAILTO:Uni-Innsbruck-noreply@uibk.ac.at
SUMMARY:VU Ausgewählte ökonomische Themen: Wirtschafts- und Sozialgeschichte (LV 432175-0 19S)
DESCRIPTION:Lehrveranstaltung 432175 19S, Gruppe 0\nTitel: VU Ausgewählte ökonomische Themen: Wirtschafts- und Sozialgeschichte\nOrt: SR  9 (Sowi)\n\nhttps://lfuonline.uibk.ac.at/public/lfuonline_lv.details?sem_id_in=19S&lvnr_id_in=432175\n
CLASS:PUBLIC
DTSTART:20190311T160000Z
DTEND:20190311T184500Z
DTSTAMP:20260423T031258Z
LOCATION:SR  9 (Sowi)
END:VEVENT
BEGIN:VEVENT
UID:19S_432175_3196381@uibk.ac.at
ORGANIZER;CN="LFU:online Universität Innsbruck":MAILTO:Uni-Innsbruck-noreply@uibk.ac.at
SUMMARY:VU Ausgewählte ökonomische Themen: Wirtschafts- und Sozialgeschichte (LV 432175-0 19S)
DESCRIPTION:Lehrveranstaltung 432175 19S, Gruppe 0\nTitel: VU Ausgewählte ökonomische Themen: Wirtschafts- und Sozialgeschichte\nOrt: SR  9 (Sowi)\n\nhttps://lfuonline.uibk.ac.at/public/lfuonline_lv.details?sem_id_in=19S&lvnr_id_in=432175\n
CLASS:PUBLIC
DTSTART:20190318T160000Z
DTEND:20190318T184500Z
DTSTAMP:20260423T031258Z
LOCATION:SR  9 (Sowi)
END:VEVENT
BEGIN:VEVENT
UID:19S_432175_3196382@uibk.ac.at
ORGANIZER;CN="LFU:online Universität Innsbruck":MAILTO:Uni-Innsbruck-noreply@uibk.ac.at
SUMMARY:VU Ausgewählte ökonomische Themen: Wirtschafts- und Sozialgeschichte (LV 432175-0 19S)
DESCRIPTION:Lehrveranstaltung 432175 19S, Gruppe 0\nTitel: VU Ausgewählte ökonomische Themen: Wirtschafts- und Sozialgeschichte\nOrt: SR  9 (Sowi)\n\nhttps://lfuonline.uibk.ac.at/public/lfuonline_lv.details?sem_id_in=19S&lvnr_id_in=432175\n
CLASS:PUBLIC
DTSTART:20190325T160000Z
DTEND:20190325T184500Z
DTSTAMP:20260423T031258Z
LOCATION:SR  9 (Sowi)
END:VEVENT
BEGIN:VEVENT
UID:19S_432175_3196383@uibk.ac.at
ORGANIZER;CN="LFU:online Universität Innsbruck":MAILTO:Uni-Innsbruck-noreply@uibk.ac.at
SUMMARY:VU Ausgewählte ökonomische Themen: Wirtschafts- und Sozialgeschichte (LV 432175-0 19S)
DESCRIPTION:Lehrveranstaltung 432175 19S, Gruppe 0\nTitel: VU Ausgewählte ökonomische Themen: Wirtschafts- und Sozialgeschichte\nOrt: SR  9 (Sowi)\n\nhttps://lfuonline.uibk.ac.at/public/lfuonline_lv.details?sem_id_in=19S&lvnr_id_in=432175\n
CLASS:PUBLIC
DTSTART:20190401T150000Z
DTEND:20190401T174500Z
DTSTAMP:20260423T031258Z
LOCATION:SR  9 (Sowi)
END:VEVENT
BEGIN:VEVENT
UID:19S_432175_3196384@uibk.ac.at
ORGANIZER;CN="LFU:online Universität Innsbruck":MAILTO:Uni-Innsbruck-noreply@uibk.ac.at
SUMMARY:VU Ausgewählte ökonomische Themen: Wirtschafts- und Sozialgeschichte (LV 432175-0 19S)
DESCRIPTION:Lehrveranstaltung 432175 19S, Gruppe 0\nTitel: VU Ausgewählte ökonomische Themen: Wirtschafts- und Sozialgeschichte\nOrt: SR  9 (Sowi)\n\nhttps://lfuonline.uibk.ac.at/public/lfuonline_lv.details?sem_id_in=19S&lvnr_id_in=432175\n
CLASS:PUBLIC
DTSTART:20190408T150000Z
DTEND:20190408T174500Z
DTSTAMP:20260423T031258Z
LOCATION:SR  9 (Sowi)
END:VEVENT
BEGIN:VEVENT
UID:19S_432175_3196385@uibk.ac.at
ORGANIZER;CN="LFU:online Universität Innsbruck":MAILTO:Uni-Innsbruck-noreply@uibk.ac.at
SUMMARY:VU Ausgewählte ökonomische Themen: Wirtschafts- und Sozialgeschichte (LV 432175-0 19S)
DESCRIPTION:Lehrveranstaltung 432175 19S, Gruppe 0\nTitel: VU Ausgewählte ökonomische Themen: Wirtschafts- und Sozialgeschichte\nOrt: SR  9 (Sowi)\n\nhttps://lfuonline.uibk.ac.at/public/lfuonline_lv.details?sem_id_in=19S&lvnr_id_in=432175\n
CLASS:PUBLIC
DTSTART:20190429T150000Z
DTEND:20190429T174500Z
DTSTAMP:20260423T031258Z
LOCATION:SR  9 (Sowi)
END:VEVENT
BEGIN:VEVENT
UID:19S_432175_3196386@uibk.ac.at
ORGANIZER;CN="LFU:online Universität Innsbruck":MAILTO:Uni-Innsbruck-noreply@uibk.ac.at
SUMMARY:VU Ausgewählte ökonomische Themen: Wirtschafts- und Sozialgeschichte (LV 432175-0 19S)
DESCRIPTION:Lehrveranstaltung 432175 19S, Gruppe 0\nTitel: VU Ausgewählte ökonomische Themen: Wirtschafts- und Sozialgeschichte\nOrt: SR  9 (Sowi)\n\nhttps://lfuonline.uibk.ac.at/public/lfuonline_lv.details?sem_id_in=19S&lvnr_id_in=432175\n
CLASS:PUBLIC
DTSTART:20190506T150000Z
DTEND:20190506T174500Z
DTSTAMP:20260423T031258Z
LOCATION:SR  9 (Sowi)
END:VEVENT
BEGIN:VEVENT
UID:19S_432175_3196387@uibk.ac.at
ORGANIZER;CN="LFU:online Universität Innsbruck":MAILTO:Uni-Innsbruck-noreply@uibk.ac.at
SUMMARY:VU Ausgewählte ökonomische Themen: Wirtschafts- und Sozialgeschichte (LV 432175-0 19S)
DESCRIPTION:Lehrveranstaltung 432175 19S, Gruppe 0\nTitel: VU Ausgewählte ökonomische Themen: Wirtschafts- und Sozialgeschichte\nOrt: SR  9 (Sowi)\n\nhttps://lfuonline.uibk.ac.at/public/lfuonline_lv.details?sem_id_in=19S&lvnr_id_in=432175\n
CLASS:PUBLIC
DTSTART:20190513T150000Z
DTEND:20190513T174500Z
DTSTAMP:20260423T031258Z
LOCATION:SR  9 (Sowi)
END:VEVENT
BEGIN:VEVENT
UID:19S_432175_3196388@uibk.ac.at
ORGANIZER;CN="LFU:online Universität Innsbruck":MAILTO:Uni-Innsbruck-noreply@uibk.ac.at
SUMMARY:VU Ausgewählte ökonomische Themen: Wirtschafts- und Sozialgeschichte (LV 432175-0 19S)
DESCRIPTION:Lehrveranstaltung 432175 19S, Gruppe 0\nTitel: VU Ausgewählte ökonomische Themen: Wirtschafts- und Sozialgeschichte\nOrt: SR  9 (Sowi)\n\nhttps://lfuonline.uibk.ac.at/public/lfuonline_lv.details?sem_id_in=19S&lvnr_id_in=432175\n
CLASS:PUBLIC
DTSTART:20190520T150000Z
DTEND:20190520T174500Z
DTSTAMP:20260423T031258Z
LOCATION:SR  9 (Sowi)
END:VEVENT
BEGIN:VEVENT
UID:19S_432175_3196389@uibk.ac.at
ORGANIZER;CN="LFU:online Universität Innsbruck":MAILTO:Uni-Innsbruck-noreply@uibk.ac.at
SUMMARY:VU Ausgewählte ökonomische Themen: Wirtschafts- und Sozialgeschichte (LV 432175-0 19S)
DESCRIPTION:Lehrveranstaltung 432175 19S, Gruppe 0\nTitel: VU Ausgewählte ökonomische Themen: Wirtschafts- und Sozialgeschichte\nOrt: SR  9 (Sowi)\n\nhttps://lfuonline.uibk.ac.at/public/lfuonline_lv.details?sem_id_in=19S&lvnr_id_in=432175\n
CLASS:PUBLIC
DTSTART:20190527T150000Z
DTEND:20190527T174500Z
DTSTAMP:20260423T031258Z
LOCATION:SR  9 (Sowi)
END:VEVENT
BEGIN:VEVENT
UID:19S_432175_3196390@uibk.ac.at
ORGANIZER;CN="LFU:online Universität Innsbruck":MAILTO:Uni-Innsbruck-noreply@uibk.ac.at
SUMMARY:VU Ausgewählte ökonomische Themen: Wirtschafts- und Sozialgeschichte (LV 432175-0 19S)
DESCRIPTION:Lehrveranstaltung 432175 19S, Gruppe 0\nTitel: VU Ausgewählte ökonomische Themen: Wirtschafts- und Sozialgeschichte\nOrt: SR  9 (Sowi)\n\nhttps://lfuonline.uibk.ac.at/public/lfuonline_lv.details?sem_id_in=19S&lvnr_id_in=432175\n
CLASS:PUBLIC
DTSTART:20190603T150000Z
DTEND:20190603T174500Z
DTSTAMP:20260423T031258Z
LOCATION:SR  9 (Sowi)
END:VEVENT
BEGIN:VEVENT
UID:19S_432175_3334304@uibk.ac.at
ORGANIZER;CN="LFU:online Universität Innsbruck":MAILTO:Uni-Innsbruck-noreply@uibk.ac.at
SUMMARY:VU Ausgewählte ökonomische Themen: Wirtschafts- und Sozialgeschichte (LV 432175-0 19S)
DESCRIPTION:Lehrveranstaltung 432175 19S, Gruppe 0\nTitel: VU Ausgewählte ökonomische Themen: Wirtschafts- und Sozialgeschichte\nOrt: SR  6 (Sowi)\n\nhttps://lfuonline.uibk.ac.at/public/lfuonline_lv.details?sem_id_in=19S&lvnr_id_in=432175\n
CLASS:PUBLIC
DTSTART:20190607T100000Z
DTEND:20190607T174500Z
DTSTAMP:20260423T031258Z
LOCATION:SR  6 (Sowi)
END:VEVENT
BEGIN:VEVENT
UID:19S_432175_3333374@uibk.ac.at
ORGANIZER;CN="LFU:online Universität Innsbruck":MAILTO:Uni-Innsbruck-noreply@uibk.ac.at
SUMMARY:VU Ausgewählte ökonomische Themen: Wirtschafts- und Sozialgeschichte (LV 432175-0 19S)
DESCRIPTION:Lehrveranstaltung 432175 19S, Gruppe 0\nTitel: VU Ausgewählte ökonomische Themen: Wirtschafts- und Sozialgeschichte\nOrt: SR  9 (Sowi)\n\nhttps://lfuonline.uibk.ac.at/public/lfuonline_lv.details?sem_id_in=19S&lvnr_id_in=432175\n
CLASS:PUBLIC
DTSTART:20190608T070000Z
DTEND:20190608T104500Z
DTSTAMP:20260423T031258Z
LOCATION:SR  9 (Sowi)
END:VEVENT
BEGIN:VEVENT
UID:19S_432175_3196392@uibk.ac.at
ORGANIZER;CN="LFU:online Universität Innsbruck":MAILTO:Uni-Innsbruck-noreply@uibk.ac.at
SUMMARY:VU Ausgewählte ökonomische Themen: Wirtschafts- und Sozialgeschichte (LV 432175-0 19S)
DESCRIPTION:Lehrveranstaltung 432175 19S, Gruppe 0\nTitel: VU Ausgewählte ökonomische Themen: Wirtschafts- und Sozialgeschichte\nOrt: SR  9 (Sowi)\n\nhttps://lfuonline.uibk.ac.at/public/lfuonline_lv.details?sem_id_in=19S&lvnr_id_in=432175\n
CLASS:PUBLIC
DTSTART:20190624T150000Z
DTEND:20190624T174500Z
DTSTAMP:20260423T031258Z
LOCATION:SR  9 (Sowi)
END:VEVENT
END:VCALENDAR