BEGIN:VCALENDAR
VERSION:2.0
PRODID:-//Universität Innsbruck//LFU:online//DE
METHOD:PUBLISH
BEGIN:VEVENT
UID:21W_433202_3840259@uibk.ac.at
ORGANIZER;CN="LFU:online Universität Innsbruck":MAILTO:Uni-Innsbruck-noreply@uibk.ac.at
SUMMARY:UE Wirtschaftspädagogik konkret erlebt (LV 433202-0 21W)
DESCRIPTION:Lehrveranstaltung 433202 21W, Gruppe 0\nTitel: UE Wirtschaftspädagogik konkret erlebt\nOrt: eLecture - online\n\nhttps://lfuonline.uibk.ac.at/public/lfuonline_lv.details?sem_id_in=21W&lvnr_id_in=433202\n
CLASS:PUBLIC
DTSTART:20211118T080000Z
DTEND:20211118T114500Z
DTSTAMP:20260420T005320Z
LOCATION:eLecture - online
END:VEVENT
BEGIN:VEVENT
UID:21W_433202_3840262@uibk.ac.at
ORGANIZER;CN="LFU:online Universität Innsbruck":MAILTO:Uni-Innsbruck-noreply@uibk.ac.at
SUMMARY:UE Wirtschaftspädagogik konkret erlebt (LV 433202-0 21W)
DESCRIPTION:Lehrveranstaltung 433202 21W, Gruppe 0\nTitel: UE Wirtschaftspädagogik konkret erlebt\nOrt: eLecture - online\n\nhttps://lfuonline.uibk.ac.at/public/lfuonline_lv.details?sem_id_in=21W&lvnr_id_in=433202\n
CLASS:PUBLIC
DTSTART:20211120T080000Z
DTEND:20211120T154500Z
DTSTAMP:20260420T005320Z
LOCATION:eLecture - online
END:VEVENT
END:VCALENDAR