BEGIN:VCALENDAR
VERSION:2.0
PRODID:-//Universität Innsbruck//LFU:online//DE
METHOD:PUBLISH
BEGIN:VEVENT
UID:21W_433203_3829297@uibk.ac.at
ORGANIZER;CN="LFU:online Universität Innsbruck":MAILTO:Uni-Innsbruck-noreply@uibk.ac.at
SUMMARY:UE Wirtschaftspädagogik konkret erlebt (LV 433203-0 21W)
DESCRIPTION:Lehrveranstaltung 433203 21W, Gruppe 0\nTitel: UE Wirtschaftspädagogik konkret erlebt\nOrt: SR  8 (Sowi)\n\nhttps://lfuonline.uibk.ac.at/public/lfuonline_lv.details?sem_id_in=21W&lvnr_id_in=433203\n
CLASS:PUBLIC
DTSTART:20211014T120000Z
DTEND:20211014T144500Z
DTSTAMP:20260420T005320Z
LOCATION:SR  8 (Sowi)
END:VEVENT
BEGIN:VEVENT
UID:21W_433203_3829298@uibk.ac.at
ORGANIZER;CN="LFU:online Universität Innsbruck":MAILTO:Uni-Innsbruck-noreply@uibk.ac.at
SUMMARY:UE Wirtschaftspädagogik konkret erlebt (LV 433203-0 21W)
DESCRIPTION:Lehrveranstaltung 433203 21W, Gruppe 0\nTitel: UE Wirtschaftspädagogik konkret erlebt\nOrt: SR  8 (Sowi)\n\nhttps://lfuonline.uibk.ac.at/public/lfuonline_lv.details?sem_id_in=21W&lvnr_id_in=433203\n
CLASS:PUBLIC
DTSTART:20220113T130000Z
DTEND:20220113T154500Z
DTSTAMP:20260420T005320Z
LOCATION:SR  8 (Sowi)
END:VEVENT
BEGIN:VEVENT
UID:21W_433203_3829299@uibk.ac.at
ORGANIZER;CN="LFU:online Universität Innsbruck":MAILTO:Uni-Innsbruck-noreply@uibk.ac.at
SUMMARY:UE Wirtschaftspädagogik konkret erlebt (LV 433203-0 21W)
DESCRIPTION:Lehrveranstaltung 433203 21W, Gruppe 0\nTitel: UE Wirtschaftspädagogik konkret erlebt\nOrt: SR  8 (Sowi)\n\nhttps://lfuonline.uibk.ac.at/public/lfuonline_lv.details?sem_id_in=21W&lvnr_id_in=433203\n
CLASS:PUBLIC
DTSTART:20220120T130000Z
DTEND:20220120T154500Z
DTSTAMP:20260420T005320Z
LOCATION:SR  8 (Sowi)
END:VEVENT
END:VCALENDAR