BEGIN:VCALENDAR
VERSION:2.0
PRODID:-//Universität Innsbruck//LFU:online//DE
METHOD:PUBLISH
BEGIN:VEVENT
UID:20W_434210_3628363@uibk.ac.at
ORGANIZER;CN="LFU:online Universität Innsbruck":MAILTO:Uni-Innsbruck-noreply@uibk.ac.at
SUMMARY:VU Finanzmärkte, Asset Management und Bewertung von Finanzinstrumenten (LV 434210-0 20W)
DESCRIPTION:Lehrveranstaltung 434210 20W, Gruppe 0\nTitel: VU Finanzmärkte, Asset Management und Bewertung von Finanzinstrumenten\nOrt: eLecture - online\n\nhttps://lfuonline.uibk.ac.at/public/lfuonline_lv.details?sem_id_in=20W&lvnr_id_in=434210\n
CLASS:PUBLIC
DTSTART:20201006T080000Z
DTEND:20201006T104500Z
DTSTAMP:20260423T064224Z
LOCATION:eLecture - online
END:VEVENT
BEGIN:VEVENT
UID:20W_434210_3628364@uibk.ac.at
ORGANIZER;CN="LFU:online Universität Innsbruck":MAILTO:Uni-Innsbruck-noreply@uibk.ac.at
SUMMARY:VU Finanzmärkte, Asset Management und Bewertung von Finanzinstrumenten (LV 434210-0 20W)
DESCRIPTION:Lehrveranstaltung 434210 20W, Gruppe 0\nTitel: VU Finanzmärkte, Asset Management und Bewertung von Finanzinstrumenten\nOrt: eLecture - online\n\nhttps://lfuonline.uibk.ac.at/public/lfuonline_lv.details?sem_id_in=20W&lvnr_id_in=434210\n
CLASS:PUBLIC
DTSTART:20201013T080000Z
DTEND:20201013T104500Z
DTSTAMP:20260423T064224Z
LOCATION:eLecture - online
END:VEVENT
BEGIN:VEVENT
UID:20W_434210_3628365@uibk.ac.at
ORGANIZER;CN="LFU:online Universität Innsbruck":MAILTO:Uni-Innsbruck-noreply@uibk.ac.at
SUMMARY:VU Finanzmärkte, Asset Management und Bewertung von Finanzinstrumenten (LV 434210-0 20W)
DESCRIPTION:Lehrveranstaltung 434210 20W, Gruppe 0\nTitel: VU Finanzmärkte, Asset Management und Bewertung von Finanzinstrumenten\nOrt: eLecture - online\n\nhttps://lfuonline.uibk.ac.at/public/lfuonline_lv.details?sem_id_in=20W&lvnr_id_in=434210\n
CLASS:PUBLIC
DTSTART:20201020T080000Z
DTEND:20201020T104500Z
DTSTAMP:20260423T064224Z
LOCATION:eLecture - online
END:VEVENT
BEGIN:VEVENT
UID:20W_434210_3628366@uibk.ac.at
ORGANIZER;CN="LFU:online Universität Innsbruck":MAILTO:Uni-Innsbruck-noreply@uibk.ac.at
SUMMARY:VU Finanzmärkte, Asset Management und Bewertung von Finanzinstrumenten (LV 434210-0 20W)
DESCRIPTION:Lehrveranstaltung 434210 20W, Gruppe 0\nTitel: VU Finanzmärkte, Asset Management und Bewertung von Finanzinstrumenten\nOrt: eLecture - online\n\nhttps://lfuonline.uibk.ac.at/public/lfuonline_lv.details?sem_id_in=20W&lvnr_id_in=434210\n
CLASS:PUBLIC
DTSTART:20201027T090000Z
DTEND:20201027T114500Z
DTSTAMP:20260423T064224Z
LOCATION:eLecture - online
END:VEVENT
BEGIN:VEVENT
UID:20W_434210_3628367@uibk.ac.at
ORGANIZER;CN="LFU:online Universität Innsbruck":MAILTO:Uni-Innsbruck-noreply@uibk.ac.at
SUMMARY:VU Finanzmärkte, Asset Management und Bewertung von Finanzinstrumenten (LV 434210-0 20W)
DESCRIPTION:Lehrveranstaltung 434210 20W, Gruppe 0\nTitel: VU Finanzmärkte, Asset Management und Bewertung von Finanzinstrumenten\nOrt: eLecture - online\n\nhttps://lfuonline.uibk.ac.at/public/lfuonline_lv.details?sem_id_in=20W&lvnr_id_in=434210\n
CLASS:PUBLIC
DTSTART:20201103T090000Z
DTEND:20201103T114500Z
DTSTAMP:20260423T064224Z
LOCATION:eLecture - online
END:VEVENT
BEGIN:VEVENT
UID:20W_434210_3628368@uibk.ac.at
ORGANIZER;CN="LFU:online Universität Innsbruck":MAILTO:Uni-Innsbruck-noreply@uibk.ac.at
SUMMARY:VU Finanzmärkte, Asset Management und Bewertung von Finanzinstrumenten (LV 434210-0 20W)
DESCRIPTION:Lehrveranstaltung 434210 20W, Gruppe 0\nTitel: VU Finanzmärkte, Asset Management und Bewertung von Finanzinstrumenten\nOrt: eLecture - online\n\nhttps://lfuonline.uibk.ac.at/public/lfuonline_lv.details?sem_id_in=20W&lvnr_id_in=434210\n
CLASS:PUBLIC
DTSTART:20201110T090000Z
DTEND:20201110T114500Z
DTSTAMP:20260423T064224Z
LOCATION:eLecture - online
END:VEVENT
BEGIN:VEVENT
UID:20W_434210_3628369@uibk.ac.at
ORGANIZER;CN="LFU:online Universität Innsbruck":MAILTO:Uni-Innsbruck-noreply@uibk.ac.at
SUMMARY:VU Finanzmärkte, Asset Management und Bewertung von Finanzinstrumenten (LV 434210-0 20W)
DESCRIPTION:Lehrveranstaltung 434210 20W, Gruppe 0\nTitel: VU Finanzmärkte, Asset Management und Bewertung von Finanzinstrumenten\nOrt: eLecture - online\n\nhttps://lfuonline.uibk.ac.at/public/lfuonline_lv.details?sem_id_in=20W&lvnr_id_in=434210\n
CLASS:PUBLIC
DTSTART:20201117T090000Z
DTEND:20201117T114500Z
DTSTAMP:20260423T064224Z
LOCATION:eLecture - online
END:VEVENT
BEGIN:VEVENT
UID:20W_434210_3628370@uibk.ac.at
ORGANIZER;CN="LFU:online Universität Innsbruck":MAILTO:Uni-Innsbruck-noreply@uibk.ac.at
SUMMARY:VU Finanzmärkte, Asset Management und Bewertung von Finanzinstrumenten (LV 434210-0 20W)
DESCRIPTION:Lehrveranstaltung 434210 20W, Gruppe 0\nTitel: VU Finanzmärkte, Asset Management und Bewertung von Finanzinstrumenten\nOrt: eLecture - online\n\nhttps://lfuonline.uibk.ac.at/public/lfuonline_lv.details?sem_id_in=20W&lvnr_id_in=434210\n
CLASS:PUBLIC
DTSTART:20201124T090000Z
DTEND:20201124T114500Z
DTSTAMP:20260423T064224Z
LOCATION:eLecture - online
END:VEVENT
BEGIN:VEVENT
UID:20W_434210_3730985@uibk.ac.at
ORGANIZER;CN="LFU:online Universität Innsbruck":MAILTO:Uni-Innsbruck-noreply@uibk.ac.at
SUMMARY:VU Finanzmärkte, Asset Management und Bewertung von Finanzinstrumenten (LV 434210-0 20W)
DESCRIPTION:Lehrveranstaltung 434210 20W, Gruppe 0\nTitel: VU Finanzmärkte, Asset Management und Bewertung von Finanzinstrumenten\nOrt: HS 1 (Sowi)\n\nhttps://lfuonline.uibk.ac.at/public/lfuonline_lv.details?sem_id_in=20W&lvnr_id_in=434210\n
CLASS:PUBLIC
DTSTART:20210203T090000Z
DTEND:20210203T104500Z
DTSTAMP:20260423T064224Z
LOCATION:HS 1 (Sowi)
COMMENT:Präsenzprüfung
END:VEVENT
END:VCALENDAR