BEGIN:VCALENDAR
VERSION:2.0
PRODID:-//Universität Innsbruck//LFU:online//DE
METHOD:PUBLISH
BEGIN:VEVENT
UID:16S_434654_2731284@uibk.ac.at
ORGANIZER;CN="LFU:online Universität Innsbruck":MAILTO:Uni-Innsbruck-noreply@uibk.ac.at
SUMMARY:AG Begleitung der Masterarbeit (LV 434654-0 16S)
DESCRIPTION:Lehrveranstaltung 434654 16S, Gruppe 0\nTitel: AG Begleitung der Masterarbeit\nOrt: SR III (Theologie)\n\nhttps://lfuonline.uibk.ac.at/public/lfuonline_lv.details?sem_id_in=16S&lvnr_id_in=434654\n
CLASS:PUBLIC
DTSTART:20160429T070000Z
DTEND:20160429T144500Z
DTSTAMP:20260421T151500Z
LOCATION:SR III (Theologie)
END:VEVENT
BEGIN:VEVENT
UID:16S_434654_2731285@uibk.ac.at
ORGANIZER;CN="LFU:online Universität Innsbruck":MAILTO:Uni-Innsbruck-noreply@uibk.ac.at
SUMMARY:AG Begleitung der Masterarbeit (LV 434654-0 16S)
DESCRIPTION:Lehrveranstaltung 434654 16S, Gruppe 0\nTitel: AG Begleitung der Masterarbeit\nOrt: SR III (Theologie)\n\nhttps://lfuonline.uibk.ac.at/public/lfuonline_lv.details?sem_id_in=16S&lvnr_id_in=434654\n
CLASS:PUBLIC
DTSTART:20160617T070000Z
DTEND:20160617T144500Z
DTSTAMP:20260421T151500Z
LOCATION:SR III (Theologie)
END:VEVENT
BEGIN:VEVENT
UID:16S_434654_2731313@uibk.ac.at
ORGANIZER;CN="LFU:online Universität Innsbruck":MAILTO:Uni-Innsbruck-noreply@uibk.ac.at
SUMMARY:AG Begleitung der Masterarbeit (LV 434654-0 16S)
DESCRIPTION:Lehrveranstaltung 434654 16S, Gruppe 0\nTitel: AG Begleitung der Masterarbeit\nOrt: SR III (Theologie)\n\nhttps://lfuonline.uibk.ac.at/public/lfuonline_lv.details?sem_id_in=16S&lvnr_id_in=434654\n
CLASS:PUBLIC
DTSTART:20160624T070000Z
DTEND:20160624T144500Z
DTSTAMP:20260421T151500Z
LOCATION:SR III (Theologie)
END:VEVENT
END:VCALENDAR