BEGIN:VCALENDAR
VERSION:2.0
PRODID:-//Universität Innsbruck//LFU:online//DE
METHOD:PUBLISH
BEGIN:VEVENT
UID:07W_436201_864472@uibk.ac.at
ORGANIZER;CN="LFU:online Universität Innsbruck":MAILTO:Uni-Innsbruck-noreply@uibk.ac.at
SUMMARY:PS Strategie und Marketing (LV 436201-0 07W)
DESCRIPTION:Lehrveranstaltung 436201 07W, Gruppe 0\nTitel: PS Strategie und Marketing\nOrt: HS 1 (Sowi)\n\nhttps://lfuonline.uibk.ac.at/public/lfuonline_lv.details?sem_id_in=07W&lvnr_id_in=436201\n
CLASS:PUBLIC
DTSTART:20071005T070000Z
DTEND:20071005T080000Z
DTSTAMP:20260420T032640Z
LOCATION:HS 1 (Sowi)
COMMENT:Gemeinsame Vb PS Strategie und Marketing LV.-Nr. 436201, 436202, 436203, 436204
END:VEVENT
BEGIN:VEVENT
UID:07W_436201_836681@uibk.ac.at
ORGANIZER;CN="LFU:online Universität Innsbruck":MAILTO:Uni-Innsbruck-noreply@uibk.ac.at
SUMMARY:PS Strategie und Marketing (LV 436201-0 07W)
DESCRIPTION:Lehrveranstaltung 436201 07W, Gruppe 0\nTitel: PS Strategie und Marketing\nOrt: SR 16 (Sowi)\n\nhttps://lfuonline.uibk.ac.at/public/lfuonline_lv.details?sem_id_in=07W&lvnr_id_in=436201\n
CLASS:PUBLIC
DTSTART:20071122T100000Z
DTEND:20071122T130000Z
DTSTAMP:20260420T032640Z
LOCATION:SR 16 (Sowi)
END:VEVENT
BEGIN:VEVENT
UID:07W_436201_836682@uibk.ac.at
ORGANIZER;CN="LFU:online Universität Innsbruck":MAILTO:Uni-Innsbruck-noreply@uibk.ac.at
SUMMARY:PS Strategie und Marketing (LV 436201-0 07W)
DESCRIPTION:Lehrveranstaltung 436201 07W, Gruppe 0\nTitel: PS Strategie und Marketing\nOrt: SR 16 (Sowi)\n\nhttps://lfuonline.uibk.ac.at/public/lfuonline_lv.details?sem_id_in=07W&lvnr_id_in=436201\n
CLASS:PUBLIC
DTSTART:20071206T100000Z
DTEND:20071206T130000Z
DTSTAMP:20260420T032640Z
LOCATION:SR 16 (Sowi)
END:VEVENT
BEGIN:VEVENT
UID:07W_436201_837836@uibk.ac.at
ORGANIZER;CN="LFU:online Universität Innsbruck":MAILTO:Uni-Innsbruck-noreply@uibk.ac.at
SUMMARY:PS Strategie und Marketing (LV 436201-0 07W)
DESCRIPTION:Lehrveranstaltung 436201 07W, Gruppe 0\nTitel: PS Strategie und Marketing\nOrt: SR 16 (Sowi)\n\nhttps://lfuonline.uibk.ac.at/public/lfuonline_lv.details?sem_id_in=07W&lvnr_id_in=436201\n
CLASS:PUBLIC
DTSTART:20080110T100000Z
DTEND:20080110T130000Z
DTSTAMP:20260420T032640Z
LOCATION:SR 16 (Sowi)
END:VEVENT
END:VCALENDAR