BEGIN:VCALENDAR
VERSION:2.0
PRODID:-//Universität Innsbruck//LFU:online//DE
METHOD:PUBLISH
BEGIN:VEVENT
UID:20S_602007_3485009@uibk.ac.at
ORGANIZER;CN="LFU:online Universität Innsbruck":MAILTO:Uni-Innsbruck-noreply@uibk.ac.at
SUMMARY:VO Geschichte der Philosophie II (LV 602007-0 20S)
DESCRIPTION:Lehrveranstaltung 602007 20S, Gruppe 0\nTitel: VO Geschichte der Philosophie II\nOrt: Hörsaal 6\n\nhttps://lfuonline.uibk.ac.at/public/lfuonline_lv.details?sem_id_in=20S&lvnr_id_in=602007\n
CLASS:PUBLIC
DTSTART:20200303T073000Z
DTEND:20200303T090000Z
DTSTAMP:20260421T075517Z
LOCATION:Hörsaal 6
END:VEVENT
BEGIN:VEVENT
UID:20S_602007_3485010@uibk.ac.at
ORGANIZER;CN="LFU:online Universität Innsbruck":MAILTO:Uni-Innsbruck-noreply@uibk.ac.at
SUMMARY:VO Geschichte der Philosophie II (LV 602007-0 20S)
DESCRIPTION:Lehrveranstaltung 602007 20S, Gruppe 0\nTitel: VO Geschichte der Philosophie II\nOrt: Hörsaal 6\n\nhttps://lfuonline.uibk.ac.at/public/lfuonline_lv.details?sem_id_in=20S&lvnr_id_in=602007\n
CLASS:PUBLIC
DTSTART:20200310T073000Z
DTEND:20200310T090000Z
DTSTAMP:20260421T075517Z
LOCATION:Hörsaal 6
END:VEVENT
BEGIN:VEVENT
UID:20S_602007_3485011@uibk.ac.at
ORGANIZER;CN="LFU:online Universität Innsbruck":MAILTO:Uni-Innsbruck-noreply@uibk.ac.at
SUMMARY:VO Geschichte der Philosophie II (LV 602007-0 20S)
DESCRIPTION:Lehrveranstaltung 602007 20S, Gruppe 0\nTitel: VO Geschichte der Philosophie II\nOrt: Hörsaal 6\n\nhttps://lfuonline.uibk.ac.at/public/lfuonline_lv.details?sem_id_in=20S&lvnr_id_in=602007\n
CLASS:PUBLIC
DTSTART:20200317T073000Z
DTEND:20200317T090000Z
DTSTAMP:20260421T075517Z
LOCATION:Hörsaal 6
END:VEVENT
BEGIN:VEVENT
UID:20S_602007_3485012@uibk.ac.at
ORGANIZER;CN="LFU:online Universität Innsbruck":MAILTO:Uni-Innsbruck-noreply@uibk.ac.at
SUMMARY:VO Geschichte der Philosophie II (LV 602007-0 20S)
DESCRIPTION:Lehrveranstaltung 602007 20S, Gruppe 0\nTitel: VO Geschichte der Philosophie II\nOrt: Hörsaal 6\n\nhttps://lfuonline.uibk.ac.at/public/lfuonline_lv.details?sem_id_in=20S&lvnr_id_in=602007\n
CLASS:PUBLIC
DTSTART:20200324T073000Z
DTEND:20200324T090000Z
DTSTAMP:20260421T075517Z
LOCATION:Hörsaal 6
END:VEVENT
BEGIN:VEVENT
UID:20S_602007_3485013@uibk.ac.at
ORGANIZER;CN="LFU:online Universität Innsbruck":MAILTO:Uni-Innsbruck-noreply@uibk.ac.at
SUMMARY:VO Geschichte der Philosophie II (LV 602007-0 20S)
DESCRIPTION:Lehrveranstaltung 602007 20S, Gruppe 0\nTitel: VO Geschichte der Philosophie II\nOrt: Hörsaal 6\n\nhttps://lfuonline.uibk.ac.at/public/lfuonline_lv.details?sem_id_in=20S&lvnr_id_in=602007\n
CLASS:PUBLIC
DTSTART:20200331T063000Z
DTEND:20200331T080000Z
DTSTAMP:20260421T075517Z
LOCATION:Hörsaal 6
END:VEVENT
BEGIN:VEVENT
UID:20S_602007_3485014@uibk.ac.at
ORGANIZER;CN="LFU:online Universität Innsbruck":MAILTO:Uni-Innsbruck-noreply@uibk.ac.at
SUMMARY:VO Geschichte der Philosophie II (LV 602007-0 20S)
DESCRIPTION:Lehrveranstaltung 602007 20S, Gruppe 0\nTitel: VO Geschichte der Philosophie II\nOrt: Hörsaal 6\n\nhttps://lfuonline.uibk.ac.at/public/lfuonline_lv.details?sem_id_in=20S&lvnr_id_in=602007\n
CLASS:PUBLIC
DTSTART:20200421T063000Z
DTEND:20200421T080000Z
DTSTAMP:20260421T075517Z
LOCATION:Hörsaal 6
END:VEVENT
BEGIN:VEVENT
UID:20S_602007_3485015@uibk.ac.at
ORGANIZER;CN="LFU:online Universität Innsbruck":MAILTO:Uni-Innsbruck-noreply@uibk.ac.at
SUMMARY:VO Geschichte der Philosophie II (LV 602007-0 20S)
DESCRIPTION:Lehrveranstaltung 602007 20S, Gruppe 0\nTitel: VO Geschichte der Philosophie II\nOrt: Hörsaal 6\n\nhttps://lfuonline.uibk.ac.at/public/lfuonline_lv.details?sem_id_in=20S&lvnr_id_in=602007\n
CLASS:PUBLIC
DTSTART:20200428T063000Z
DTEND:20200428T080000Z
DTSTAMP:20260421T075517Z
LOCATION:Hörsaal 6
END:VEVENT
BEGIN:VEVENT
UID:20S_602007_3485016@uibk.ac.at
ORGANIZER;CN="LFU:online Universität Innsbruck":MAILTO:Uni-Innsbruck-noreply@uibk.ac.at
SUMMARY:VO Geschichte der Philosophie II (LV 602007-0 20S)
DESCRIPTION:Lehrveranstaltung 602007 20S, Gruppe 0\nTitel: VO Geschichte der Philosophie II\nOrt: Hörsaal 6\n\nhttps://lfuonline.uibk.ac.at/public/lfuonline_lv.details?sem_id_in=20S&lvnr_id_in=602007\n
CLASS:PUBLIC
DTSTART:20200505T063000Z
DTEND:20200505T080000Z
DTSTAMP:20260421T075517Z
LOCATION:Hörsaal 6
END:VEVENT
BEGIN:VEVENT
UID:20S_602007_3485017@uibk.ac.at
ORGANIZER;CN="LFU:online Universität Innsbruck":MAILTO:Uni-Innsbruck-noreply@uibk.ac.at
SUMMARY:VO Geschichte der Philosophie II (LV 602007-0 20S)
DESCRIPTION:Lehrveranstaltung 602007 20S, Gruppe 0\nTitel: VO Geschichte der Philosophie II\nOrt: Hörsaal 6\n\nhttps://lfuonline.uibk.ac.at/public/lfuonline_lv.details?sem_id_in=20S&lvnr_id_in=602007\n
CLASS:PUBLIC
DTSTART:20200512T063000Z
DTEND:20200512T080000Z
DTSTAMP:20260421T075517Z
LOCATION:Hörsaal 6
END:VEVENT
BEGIN:VEVENT
UID:20S_602007_3485018@uibk.ac.at
ORGANIZER;CN="LFU:online Universität Innsbruck":MAILTO:Uni-Innsbruck-noreply@uibk.ac.at
SUMMARY:VO Geschichte der Philosophie II (LV 602007-0 20S)
DESCRIPTION:Lehrveranstaltung 602007 20S, Gruppe 0\nTitel: VO Geschichte der Philosophie II\nOrt: Hörsaal 6\n\nhttps://lfuonline.uibk.ac.at/public/lfuonline_lv.details?sem_id_in=20S&lvnr_id_in=602007\n
CLASS:PUBLIC
DTSTART:20200519T063000Z
DTEND:20200519T080000Z
DTSTAMP:20260421T075517Z
LOCATION:Hörsaal 6
END:VEVENT
BEGIN:VEVENT
UID:20S_602007_3485019@uibk.ac.at
ORGANIZER;CN="LFU:online Universität Innsbruck":MAILTO:Uni-Innsbruck-noreply@uibk.ac.at
SUMMARY:VO Geschichte der Philosophie II (LV 602007-0 20S)
DESCRIPTION:Lehrveranstaltung 602007 20S, Gruppe 0\nTitel: VO Geschichte der Philosophie II\nOrt: Hörsaal 6\n\nhttps://lfuonline.uibk.ac.at/public/lfuonline_lv.details?sem_id_in=20S&lvnr_id_in=602007\n
CLASS:PUBLIC
DTSTART:20200526T063000Z
DTEND:20200526T080000Z
DTSTAMP:20260421T075517Z
LOCATION:Hörsaal 6
END:VEVENT
BEGIN:VEVENT
UID:20S_602007_3485020@uibk.ac.at
ORGANIZER;CN="LFU:online Universität Innsbruck":MAILTO:Uni-Innsbruck-noreply@uibk.ac.at
SUMMARY:VO Geschichte der Philosophie II (LV 602007-0 20S)
DESCRIPTION:Lehrveranstaltung 602007 20S, Gruppe 0\nTitel: VO Geschichte der Philosophie II\nOrt: Hörsaal 6\n\nhttps://lfuonline.uibk.ac.at/public/lfuonline_lv.details?sem_id_in=20S&lvnr_id_in=602007\n
CLASS:PUBLIC
DTSTART:20200602T063000Z
DTEND:20200602T080000Z
DTSTAMP:20260421T075517Z
LOCATION:Hörsaal 6
END:VEVENT
BEGIN:VEVENT
UID:20S_602007_3485021@uibk.ac.at
ORGANIZER;CN="LFU:online Universität Innsbruck":MAILTO:Uni-Innsbruck-noreply@uibk.ac.at
SUMMARY:VO Geschichte der Philosophie II (LV 602007-0 20S)
DESCRIPTION:Lehrveranstaltung 602007 20S, Gruppe 0\nTitel: VO Geschichte der Philosophie II\nOrt: Hörsaal 6\n\nhttps://lfuonline.uibk.ac.at/public/lfuonline_lv.details?sem_id_in=20S&lvnr_id_in=602007\n
CLASS:PUBLIC
DTSTART:20200609T063000Z
DTEND:20200609T080000Z
DTSTAMP:20260421T075517Z
LOCATION:Hörsaal 6
END:VEVENT
BEGIN:VEVENT
UID:20S_602007_3485022@uibk.ac.at
ORGANIZER;CN="LFU:online Universität Innsbruck":MAILTO:Uni-Innsbruck-noreply@uibk.ac.at
SUMMARY:VO Geschichte der Philosophie II (LV 602007-0 20S)
DESCRIPTION:Lehrveranstaltung 602007 20S, Gruppe 0\nTitel: VO Geschichte der Philosophie II\nOrt: Hörsaal 6\n\nhttps://lfuonline.uibk.ac.at/public/lfuonline_lv.details?sem_id_in=20S&lvnr_id_in=602007\n
CLASS:PUBLIC
DTSTART:20200616T063000Z
DTEND:20200616T080000Z
DTSTAMP:20260421T075517Z
LOCATION:Hörsaal 6
END:VEVENT
BEGIN:VEVENT
UID:20S_602007_3485023@uibk.ac.at
ORGANIZER;CN="LFU:online Universität Innsbruck":MAILTO:Uni-Innsbruck-noreply@uibk.ac.at
SUMMARY:VO Geschichte der Philosophie II (LV 602007-0 20S)
DESCRIPTION:Lehrveranstaltung 602007 20S, Gruppe 0\nTitel: VO Geschichte der Philosophie II\nOrt: Hörsaal 6\n\nhttps://lfuonline.uibk.ac.at/public/lfuonline_lv.details?sem_id_in=20S&lvnr_id_in=602007\n
CLASS:PUBLIC
DTSTART:20200623T063000Z
DTEND:20200623T080000Z
DTSTAMP:20260421T075517Z
LOCATION:Hörsaal 6
END:VEVENT
END:VCALENDAR