BEGIN:VCALENDAR
VERSION:2.0
PRODID:-//Universität Innsbruck//LFU:online//DE
METHOD:PUBLISH
BEGIN:VEVENT
UID:21S_602023_3772407@uibk.ac.at
ORGANIZER;CN="LFU:online Universität Innsbruck":MAILTO:Uni-Innsbruck-noreply@uibk.ac.at
SUMMARY:SE Technik- und Medienphilosophie: Eine Einführung (LV 602023-0 21S)
DESCRIPTION:Lehrveranstaltung 602023 21S, Gruppe 0\nTitel: SE Technik- und Medienphilosophie: Eine Einführung\nOrt: online (Philosophie)\n\nhttps://lfuonline.uibk.ac.at/public/lfuonline_lv.details?sem_id_in=21S&lvnr_id_in=602023\n
CLASS:PUBLIC
DTSTART:20210302T143000Z
DTEND:20210302T160000Z
DTSTAMP:20260423T074236Z
LOCATION:online (Philosophie)
END:VEVENT
BEGIN:VEVENT
UID:21S_602023_3772408@uibk.ac.at
ORGANIZER;CN="LFU:online Universität Innsbruck":MAILTO:Uni-Innsbruck-noreply@uibk.ac.at
SUMMARY:SE Technik- und Medienphilosophie: Eine Einführung (LV 602023-0 21S)
DESCRIPTION:Lehrveranstaltung 602023 21S, Gruppe 0\nTitel: SE Technik- und Medienphilosophie: Eine Einführung\nOrt: online (Philosophie)\n\nhttps://lfuonline.uibk.ac.at/public/lfuonline_lv.details?sem_id_in=21S&lvnr_id_in=602023\n
CLASS:PUBLIC
DTSTART:20210309T143000Z
DTEND:20210309T160000Z
DTSTAMP:20260423T074236Z
LOCATION:online (Philosophie)
END:VEVENT
BEGIN:VEVENT
UID:21S_602023_3772409@uibk.ac.at
ORGANIZER;CN="LFU:online Universität Innsbruck":MAILTO:Uni-Innsbruck-noreply@uibk.ac.at
SUMMARY:SE Technik- und Medienphilosophie: Eine Einführung (LV 602023-0 21S)
DESCRIPTION:Lehrveranstaltung 602023 21S, Gruppe 0\nTitel: SE Technik- und Medienphilosophie: Eine Einführung\nOrt: online (Philosophie)\n\nhttps://lfuonline.uibk.ac.at/public/lfuonline_lv.details?sem_id_in=21S&lvnr_id_in=602023\n
CLASS:PUBLIC
DTSTART:20210316T143000Z
DTEND:20210316T160000Z
DTSTAMP:20260423T074236Z
LOCATION:online (Philosophie)
END:VEVENT
BEGIN:VEVENT
UID:21S_602023_3772410@uibk.ac.at
ORGANIZER;CN="LFU:online Universität Innsbruck":MAILTO:Uni-Innsbruck-noreply@uibk.ac.at
SUMMARY:SE Technik- und Medienphilosophie: Eine Einführung (LV 602023-0 21S)
DESCRIPTION:Lehrveranstaltung 602023 21S, Gruppe 0\nTitel: SE Technik- und Medienphilosophie: Eine Einführung\nOrt: online (Philosophie)\n\nhttps://lfuonline.uibk.ac.at/public/lfuonline_lv.details?sem_id_in=21S&lvnr_id_in=602023\n
CLASS:PUBLIC
DTSTART:20210323T143000Z
DTEND:20210323T160000Z
DTSTAMP:20260423T074236Z
LOCATION:online (Philosophie)
END:VEVENT
BEGIN:VEVENT
UID:21S_602023_3772411@uibk.ac.at
ORGANIZER;CN="LFU:online Universität Innsbruck":MAILTO:Uni-Innsbruck-noreply@uibk.ac.at
SUMMARY:SE Technik- und Medienphilosophie: Eine Einführung (LV 602023-0 21S)
DESCRIPTION:Lehrveranstaltung 602023 21S, Gruppe 0\nTitel: SE Technik- und Medienphilosophie: Eine Einführung\nOrt: online (Philosophie)\n\nhttps://lfuonline.uibk.ac.at/public/lfuonline_lv.details?sem_id_in=21S&lvnr_id_in=602023\n
CLASS:PUBLIC
DTSTART:20210413T133000Z
DTEND:20210413T150000Z
DTSTAMP:20260423T074236Z
LOCATION:online (Philosophie)
END:VEVENT
BEGIN:VEVENT
UID:21S_602023_3772412@uibk.ac.at
ORGANIZER;CN="LFU:online Universität Innsbruck":MAILTO:Uni-Innsbruck-noreply@uibk.ac.at
SUMMARY:SE Technik- und Medienphilosophie: Eine Einführung (LV 602023-0 21S)
DESCRIPTION:Lehrveranstaltung 602023 21S, Gruppe 0\nTitel: SE Technik- und Medienphilosophie: Eine Einführung\nOrt: online (Philosophie)\n\nhttps://lfuonline.uibk.ac.at/public/lfuonline_lv.details?sem_id_in=21S&lvnr_id_in=602023\n
CLASS:PUBLIC
DTSTART:20210420T133000Z
DTEND:20210420T150000Z
DTSTAMP:20260423T074236Z
LOCATION:online (Philosophie)
END:VEVENT
BEGIN:VEVENT
UID:21S_602023_3772413@uibk.ac.at
ORGANIZER;CN="LFU:online Universität Innsbruck":MAILTO:Uni-Innsbruck-noreply@uibk.ac.at
SUMMARY:SE Technik- und Medienphilosophie: Eine Einführung (LV 602023-0 21S)
DESCRIPTION:Lehrveranstaltung 602023 21S, Gruppe 0\nTitel: SE Technik- und Medienphilosophie: Eine Einführung\nOrt: online (Philosophie)\n\nhttps://lfuonline.uibk.ac.at/public/lfuonline_lv.details?sem_id_in=21S&lvnr_id_in=602023\n
CLASS:PUBLIC
DTSTART:20210427T133000Z
DTEND:20210427T150000Z
DTSTAMP:20260423T074236Z
LOCATION:online (Philosophie)
END:VEVENT
BEGIN:VEVENT
UID:21S_602023_3772414@uibk.ac.at
ORGANIZER;CN="LFU:online Universität Innsbruck":MAILTO:Uni-Innsbruck-noreply@uibk.ac.at
SUMMARY:SE Technik- und Medienphilosophie: Eine Einführung (LV 602023-0 21S)
DESCRIPTION:Lehrveranstaltung 602023 21S, Gruppe 0\nTitel: SE Technik- und Medienphilosophie: Eine Einführung\nOrt: online (Philosophie)\n\nhttps://lfuonline.uibk.ac.at/public/lfuonline_lv.details?sem_id_in=21S&lvnr_id_in=602023\n
CLASS:PUBLIC
DTSTART:20210504T133000Z
DTEND:20210504T150000Z
DTSTAMP:20260423T074236Z
LOCATION:online (Philosophie)
END:VEVENT
BEGIN:VEVENT
UID:21S_602023_3772415@uibk.ac.at
ORGANIZER;CN="LFU:online Universität Innsbruck":MAILTO:Uni-Innsbruck-noreply@uibk.ac.at
SUMMARY:SE Technik- und Medienphilosophie: Eine Einführung (LV 602023-0 21S)
DESCRIPTION:Lehrveranstaltung 602023 21S, Gruppe 0\nTitel: SE Technik- und Medienphilosophie: Eine Einführung\nOrt: online (Philosophie)\n\nhttps://lfuonline.uibk.ac.at/public/lfuonline_lv.details?sem_id_in=21S&lvnr_id_in=602023\n
CLASS:PUBLIC
DTSTART:20210511T133000Z
DTEND:20210511T150000Z
DTSTAMP:20260423T074236Z
LOCATION:online (Philosophie)
END:VEVENT
BEGIN:VEVENT
UID:21S_602023_3772416@uibk.ac.at
ORGANIZER;CN="LFU:online Universität Innsbruck":MAILTO:Uni-Innsbruck-noreply@uibk.ac.at
SUMMARY:SE Technik- und Medienphilosophie: Eine Einführung (LV 602023-0 21S)
DESCRIPTION:Lehrveranstaltung 602023 21S, Gruppe 0\nTitel: SE Technik- und Medienphilosophie: Eine Einführung\nOrt: online (Philosophie)\n\nhttps://lfuonline.uibk.ac.at/public/lfuonline_lv.details?sem_id_in=21S&lvnr_id_in=602023\n
CLASS:PUBLIC
DTSTART:20210518T133000Z
DTEND:20210518T150000Z
DTSTAMP:20260423T074236Z
LOCATION:online (Philosophie)
END:VEVENT
BEGIN:VEVENT
UID:21S_602023_3772417@uibk.ac.at
ORGANIZER;CN="LFU:online Universität Innsbruck":MAILTO:Uni-Innsbruck-noreply@uibk.ac.at
SUMMARY:SE Technik- und Medienphilosophie: Eine Einführung (LV 602023-0 21S)
DESCRIPTION:Lehrveranstaltung 602023 21S, Gruppe 0\nTitel: SE Technik- und Medienphilosophie: Eine Einführung\nOrt: online (Philosophie)\n\nhttps://lfuonline.uibk.ac.at/public/lfuonline_lv.details?sem_id_in=21S&lvnr_id_in=602023\n
CLASS:PUBLIC
DTSTART:20210525T133000Z
DTEND:20210525T150000Z
DTSTAMP:20260423T074236Z
LOCATION:online (Philosophie)
END:VEVENT
BEGIN:VEVENT
UID:21S_602023_3772418@uibk.ac.at
ORGANIZER;CN="LFU:online Universität Innsbruck":MAILTO:Uni-Innsbruck-noreply@uibk.ac.at
SUMMARY:SE Technik- und Medienphilosophie: Eine Einführung (LV 602023-0 21S)
DESCRIPTION:Lehrveranstaltung 602023 21S, Gruppe 0\nTitel: SE Technik- und Medienphilosophie: Eine Einführung\nOrt: online (Philosophie)\n\nhttps://lfuonline.uibk.ac.at/public/lfuonline_lv.details?sem_id_in=21S&lvnr_id_in=602023\n
CLASS:PUBLIC
DTSTART:20210601T133000Z
DTEND:20210601T150000Z
DTSTAMP:20260423T074236Z
LOCATION:online (Philosophie)
END:VEVENT
BEGIN:VEVENT
UID:21S_602023_3772419@uibk.ac.at
ORGANIZER;CN="LFU:online Universität Innsbruck":MAILTO:Uni-Innsbruck-noreply@uibk.ac.at
SUMMARY:SE Technik- und Medienphilosophie: Eine Einführung (LV 602023-0 21S)
DESCRIPTION:Lehrveranstaltung 602023 21S, Gruppe 0\nTitel: SE Technik- und Medienphilosophie: Eine Einführung\nOrt: online (Philosophie)\n\nhttps://lfuonline.uibk.ac.at/public/lfuonline_lv.details?sem_id_in=21S&lvnr_id_in=602023\n
CLASS:PUBLIC
DTSTART:20210608T133000Z
DTEND:20210608T150000Z
DTSTAMP:20260423T074236Z
LOCATION:online (Philosophie)
END:VEVENT
BEGIN:VEVENT
UID:21S_602023_3772420@uibk.ac.at
ORGANIZER;CN="LFU:online Universität Innsbruck":MAILTO:Uni-Innsbruck-noreply@uibk.ac.at
SUMMARY:SE Technik- und Medienphilosophie: Eine Einführung (LV 602023-0 21S)
DESCRIPTION:Lehrveranstaltung 602023 21S, Gruppe 0\nTitel: SE Technik- und Medienphilosophie: Eine Einführung\nOrt: online (Philosophie)\n\nhttps://lfuonline.uibk.ac.at/public/lfuonline_lv.details?sem_id_in=21S&lvnr_id_in=602023\n
CLASS:PUBLIC
DTSTART:20210615T133000Z
DTEND:20210615T150000Z
DTSTAMP:20260423T074236Z
LOCATION:online (Philosophie)
END:VEVENT
BEGIN:VEVENT
UID:21S_602023_3772421@uibk.ac.at
ORGANIZER;CN="LFU:online Universität Innsbruck":MAILTO:Uni-Innsbruck-noreply@uibk.ac.at
SUMMARY:SE Technik- und Medienphilosophie: Eine Einführung (LV 602023-0 21S)
DESCRIPTION:Lehrveranstaltung 602023 21S, Gruppe 0\nTitel: SE Technik- und Medienphilosophie: Eine Einführung\nOrt: online (Philosophie)\n\nhttps://lfuonline.uibk.ac.at/public/lfuonline_lv.details?sem_id_in=21S&lvnr_id_in=602023\n
CLASS:PUBLIC
DTSTART:20210622T133000Z
DTEND:20210622T150000Z
DTSTAMP:20260423T074236Z
LOCATION:online (Philosophie)
END:VEVENT
END:VCALENDAR