BEGIN:VCALENDAR
VERSION:2.0
PRODID:-//Universität Innsbruck//LFU:online//DE
METHOD:PUBLISH
BEGIN:VEVENT
UID:06S_603005_527123@uibk.ac.at
ORGANIZER;CN="LFU:online Universität Innsbruck":MAILTO:Uni-Innsbruck-noreply@uibk.ac.at
SUMMARY:Organisationskultur und Geschlecht in Bildungs- und psychosozialen Einrichtungen (LV 603005-0 06S)
DESCRIPTION:Lehrveranstaltung 603005 06S, Gruppe 0\nTitel: Organisationskultur und Geschlecht in Bildungs- und psychosozialen Einrichtungen\nOrt: SR Maximilianstraße\n\nhttps://lfuonline.uibk.ac.at/public/lfuonline_lv.details?sem_id_in=06S&lvnr_id_in=603005\n
CLASS:PUBLIC
DTSTART:20060308T130000Z
DTEND:20060308T143000Z
DTSTAMP:20260426T023948Z
LOCATION:SR Maximilianstraße
END:VEVENT
BEGIN:VEVENT
UID:06S_603005_527124@uibk.ac.at
ORGANIZER;CN="LFU:online Universität Innsbruck":MAILTO:Uni-Innsbruck-noreply@uibk.ac.at
SUMMARY:Organisationskultur und Geschlecht in Bildungs- und psychosozialen Einrichtungen (LV 603005-0 06S)
DESCRIPTION:Lehrveranstaltung 603005 06S, Gruppe 0\nTitel: Organisationskultur und Geschlecht in Bildungs- und psychosozialen Einrichtungen\nOrt: SR Maximilianstraße\n\nhttps://lfuonline.uibk.ac.at/public/lfuonline_lv.details?sem_id_in=06S&lvnr_id_in=603005\n
CLASS:PUBLIC
DTSTART:20060315T130000Z
DTEND:20060315T143000Z
DTSTAMP:20260426T023948Z
LOCATION:SR Maximilianstraße
END:VEVENT
BEGIN:VEVENT
UID:06S_603005_527125@uibk.ac.at
ORGANIZER;CN="LFU:online Universität Innsbruck":MAILTO:Uni-Innsbruck-noreply@uibk.ac.at
SUMMARY:Organisationskultur und Geschlecht in Bildungs- und psychosozialen Einrichtungen (LV 603005-0 06S)
DESCRIPTION:Lehrveranstaltung 603005 06S, Gruppe 0\nTitel: Organisationskultur und Geschlecht in Bildungs- und psychosozialen Einrichtungen\nOrt: SR Maximilianstraße\n\nhttps://lfuonline.uibk.ac.at/public/lfuonline_lv.details?sem_id_in=06S&lvnr_id_in=603005\n
CLASS:PUBLIC
DTSTART:20060322T130000Z
DTEND:20060322T143000Z
DTSTAMP:20260426T023948Z
LOCATION:SR Maximilianstraße
END:VEVENT
BEGIN:VEVENT
UID:06S_603005_527126@uibk.ac.at
ORGANIZER;CN="LFU:online Universität Innsbruck":MAILTO:Uni-Innsbruck-noreply@uibk.ac.at
SUMMARY:Organisationskultur und Geschlecht in Bildungs- und psychosozialen Einrichtungen (LV 603005-0 06S)
DESCRIPTION:Lehrveranstaltung 603005 06S, Gruppe 0\nTitel: Organisationskultur und Geschlecht in Bildungs- und psychosozialen Einrichtungen\nOrt: SR Maximilianstraße\n\nhttps://lfuonline.uibk.ac.at/public/lfuonline_lv.details?sem_id_in=06S&lvnr_id_in=603005\n
CLASS:PUBLIC
DTSTART:20060329T120000Z
DTEND:20060329T133000Z
DTSTAMP:20260426T023948Z
LOCATION:SR Maximilianstraße
END:VEVENT
BEGIN:VEVENT
UID:06S_603005_527127@uibk.ac.at
ORGANIZER;CN="LFU:online Universität Innsbruck":MAILTO:Uni-Innsbruck-noreply@uibk.ac.at
SUMMARY:Organisationskultur und Geschlecht in Bildungs- und psychosozialen Einrichtungen (LV 603005-0 06S)
DESCRIPTION:Lehrveranstaltung 603005 06S, Gruppe 0\nTitel: Organisationskultur und Geschlecht in Bildungs- und psychosozialen Einrichtungen\nOrt: SR Maximilianstraße\n\nhttps://lfuonline.uibk.ac.at/public/lfuonline_lv.details?sem_id_in=06S&lvnr_id_in=603005\n
CLASS:PUBLIC
DTSTART:20060405T120000Z
DTEND:20060405T133000Z
DTSTAMP:20260426T023948Z
LOCATION:SR Maximilianstraße
END:VEVENT
BEGIN:VEVENT
UID:06S_603005_527128@uibk.ac.at
ORGANIZER;CN="LFU:online Universität Innsbruck":MAILTO:Uni-Innsbruck-noreply@uibk.ac.at
SUMMARY:Organisationskultur und Geschlecht in Bildungs- und psychosozialen Einrichtungen (LV 603005-0 06S)
DESCRIPTION:Lehrveranstaltung 603005 06S, Gruppe 0\nTitel: Organisationskultur und Geschlecht in Bildungs- und psychosozialen Einrichtungen\nOrt: SR Maximilianstraße\n\nhttps://lfuonline.uibk.ac.at/public/lfuonline_lv.details?sem_id_in=06S&lvnr_id_in=603005\n
CLASS:PUBLIC
DTSTART:20060426T120000Z
DTEND:20060426T133000Z
DTSTAMP:20260426T023948Z
LOCATION:SR Maximilianstraße
END:VEVENT
BEGIN:VEVENT
UID:06S_603005_527129@uibk.ac.at
ORGANIZER;CN="LFU:online Universität Innsbruck":MAILTO:Uni-Innsbruck-noreply@uibk.ac.at
SUMMARY:Organisationskultur und Geschlecht in Bildungs- und psychosozialen Einrichtungen (LV 603005-0 06S)
DESCRIPTION:Lehrveranstaltung 603005 06S, Gruppe 0\nTitel: Organisationskultur und Geschlecht in Bildungs- und psychosozialen Einrichtungen\nOrt: SR Maximilianstraße\n\nhttps://lfuonline.uibk.ac.at/public/lfuonline_lv.details?sem_id_in=06S&lvnr_id_in=603005\n
CLASS:PUBLIC
DTSTART:20060503T120000Z
DTEND:20060503T133000Z
DTSTAMP:20260426T023948Z
LOCATION:SR Maximilianstraße
END:VEVENT
BEGIN:VEVENT
UID:06S_603005_527130@uibk.ac.at
ORGANIZER;CN="LFU:online Universität Innsbruck":MAILTO:Uni-Innsbruck-noreply@uibk.ac.at
SUMMARY:Organisationskultur und Geschlecht in Bildungs- und psychosozialen Einrichtungen (LV 603005-0 06S)
DESCRIPTION:Lehrveranstaltung 603005 06S, Gruppe 0\nTitel: Organisationskultur und Geschlecht in Bildungs- und psychosozialen Einrichtungen\nOrt: SR Maximilianstraße\n\nhttps://lfuonline.uibk.ac.at/public/lfuonline_lv.details?sem_id_in=06S&lvnr_id_in=603005\n
CLASS:PUBLIC
DTSTART:20060510T120000Z
DTEND:20060510T133000Z
DTSTAMP:20260426T023948Z
LOCATION:SR Maximilianstraße
END:VEVENT
BEGIN:VEVENT
UID:06S_603005_527131@uibk.ac.at
ORGANIZER;CN="LFU:online Universität Innsbruck":MAILTO:Uni-Innsbruck-noreply@uibk.ac.at
SUMMARY:Organisationskultur und Geschlecht in Bildungs- und psychosozialen Einrichtungen (LV 603005-0 06S)
DESCRIPTION:Lehrveranstaltung 603005 06S, Gruppe 0\nTitel: Organisationskultur und Geschlecht in Bildungs- und psychosozialen Einrichtungen\nOrt: SR Maximilianstraße\n\nhttps://lfuonline.uibk.ac.at/public/lfuonline_lv.details?sem_id_in=06S&lvnr_id_in=603005\n
CLASS:PUBLIC
DTSTART:20060517T120000Z
DTEND:20060517T133000Z
DTSTAMP:20260426T023948Z
LOCATION:SR Maximilianstraße
END:VEVENT
BEGIN:VEVENT
UID:06S_603005_527132@uibk.ac.at
ORGANIZER;CN="LFU:online Universität Innsbruck":MAILTO:Uni-Innsbruck-noreply@uibk.ac.at
SUMMARY:Organisationskultur und Geschlecht in Bildungs- und psychosozialen Einrichtungen (LV 603005-0 06S)
DESCRIPTION:Lehrveranstaltung 603005 06S, Gruppe 0\nTitel: Organisationskultur und Geschlecht in Bildungs- und psychosozialen Einrichtungen\nOrt: SR Maximilianstraße\n\nhttps://lfuonline.uibk.ac.at/public/lfuonline_lv.details?sem_id_in=06S&lvnr_id_in=603005\n
CLASS:PUBLIC
DTSTART:20060524T120000Z
DTEND:20060524T133000Z
DTSTAMP:20260426T023948Z
LOCATION:SR Maximilianstraße
END:VEVENT
BEGIN:VEVENT
UID:06S_603005_527133@uibk.ac.at
ORGANIZER;CN="LFU:online Universität Innsbruck":MAILTO:Uni-Innsbruck-noreply@uibk.ac.at
SUMMARY:Organisationskultur und Geschlecht in Bildungs- und psychosozialen Einrichtungen (LV 603005-0 06S)
DESCRIPTION:Lehrveranstaltung 603005 06S, Gruppe 0\nTitel: Organisationskultur und Geschlecht in Bildungs- und psychosozialen Einrichtungen\nOrt: SR Maximilianstraße\n\nhttps://lfuonline.uibk.ac.at/public/lfuonline_lv.details?sem_id_in=06S&lvnr_id_in=603005\n
CLASS:PUBLIC
DTSTART:20060531T120000Z
DTEND:20060531T133000Z
DTSTAMP:20260426T023948Z
LOCATION:SR Maximilianstraße
END:VEVENT
BEGIN:VEVENT
UID:06S_603005_527134@uibk.ac.at
ORGANIZER;CN="LFU:online Universität Innsbruck":MAILTO:Uni-Innsbruck-noreply@uibk.ac.at
SUMMARY:Organisationskultur und Geschlecht in Bildungs- und psychosozialen Einrichtungen (LV 603005-0 06S)
DESCRIPTION:Lehrveranstaltung 603005 06S, Gruppe 0\nTitel: Organisationskultur und Geschlecht in Bildungs- und psychosozialen Einrichtungen\nOrt: SR Maximilianstraße\n\nhttps://lfuonline.uibk.ac.at/public/lfuonline_lv.details?sem_id_in=06S&lvnr_id_in=603005\n
CLASS:PUBLIC
DTSTART:20060607T120000Z
DTEND:20060607T133000Z
DTSTAMP:20260426T023948Z
LOCATION:SR Maximilianstraße
END:VEVENT
BEGIN:VEVENT
UID:06S_603005_527135@uibk.ac.at
ORGANIZER;CN="LFU:online Universität Innsbruck":MAILTO:Uni-Innsbruck-noreply@uibk.ac.at
SUMMARY:Organisationskultur und Geschlecht in Bildungs- und psychosozialen Einrichtungen (LV 603005-0 06S)
DESCRIPTION:Lehrveranstaltung 603005 06S, Gruppe 0\nTitel: Organisationskultur und Geschlecht in Bildungs- und psychosozialen Einrichtungen\nOrt: SR Maximilianstraße\n\nhttps://lfuonline.uibk.ac.at/public/lfuonline_lv.details?sem_id_in=06S&lvnr_id_in=603005\n
CLASS:PUBLIC
DTSTART:20060614T120000Z
DTEND:20060614T133000Z
DTSTAMP:20260426T023948Z
LOCATION:SR Maximilianstraße
END:VEVENT
BEGIN:VEVENT
UID:06S_603005_527136@uibk.ac.at
ORGANIZER;CN="LFU:online Universität Innsbruck":MAILTO:Uni-Innsbruck-noreply@uibk.ac.at
SUMMARY:Organisationskultur und Geschlecht in Bildungs- und psychosozialen Einrichtungen (LV 603005-0 06S)
DESCRIPTION:Lehrveranstaltung 603005 06S, Gruppe 0\nTitel: Organisationskultur und Geschlecht in Bildungs- und psychosozialen Einrichtungen\nOrt: SR Maximilianstraße\n\nhttps://lfuonline.uibk.ac.at/public/lfuonline_lv.details?sem_id_in=06S&lvnr_id_in=603005\n
CLASS:PUBLIC
DTSTART:20060621T120000Z
DTEND:20060621T133000Z
DTSTAMP:20260426T023948Z
LOCATION:SR Maximilianstraße
END:VEVENT
BEGIN:VEVENT
UID:06S_603005_527137@uibk.ac.at
ORGANIZER;CN="LFU:online Universität Innsbruck":MAILTO:Uni-Innsbruck-noreply@uibk.ac.at
SUMMARY:Organisationskultur und Geschlecht in Bildungs- und psychosozialen Einrichtungen (LV 603005-0 06S)
DESCRIPTION:Lehrveranstaltung 603005 06S, Gruppe 0\nTitel: Organisationskultur und Geschlecht in Bildungs- und psychosozialen Einrichtungen\nOrt: SR Maximilianstraße\n\nhttps://lfuonline.uibk.ac.at/public/lfuonline_lv.details?sem_id_in=06S&lvnr_id_in=603005\n
CLASS:PUBLIC
DTSTART:20060628T120000Z
DTEND:20060628T133000Z
DTSTAMP:20260426T023948Z
LOCATION:SR Maximilianstraße
END:VEVENT
END:VCALENDAR