BEGIN:VCALENDAR
VERSION:2.0
PRODID:-//Universität Innsbruck//LFU:online//DE
METHOD:PUBLISH
BEGIN:VEVENT
UID:06S_603006_527138@uibk.ac.at
ORGANIZER;CN="LFU:online Universität Innsbruck":MAILTO:Uni-Innsbruck-noreply@uibk.ac.at
SUMMARY:Forschungspraktikum III: Work - Life - Balance (LV 603006-0 06S)
DESCRIPTION:Lehrveranstaltung 603006 06S, Gruppe 0\nTitel: Forschungspraktikum III: Work - Life - Balance\nOrt: L4\n\nhttps://lfuonline.uibk.ac.at/public/lfuonline_lv.details?sem_id_in=06S&lvnr_id_in=603006\n
CLASS:PUBLIC
DTSTART:20060302T080000Z
DTEND:20060302T110000Z
DTSTAMP:20260426T023948Z
LOCATION:L4
END:VEVENT
BEGIN:VEVENT
UID:06S_603006_527139@uibk.ac.at
ORGANIZER;CN="LFU:online Universität Innsbruck":MAILTO:Uni-Innsbruck-noreply@uibk.ac.at
SUMMARY:Forschungspraktikum III: Work - Life - Balance (LV 603006-0 06S)
DESCRIPTION:Lehrveranstaltung 603006 06S, Gruppe 0\nTitel: Forschungspraktikum III: Work - Life - Balance\nOrt: L4\n\nhttps://lfuonline.uibk.ac.at/public/lfuonline_lv.details?sem_id_in=06S&lvnr_id_in=603006\n
CLASS:PUBLIC
DTSTART:20060316T080000Z
DTEND:20060316T110000Z
DTSTAMP:20260426T023948Z
LOCATION:L4
END:VEVENT
BEGIN:VEVENT
UID:06S_603006_527140@uibk.ac.at
ORGANIZER;CN="LFU:online Universität Innsbruck":MAILTO:Uni-Innsbruck-noreply@uibk.ac.at
SUMMARY:Forschungspraktikum III: Work - Life - Balance (LV 603006-0 06S)
DESCRIPTION:Lehrveranstaltung 603006 06S, Gruppe 0\nTitel: Forschungspraktikum III: Work - Life - Balance\nOrt: L4\n\nhttps://lfuonline.uibk.ac.at/public/lfuonline_lv.details?sem_id_in=06S&lvnr_id_in=603006\n
CLASS:PUBLIC
DTSTART:20060330T070000Z
DTEND:20060330T100000Z
DTSTAMP:20260426T023948Z
LOCATION:L4
END:VEVENT
BEGIN:VEVENT
UID:06S_603006_527141@uibk.ac.at
ORGANIZER;CN="LFU:online Universität Innsbruck":MAILTO:Uni-Innsbruck-noreply@uibk.ac.at
SUMMARY:Forschungspraktikum III: Work - Life - Balance (LV 603006-0 06S)
DESCRIPTION:Lehrveranstaltung 603006 06S, Gruppe 0\nTitel: Forschungspraktikum III: Work - Life - Balance\nOrt: L4\n\nhttps://lfuonline.uibk.ac.at/public/lfuonline_lv.details?sem_id_in=06S&lvnr_id_in=603006\n
CLASS:PUBLIC
DTSTART:20060427T070000Z
DTEND:20060427T100000Z
DTSTAMP:20260426T023948Z
LOCATION:L4
END:VEVENT
BEGIN:VEVENT
UID:06S_603006_527142@uibk.ac.at
ORGANIZER;CN="LFU:online Universität Innsbruck":MAILTO:Uni-Innsbruck-noreply@uibk.ac.at
SUMMARY:Forschungspraktikum III: Work - Life - Balance (LV 603006-0 06S)
DESCRIPTION:Lehrveranstaltung 603006 06S, Gruppe 0\nTitel: Forschungspraktikum III: Work - Life - Balance\nOrt: L4\n\nhttps://lfuonline.uibk.ac.at/public/lfuonline_lv.details?sem_id_in=06S&lvnr_id_in=603006\n
CLASS:PUBLIC
DTSTART:20060511T070000Z
DTEND:20060511T100000Z
DTSTAMP:20260426T023948Z
LOCATION:L4
END:VEVENT
BEGIN:VEVENT
UID:06S_603006_527143@uibk.ac.at
ORGANIZER;CN="LFU:online Universität Innsbruck":MAILTO:Uni-Innsbruck-noreply@uibk.ac.at
SUMMARY:Forschungspraktikum III: Work - Life - Balance (LV 603006-0 06S)
DESCRIPTION:Lehrveranstaltung 603006 06S, Gruppe 0\nTitel: Forschungspraktikum III: Work - Life - Balance\nOrt: L4\n\nhttps://lfuonline.uibk.ac.at/public/lfuonline_lv.details?sem_id_in=06S&lvnr_id_in=603006\n
CLASS:PUBLIC
DTSTART:20060608T070000Z
DTEND:20060608T100000Z
DTSTAMP:20260426T023948Z
LOCATION:L4
END:VEVENT
BEGIN:VEVENT
UID:06S_603006_527144@uibk.ac.at
ORGANIZER;CN="LFU:online Universität Innsbruck":MAILTO:Uni-Innsbruck-noreply@uibk.ac.at
SUMMARY:Forschungspraktikum III: Work - Life - Balance (LV 603006-0 06S)
DESCRIPTION:Lehrveranstaltung 603006 06S, Gruppe 0\nTitel: Forschungspraktikum III: Work - Life - Balance\nOrt: L4\n\nhttps://lfuonline.uibk.ac.at/public/lfuonline_lv.details?sem_id_in=06S&lvnr_id_in=603006\n
CLASS:PUBLIC
DTSTART:20060622T070000Z
DTEND:20060622T100000Z
DTSTAMP:20260426T023948Z
LOCATION:L4
END:VEVENT
END:VCALENDAR