BEGIN:VCALENDAR
VERSION:2.0
PRODID:-//Universität Innsbruck//LFU:online//DE
METHOD:PUBLISH
BEGIN:VEVENT
UID:06S_603019_573652@uibk.ac.at
ORGANIZER;CN="LFU:online Universität Innsbruck":MAILTO:Uni-Innsbruck-noreply@uibk.ac.at
SUMMARY:Soziologische Diskurse: "Unterklassen" und Geschlecht (LV 603019-0 06S)
DESCRIPTION:Lehrveranstaltung 603019 06S, Gruppe 0\nTitel: Soziologische Diskurse: "Unterklassen" und Geschlecht\nOrt: 4DG02\n\nhttps://lfuonline.uibk.ac.at/public/lfuonline_lv.details?sem_id_in=06S&lvnr_id_in=603019\n
CLASS:PUBLIC
DTSTART:20060307T093000Z
DTEND:20060307T110000Z
DTSTAMP:20260426T023948Z
LOCATION:4DG02
END:VEVENT
BEGIN:VEVENT
UID:06S_603019_573653@uibk.ac.at
ORGANIZER;CN="LFU:online Universität Innsbruck":MAILTO:Uni-Innsbruck-noreply@uibk.ac.at
SUMMARY:Soziologische Diskurse: "Unterklassen" und Geschlecht (LV 603019-0 06S)
DESCRIPTION:Lehrveranstaltung 603019 06S, Gruppe 0\nTitel: Soziologische Diskurse: "Unterklassen" und Geschlecht\nOrt: 4DG02\n\nhttps://lfuonline.uibk.ac.at/public/lfuonline_lv.details?sem_id_in=06S&lvnr_id_in=603019\n
CLASS:PUBLIC
DTSTART:20060314T093000Z
DTEND:20060314T110000Z
DTSTAMP:20260426T023948Z
LOCATION:4DG02
END:VEVENT
BEGIN:VEVENT
UID:06S_603019_573654@uibk.ac.at
ORGANIZER;CN="LFU:online Universität Innsbruck":MAILTO:Uni-Innsbruck-noreply@uibk.ac.at
SUMMARY:Soziologische Diskurse: "Unterklassen" und Geschlecht (LV 603019-0 06S)
DESCRIPTION:Lehrveranstaltung 603019 06S, Gruppe 0\nTitel: Soziologische Diskurse: "Unterklassen" und Geschlecht\nOrt: 4DG02\n\nhttps://lfuonline.uibk.ac.at/public/lfuonline_lv.details?sem_id_in=06S&lvnr_id_in=603019\n
CLASS:PUBLIC
DTSTART:20060321T093000Z
DTEND:20060321T110000Z
DTSTAMP:20260426T023948Z
LOCATION:4DG02
END:VEVENT
BEGIN:VEVENT
UID:06S_603019_573655@uibk.ac.at
ORGANIZER;CN="LFU:online Universität Innsbruck":MAILTO:Uni-Innsbruck-noreply@uibk.ac.at
SUMMARY:Soziologische Diskurse: "Unterklassen" und Geschlecht (LV 603019-0 06S)
DESCRIPTION:Lehrveranstaltung 603019 06S, Gruppe 0\nTitel: Soziologische Diskurse: "Unterklassen" und Geschlecht\nOrt: 4DG02\n\nhttps://lfuonline.uibk.ac.at/public/lfuonline_lv.details?sem_id_in=06S&lvnr_id_in=603019\n
CLASS:PUBLIC
DTSTART:20060328T083000Z
DTEND:20060328T100000Z
DTSTAMP:20260426T023948Z
LOCATION:4DG02
END:VEVENT
BEGIN:VEVENT
UID:06S_603019_573656@uibk.ac.at
ORGANIZER;CN="LFU:online Universität Innsbruck":MAILTO:Uni-Innsbruck-noreply@uibk.ac.at
SUMMARY:Soziologische Diskurse: "Unterklassen" und Geschlecht (LV 603019-0 06S)
DESCRIPTION:Lehrveranstaltung 603019 06S, Gruppe 0\nTitel: Soziologische Diskurse: "Unterklassen" und Geschlecht\nOrt: 4DG02\n\nhttps://lfuonline.uibk.ac.at/public/lfuonline_lv.details?sem_id_in=06S&lvnr_id_in=603019\n
CLASS:PUBLIC
DTSTART:20060404T083000Z
DTEND:20060404T100000Z
DTSTAMP:20260426T023948Z
LOCATION:4DG02
END:VEVENT
BEGIN:VEVENT
UID:06S_603019_573657@uibk.ac.at
ORGANIZER;CN="LFU:online Universität Innsbruck":MAILTO:Uni-Innsbruck-noreply@uibk.ac.at
SUMMARY:Soziologische Diskurse: "Unterklassen" und Geschlecht (LV 603019-0 06S)
DESCRIPTION:Lehrveranstaltung 603019 06S, Gruppe 0\nTitel: Soziologische Diskurse: "Unterklassen" und Geschlecht\nOrt: 4DG02\n\nhttps://lfuonline.uibk.ac.at/public/lfuonline_lv.details?sem_id_in=06S&lvnr_id_in=603019\n
CLASS:PUBLIC
DTSTART:20060425T083000Z
DTEND:20060425T100000Z
DTSTAMP:20260426T023948Z
LOCATION:4DG02
END:VEVENT
BEGIN:VEVENT
UID:06S_603019_573658@uibk.ac.at
ORGANIZER;CN="LFU:online Universität Innsbruck":MAILTO:Uni-Innsbruck-noreply@uibk.ac.at
SUMMARY:Soziologische Diskurse: "Unterklassen" und Geschlecht (LV 603019-0 06S)
DESCRIPTION:Lehrveranstaltung 603019 06S, Gruppe 0\nTitel: Soziologische Diskurse: "Unterklassen" und Geschlecht\nOrt: 4DG02\n\nhttps://lfuonline.uibk.ac.at/public/lfuonline_lv.details?sem_id_in=06S&lvnr_id_in=603019\n
CLASS:PUBLIC
DTSTART:20060502T083000Z
DTEND:20060502T100000Z
DTSTAMP:20260426T023948Z
LOCATION:4DG02
END:VEVENT
BEGIN:VEVENT
UID:06S_603019_573659@uibk.ac.at
ORGANIZER;CN="LFU:online Universität Innsbruck":MAILTO:Uni-Innsbruck-noreply@uibk.ac.at
SUMMARY:Soziologische Diskurse: "Unterklassen" und Geschlecht (LV 603019-0 06S)
DESCRIPTION:Lehrveranstaltung 603019 06S, Gruppe 0\nTitel: Soziologische Diskurse: "Unterklassen" und Geschlecht\nOrt: 4DG02\n\nhttps://lfuonline.uibk.ac.at/public/lfuonline_lv.details?sem_id_in=06S&lvnr_id_in=603019\n
CLASS:PUBLIC
DTSTART:20060509T083000Z
DTEND:20060509T100000Z
DTSTAMP:20260426T023948Z
LOCATION:4DG02
END:VEVENT
BEGIN:VEVENT
UID:06S_603019_573660@uibk.ac.at
ORGANIZER;CN="LFU:online Universität Innsbruck":MAILTO:Uni-Innsbruck-noreply@uibk.ac.at
SUMMARY:Soziologische Diskurse: "Unterklassen" und Geschlecht (LV 603019-0 06S)
DESCRIPTION:Lehrveranstaltung 603019 06S, Gruppe 0\nTitel: Soziologische Diskurse: "Unterklassen" und Geschlecht\nOrt: 4DG02\n\nhttps://lfuonline.uibk.ac.at/public/lfuonline_lv.details?sem_id_in=06S&lvnr_id_in=603019\n
CLASS:PUBLIC
DTSTART:20060516T083000Z
DTEND:20060516T100000Z
DTSTAMP:20260426T023948Z
LOCATION:4DG02
END:VEVENT
BEGIN:VEVENT
UID:06S_603019_573661@uibk.ac.at
ORGANIZER;CN="LFU:online Universität Innsbruck":MAILTO:Uni-Innsbruck-noreply@uibk.ac.at
SUMMARY:Soziologische Diskurse: "Unterklassen" und Geschlecht (LV 603019-0 06S)
DESCRIPTION:Lehrveranstaltung 603019 06S, Gruppe 0\nTitel: Soziologische Diskurse: "Unterklassen" und Geschlecht\nOrt: 4DG02\n\nhttps://lfuonline.uibk.ac.at/public/lfuonline_lv.details?sem_id_in=06S&lvnr_id_in=603019\n
CLASS:PUBLIC
DTSTART:20060523T083000Z
DTEND:20060523T100000Z
DTSTAMP:20260426T023948Z
LOCATION:4DG02
END:VEVENT
BEGIN:VEVENT
UID:06S_603019_573662@uibk.ac.at
ORGANIZER;CN="LFU:online Universität Innsbruck":MAILTO:Uni-Innsbruck-noreply@uibk.ac.at
SUMMARY:Soziologische Diskurse: "Unterklassen" und Geschlecht (LV 603019-0 06S)
DESCRIPTION:Lehrveranstaltung 603019 06S, Gruppe 0\nTitel: Soziologische Diskurse: "Unterklassen" und Geschlecht\nOrt: 4DG02\n\nhttps://lfuonline.uibk.ac.at/public/lfuonline_lv.details?sem_id_in=06S&lvnr_id_in=603019\n
CLASS:PUBLIC
DTSTART:20060530T083000Z
DTEND:20060530T100000Z
DTSTAMP:20260426T023948Z
LOCATION:4DG02
END:VEVENT
BEGIN:VEVENT
UID:06S_603019_573663@uibk.ac.at
ORGANIZER;CN="LFU:online Universität Innsbruck":MAILTO:Uni-Innsbruck-noreply@uibk.ac.at
SUMMARY:Soziologische Diskurse: "Unterklassen" und Geschlecht (LV 603019-0 06S)
DESCRIPTION:Lehrveranstaltung 603019 06S, Gruppe 0\nTitel: Soziologische Diskurse: "Unterklassen" und Geschlecht\nOrt: 4DG02\n\nhttps://lfuonline.uibk.ac.at/public/lfuonline_lv.details?sem_id_in=06S&lvnr_id_in=603019\n
CLASS:PUBLIC
DTSTART:20060613T083000Z
DTEND:20060613T100000Z
DTSTAMP:20260426T023948Z
LOCATION:4DG02
END:VEVENT
BEGIN:VEVENT
UID:06S_603019_573664@uibk.ac.at
ORGANIZER;CN="LFU:online Universität Innsbruck":MAILTO:Uni-Innsbruck-noreply@uibk.ac.at
SUMMARY:Soziologische Diskurse: "Unterklassen" und Geschlecht (LV 603019-0 06S)
DESCRIPTION:Lehrveranstaltung 603019 06S, Gruppe 0\nTitel: Soziologische Diskurse: "Unterklassen" und Geschlecht\nOrt: 4DG02\n\nhttps://lfuonline.uibk.ac.at/public/lfuonline_lv.details?sem_id_in=06S&lvnr_id_in=603019\n
CLASS:PUBLIC
DTSTART:20060620T083000Z
DTEND:20060620T100000Z
DTSTAMP:20260426T023948Z
LOCATION:4DG02
END:VEVENT
BEGIN:VEVENT
UID:06S_603019_573665@uibk.ac.at
ORGANIZER;CN="LFU:online Universität Innsbruck":MAILTO:Uni-Innsbruck-noreply@uibk.ac.at
SUMMARY:Soziologische Diskurse: "Unterklassen" und Geschlecht (LV 603019-0 06S)
DESCRIPTION:Lehrveranstaltung 603019 06S, Gruppe 0\nTitel: Soziologische Diskurse: "Unterklassen" und Geschlecht\nOrt: 4DG02\n\nhttps://lfuonline.uibk.ac.at/public/lfuonline_lv.details?sem_id_in=06S&lvnr_id_in=603019\n
CLASS:PUBLIC
DTSTART:20060627T083000Z
DTEND:20060627T100000Z
DTSTAMP:20260426T023948Z
LOCATION:4DG02
END:VEVENT
END:VCALENDAR