BEGIN:VCALENDAR
VERSION:2.0
PRODID:-//Universität Innsbruck//LFU:online//DE
METHOD:PUBLISH
BEGIN:VEVENT
UID:06S_603020_530446@uibk.ac.at
ORGANIZER;CN="LFU:online Universität Innsbruck":MAILTO:Uni-Innsbruck-noreply@uibk.ac.at
SUMMARY:Die imaginierte "Weiblichkeit" und ihre feministische Kritik (LV 603020-0 06S)
DESCRIPTION:Lehrveranstaltung 603020 06S, Gruppe 0\nTitel: Die imaginierte "Weiblichkeit" und ihre feministische Kritik\nOrt: 40513 UR 10\n\nhttps://lfuonline.uibk.ac.at/public/lfuonline_lv.details?sem_id_in=06S&lvnr_id_in=603020\n
CLASS:PUBLIC
DTSTART:20060308T090000Z
DTEND:20060308T103000Z
DTSTAMP:20260426T023948Z
LOCATION:40513 UR 10
END:VEVENT
BEGIN:VEVENT
UID:06S_603020_530447@uibk.ac.at
ORGANIZER;CN="LFU:online Universität Innsbruck":MAILTO:Uni-Innsbruck-noreply@uibk.ac.at
SUMMARY:Die imaginierte "Weiblichkeit" und ihre feministische Kritik (LV 603020-0 06S)
DESCRIPTION:Lehrveranstaltung 603020 06S, Gruppe 0\nTitel: Die imaginierte "Weiblichkeit" und ihre feministische Kritik\nOrt: 40513 UR 10\n\nhttps://lfuonline.uibk.ac.at/public/lfuonline_lv.details?sem_id_in=06S&lvnr_id_in=603020\n
CLASS:PUBLIC
DTSTART:20060315T090000Z
DTEND:20060315T103000Z
DTSTAMP:20260426T023948Z
LOCATION:40513 UR 10
END:VEVENT
BEGIN:VEVENT
UID:06S_603020_530448@uibk.ac.at
ORGANIZER;CN="LFU:online Universität Innsbruck":MAILTO:Uni-Innsbruck-noreply@uibk.ac.at
SUMMARY:Die imaginierte "Weiblichkeit" und ihre feministische Kritik (LV 603020-0 06S)
DESCRIPTION:Lehrveranstaltung 603020 06S, Gruppe 0\nTitel: Die imaginierte "Weiblichkeit" und ihre feministische Kritik\nOrt: 40513 UR 10\n\nhttps://lfuonline.uibk.ac.at/public/lfuonline_lv.details?sem_id_in=06S&lvnr_id_in=603020\n
CLASS:PUBLIC
DTSTART:20060322T090000Z
DTEND:20060322T103000Z
DTSTAMP:20260426T023948Z
LOCATION:40513 UR 10
END:VEVENT
BEGIN:VEVENT
UID:06S_603020_530449@uibk.ac.at
ORGANIZER;CN="LFU:online Universität Innsbruck":MAILTO:Uni-Innsbruck-noreply@uibk.ac.at
SUMMARY:Die imaginierte "Weiblichkeit" und ihre feministische Kritik (LV 603020-0 06S)
DESCRIPTION:Lehrveranstaltung 603020 06S, Gruppe 0\nTitel: Die imaginierte "Weiblichkeit" und ihre feministische Kritik\nOrt: 40513 UR 10\n\nhttps://lfuonline.uibk.ac.at/public/lfuonline_lv.details?sem_id_in=06S&lvnr_id_in=603020\n
CLASS:PUBLIC
DTSTART:20060329T080000Z
DTEND:20060329T093000Z
DTSTAMP:20260426T023948Z
LOCATION:40513 UR 10
END:VEVENT
BEGIN:VEVENT
UID:06S_603020_530450@uibk.ac.at
ORGANIZER;CN="LFU:online Universität Innsbruck":MAILTO:Uni-Innsbruck-noreply@uibk.ac.at
SUMMARY:Die imaginierte "Weiblichkeit" und ihre feministische Kritik (LV 603020-0 06S)
DESCRIPTION:Lehrveranstaltung 603020 06S, Gruppe 0\nTitel: Die imaginierte "Weiblichkeit" und ihre feministische Kritik\nOrt: 40513 UR 10\n\nhttps://lfuonline.uibk.ac.at/public/lfuonline_lv.details?sem_id_in=06S&lvnr_id_in=603020\n
CLASS:PUBLIC
DTSTART:20060405T080000Z
DTEND:20060405T093000Z
DTSTAMP:20260426T023948Z
LOCATION:40513 UR 10
END:VEVENT
BEGIN:VEVENT
UID:06S_603020_530451@uibk.ac.at
ORGANIZER;CN="LFU:online Universität Innsbruck":MAILTO:Uni-Innsbruck-noreply@uibk.ac.at
SUMMARY:Die imaginierte "Weiblichkeit" und ihre feministische Kritik (LV 603020-0 06S)
DESCRIPTION:Lehrveranstaltung 603020 06S, Gruppe 0\nTitel: Die imaginierte "Weiblichkeit" und ihre feministische Kritik\nOrt: 40513 UR 10\n\nhttps://lfuonline.uibk.ac.at/public/lfuonline_lv.details?sem_id_in=06S&lvnr_id_in=603020\n
CLASS:PUBLIC
DTSTART:20060426T080000Z
DTEND:20060426T093000Z
DTSTAMP:20260426T023948Z
LOCATION:40513 UR 10
END:VEVENT
BEGIN:VEVENT
UID:06S_603020_530452@uibk.ac.at
ORGANIZER;CN="LFU:online Universität Innsbruck":MAILTO:Uni-Innsbruck-noreply@uibk.ac.at
SUMMARY:Die imaginierte "Weiblichkeit" und ihre feministische Kritik (LV 603020-0 06S)
DESCRIPTION:Lehrveranstaltung 603020 06S, Gruppe 0\nTitel: Die imaginierte "Weiblichkeit" und ihre feministische Kritik\nOrt: 40513 UR 10\n\nhttps://lfuonline.uibk.ac.at/public/lfuonline_lv.details?sem_id_in=06S&lvnr_id_in=603020\n
CLASS:PUBLIC
DTSTART:20060503T080000Z
DTEND:20060503T093000Z
DTSTAMP:20260426T023948Z
LOCATION:40513 UR 10
END:VEVENT
BEGIN:VEVENT
UID:06S_603020_530453@uibk.ac.at
ORGANIZER;CN="LFU:online Universität Innsbruck":MAILTO:Uni-Innsbruck-noreply@uibk.ac.at
SUMMARY:Die imaginierte "Weiblichkeit" und ihre feministische Kritik (LV 603020-0 06S)
DESCRIPTION:Lehrveranstaltung 603020 06S, Gruppe 0\nTitel: Die imaginierte "Weiblichkeit" und ihre feministische Kritik\nOrt: 40513 UR 10\n\nhttps://lfuonline.uibk.ac.at/public/lfuonline_lv.details?sem_id_in=06S&lvnr_id_in=603020\n
CLASS:PUBLIC
DTSTART:20060510T080000Z
DTEND:20060510T093000Z
DTSTAMP:20260426T023948Z
LOCATION:40513 UR 10
END:VEVENT
BEGIN:VEVENT
UID:06S_603020_530454@uibk.ac.at
ORGANIZER;CN="LFU:online Universität Innsbruck":MAILTO:Uni-Innsbruck-noreply@uibk.ac.at
SUMMARY:Die imaginierte "Weiblichkeit" und ihre feministische Kritik (LV 603020-0 06S)
DESCRIPTION:Lehrveranstaltung 603020 06S, Gruppe 0\nTitel: Die imaginierte "Weiblichkeit" und ihre feministische Kritik\nOrt: 40513 UR 10\n\nhttps://lfuonline.uibk.ac.at/public/lfuonline_lv.details?sem_id_in=06S&lvnr_id_in=603020\n
CLASS:PUBLIC
DTSTART:20060517T080000Z
DTEND:20060517T093000Z
DTSTAMP:20260426T023948Z
LOCATION:40513 UR 10
END:VEVENT
BEGIN:VEVENT
UID:06S_603020_530455@uibk.ac.at
ORGANIZER;CN="LFU:online Universität Innsbruck":MAILTO:Uni-Innsbruck-noreply@uibk.ac.at
SUMMARY:Die imaginierte "Weiblichkeit" und ihre feministische Kritik (LV 603020-0 06S)
DESCRIPTION:Lehrveranstaltung 603020 06S, Gruppe 0\nTitel: Die imaginierte "Weiblichkeit" und ihre feministische Kritik\nOrt: 40513 UR 10\n\nhttps://lfuonline.uibk.ac.at/public/lfuonline_lv.details?sem_id_in=06S&lvnr_id_in=603020\n
CLASS:PUBLIC
DTSTART:20060524T080000Z
DTEND:20060524T093000Z
DTSTAMP:20260426T023948Z
LOCATION:40513 UR 10
END:VEVENT
BEGIN:VEVENT
UID:06S_603020_530456@uibk.ac.at
ORGANIZER;CN="LFU:online Universität Innsbruck":MAILTO:Uni-Innsbruck-noreply@uibk.ac.at
SUMMARY:Die imaginierte "Weiblichkeit" und ihre feministische Kritik (LV 603020-0 06S)
DESCRIPTION:Lehrveranstaltung 603020 06S, Gruppe 0\nTitel: Die imaginierte "Weiblichkeit" und ihre feministische Kritik\nOrt: 40513 UR 10\n\nhttps://lfuonline.uibk.ac.at/public/lfuonline_lv.details?sem_id_in=06S&lvnr_id_in=603020\n
CLASS:PUBLIC
DTSTART:20060531T080000Z
DTEND:20060531T093000Z
DTSTAMP:20260426T023948Z
LOCATION:40513 UR 10
END:VEVENT
BEGIN:VEVENT
UID:06S_603020_530457@uibk.ac.at
ORGANIZER;CN="LFU:online Universität Innsbruck":MAILTO:Uni-Innsbruck-noreply@uibk.ac.at
SUMMARY:Die imaginierte "Weiblichkeit" und ihre feministische Kritik (LV 603020-0 06S)
DESCRIPTION:Lehrveranstaltung 603020 06S, Gruppe 0\nTitel: Die imaginierte "Weiblichkeit" und ihre feministische Kritik\nOrt: 40513 UR 10\n\nhttps://lfuonline.uibk.ac.at/public/lfuonline_lv.details?sem_id_in=06S&lvnr_id_in=603020\n
CLASS:PUBLIC
DTSTART:20060607T080000Z
DTEND:20060607T093000Z
DTSTAMP:20260426T023948Z
LOCATION:40513 UR 10
END:VEVENT
BEGIN:VEVENT
UID:06S_603020_530458@uibk.ac.at
ORGANIZER;CN="LFU:online Universität Innsbruck":MAILTO:Uni-Innsbruck-noreply@uibk.ac.at
SUMMARY:Die imaginierte "Weiblichkeit" und ihre feministische Kritik (LV 603020-0 06S)
DESCRIPTION:Lehrveranstaltung 603020 06S, Gruppe 0\nTitel: Die imaginierte "Weiblichkeit" und ihre feministische Kritik\nOrt: 40513 UR 10\n\nhttps://lfuonline.uibk.ac.at/public/lfuonline_lv.details?sem_id_in=06S&lvnr_id_in=603020\n
CLASS:PUBLIC
DTSTART:20060614T080000Z
DTEND:20060614T093000Z
DTSTAMP:20260426T023948Z
LOCATION:40513 UR 10
END:VEVENT
BEGIN:VEVENT
UID:06S_603020_530459@uibk.ac.at
ORGANIZER;CN="LFU:online Universität Innsbruck":MAILTO:Uni-Innsbruck-noreply@uibk.ac.at
SUMMARY:Die imaginierte "Weiblichkeit" und ihre feministische Kritik (LV 603020-0 06S)
DESCRIPTION:Lehrveranstaltung 603020 06S, Gruppe 0\nTitel: Die imaginierte "Weiblichkeit" und ihre feministische Kritik\nOrt: 40513 UR 10\n\nhttps://lfuonline.uibk.ac.at/public/lfuonline_lv.details?sem_id_in=06S&lvnr_id_in=603020\n
CLASS:PUBLIC
DTSTART:20060621T080000Z
DTEND:20060621T093000Z
DTSTAMP:20260426T023948Z
LOCATION:40513 UR 10
END:VEVENT
BEGIN:VEVENT
UID:06S_603020_530460@uibk.ac.at
ORGANIZER;CN="LFU:online Universität Innsbruck":MAILTO:Uni-Innsbruck-noreply@uibk.ac.at
SUMMARY:Die imaginierte "Weiblichkeit" und ihre feministische Kritik (LV 603020-0 06S)
DESCRIPTION:Lehrveranstaltung 603020 06S, Gruppe 0\nTitel: Die imaginierte "Weiblichkeit" und ihre feministische Kritik\nOrt: 40513 UR 10\n\nhttps://lfuonline.uibk.ac.at/public/lfuonline_lv.details?sem_id_in=06S&lvnr_id_in=603020\n
CLASS:PUBLIC
DTSTART:20060628T080000Z
DTEND:20060628T093000Z
DTSTAMP:20260426T023948Z
LOCATION:40513 UR 10
END:VEVENT
END:VCALENDAR