BEGIN:VCALENDAR
VERSION:2.0
PRODID:-//Universität Innsbruck//LFU:online//DE
METHOD:PUBLISH
BEGIN:VEVENT
UID:18W_603053_3242065@uibk.ac.at
ORGANIZER;CN="LFU:online Universität Innsbruck":MAILTO:Uni-Innsbruck-noreply@uibk.ac.at
SUMMARY:Einführung in Disability Studies (LV 603053-0 18W)
DESCRIPTION:Lehrveranstaltung 603053 18W, Gruppe 0\nTitel: Einführung in Disability Studies\nOrt: Hörsaal 4\n\nhttps://lfuonline.uibk.ac.at/public/lfuonline_lv.details?sem_id_in=18W&lvnr_id_in=603053\n
CLASS:PUBLIC
DTSTART:20181004T114500Z
DTEND:20181004T131500Z
DTSTAMP:20260423T045532Z
LOCATION:Hörsaal 4
END:VEVENT
BEGIN:VEVENT
UID:18W_603053_3242066@uibk.ac.at
ORGANIZER;CN="LFU:online Universität Innsbruck":MAILTO:Uni-Innsbruck-noreply@uibk.ac.at
SUMMARY:Einführung in Disability Studies (LV 603053-0 18W)
DESCRIPTION:Lehrveranstaltung 603053 18W, Gruppe 0\nTitel: Einführung in Disability Studies\nOrt: Hörsaal 4\n\nhttps://lfuonline.uibk.ac.at/public/lfuonline_lv.details?sem_id_in=18W&lvnr_id_in=603053\n
CLASS:PUBLIC
DTSTART:20181011T114500Z
DTEND:20181011T131500Z
DTSTAMP:20260423T045532Z
LOCATION:Hörsaal 4
END:VEVENT
BEGIN:VEVENT
UID:18W_603053_3242067@uibk.ac.at
ORGANIZER;CN="LFU:online Universität Innsbruck":MAILTO:Uni-Innsbruck-noreply@uibk.ac.at
SUMMARY:Einführung in Disability Studies (LV 603053-0 18W)
DESCRIPTION:Lehrveranstaltung 603053 18W, Gruppe 0\nTitel: Einführung in Disability Studies\nOrt: Hörsaal 4\n\nhttps://lfuonline.uibk.ac.at/public/lfuonline_lv.details?sem_id_in=18W&lvnr_id_in=603053\n
CLASS:PUBLIC
DTSTART:20181018T114500Z
DTEND:20181018T131500Z
DTSTAMP:20260423T045532Z
LOCATION:Hörsaal 4
END:VEVENT
BEGIN:VEVENT
UID:18W_603053_3242068@uibk.ac.at
ORGANIZER;CN="LFU:online Universität Innsbruck":MAILTO:Uni-Innsbruck-noreply@uibk.ac.at
SUMMARY:Einführung in Disability Studies (LV 603053-0 18W)
DESCRIPTION:Lehrveranstaltung 603053 18W, Gruppe 0\nTitel: Einführung in Disability Studies\nOrt: Hörsaal 4\n\nhttps://lfuonline.uibk.ac.at/public/lfuonline_lv.details?sem_id_in=18W&lvnr_id_in=603053\n
CLASS:PUBLIC
DTSTART:20181025T114500Z
DTEND:20181025T131500Z
DTSTAMP:20260423T045532Z
LOCATION:Hörsaal 4
END:VEVENT
BEGIN:VEVENT
UID:18W_603053_3242069@uibk.ac.at
ORGANIZER;CN="LFU:online Universität Innsbruck":MAILTO:Uni-Innsbruck-noreply@uibk.ac.at
SUMMARY:Einführung in Disability Studies (LV 603053-0 18W)
DESCRIPTION:Lehrveranstaltung 603053 18W, Gruppe 0\nTitel: Einführung in Disability Studies\nOrt: Hörsaal 4\n\nhttps://lfuonline.uibk.ac.at/public/lfuonline_lv.details?sem_id_in=18W&lvnr_id_in=603053\n
CLASS:PUBLIC
DTSTART:20181108T124500Z
DTEND:20181108T141500Z
DTSTAMP:20260423T045532Z
LOCATION:Hörsaal 4
END:VEVENT
BEGIN:VEVENT
UID:18W_603053_3242070@uibk.ac.at
ORGANIZER;CN="LFU:online Universität Innsbruck":MAILTO:Uni-Innsbruck-noreply@uibk.ac.at
SUMMARY:Einführung in Disability Studies (LV 603053-0 18W)
DESCRIPTION:Lehrveranstaltung 603053 18W, Gruppe 0\nTitel: Einführung in Disability Studies\nOrt: Hörsaal 4\n\nhttps://lfuonline.uibk.ac.at/public/lfuonline_lv.details?sem_id_in=18W&lvnr_id_in=603053\n
CLASS:PUBLIC
DTSTART:20181115T124500Z
DTEND:20181115T141500Z
DTSTAMP:20260423T045532Z
LOCATION:Hörsaal 4
END:VEVENT
BEGIN:VEVENT
UID:18W_603053_3242071@uibk.ac.at
ORGANIZER;CN="LFU:online Universität Innsbruck":MAILTO:Uni-Innsbruck-noreply@uibk.ac.at
SUMMARY:Einführung in Disability Studies (LV 603053-0 18W)
DESCRIPTION:Lehrveranstaltung 603053 18W, Gruppe 0\nTitel: Einführung in Disability Studies\nOrt: Hörsaal 4\n\nhttps://lfuonline.uibk.ac.at/public/lfuonline_lv.details?sem_id_in=18W&lvnr_id_in=603053\n
CLASS:PUBLIC
DTSTART:20181122T124500Z
DTEND:20181122T141500Z
DTSTAMP:20260423T045532Z
LOCATION:Hörsaal 4
END:VEVENT
BEGIN:VEVENT
UID:18W_603053_3242072@uibk.ac.at
ORGANIZER;CN="LFU:online Universität Innsbruck":MAILTO:Uni-Innsbruck-noreply@uibk.ac.at
SUMMARY:Einführung in Disability Studies (LV 603053-0 18W)
DESCRIPTION:Lehrveranstaltung 603053 18W, Gruppe 0\nTitel: Einführung in Disability Studies\nOrt: Hörsaal 4\n\nhttps://lfuonline.uibk.ac.at/public/lfuonline_lv.details?sem_id_in=18W&lvnr_id_in=603053\n
CLASS:PUBLIC
DTSTART:20181129T124500Z
DTEND:20181129T141500Z
DTSTAMP:20260423T045532Z
LOCATION:Hörsaal 4
END:VEVENT
BEGIN:VEVENT
UID:18W_603053_3242073@uibk.ac.at
ORGANIZER;CN="LFU:online Universität Innsbruck":MAILTO:Uni-Innsbruck-noreply@uibk.ac.at
SUMMARY:Einführung in Disability Studies (LV 603053-0 18W)
DESCRIPTION:Lehrveranstaltung 603053 18W, Gruppe 0\nTitel: Einführung in Disability Studies\nOrt: Hörsaal 4\n\nhttps://lfuonline.uibk.ac.at/public/lfuonline_lv.details?sem_id_in=18W&lvnr_id_in=603053\n
CLASS:PUBLIC
DTSTART:20181206T124500Z
DTEND:20181206T141500Z
DTSTAMP:20260423T045532Z
LOCATION:Hörsaal 4
END:VEVENT
BEGIN:VEVENT
UID:18W_603053_3242074@uibk.ac.at
ORGANIZER;CN="LFU:online Universität Innsbruck":MAILTO:Uni-Innsbruck-noreply@uibk.ac.at
SUMMARY:Einführung in Disability Studies (LV 603053-0 18W)
DESCRIPTION:Lehrveranstaltung 603053 18W, Gruppe 0\nTitel: Einführung in Disability Studies\nOrt: Hörsaal 4\n\nhttps://lfuonline.uibk.ac.at/public/lfuonline_lv.details?sem_id_in=18W&lvnr_id_in=603053\n
CLASS:PUBLIC
DTSTART:20181213T124500Z
DTEND:20181213T141500Z
DTSTAMP:20260423T045532Z
LOCATION:Hörsaal 4
END:VEVENT
BEGIN:VEVENT
UID:18W_603053_3242075@uibk.ac.at
ORGANIZER;CN="LFU:online Universität Innsbruck":MAILTO:Uni-Innsbruck-noreply@uibk.ac.at
SUMMARY:Einführung in Disability Studies (LV 603053-0 18W)
DESCRIPTION:Lehrveranstaltung 603053 18W, Gruppe 0\nTitel: Einführung in Disability Studies\nOrt: Hörsaal 4\n\nhttps://lfuonline.uibk.ac.at/public/lfuonline_lv.details?sem_id_in=18W&lvnr_id_in=603053\n
CLASS:PUBLIC
DTSTART:20190110T124500Z
DTEND:20190110T141500Z
DTSTAMP:20260423T045532Z
LOCATION:Hörsaal 4
END:VEVENT
BEGIN:VEVENT
UID:18W_603053_3242076@uibk.ac.at
ORGANIZER;CN="LFU:online Universität Innsbruck":MAILTO:Uni-Innsbruck-noreply@uibk.ac.at
SUMMARY:Einführung in Disability Studies (LV 603053-0 18W)
DESCRIPTION:Lehrveranstaltung 603053 18W, Gruppe 0\nTitel: Einführung in Disability Studies\nOrt: Hörsaal 4\n\nhttps://lfuonline.uibk.ac.at/public/lfuonline_lv.details?sem_id_in=18W&lvnr_id_in=603053\n
CLASS:PUBLIC
DTSTART:20190117T124500Z
DTEND:20190117T141500Z
DTSTAMP:20260423T045532Z
LOCATION:Hörsaal 4
END:VEVENT
BEGIN:VEVENT
UID:18W_603053_3242077@uibk.ac.at
ORGANIZER;CN="LFU:online Universität Innsbruck":MAILTO:Uni-Innsbruck-noreply@uibk.ac.at
SUMMARY:Einführung in Disability Studies (LV 603053-0 18W)
DESCRIPTION:Lehrveranstaltung 603053 18W, Gruppe 0\nTitel: Einführung in Disability Studies\nOrt: Hörsaal 4\n\nhttps://lfuonline.uibk.ac.at/public/lfuonline_lv.details?sem_id_in=18W&lvnr_id_in=603053\n
CLASS:PUBLIC
DTSTART:20190124T124500Z
DTEND:20190124T141500Z
DTSTAMP:20260423T045532Z
LOCATION:Hörsaal 4
END:VEVENT
BEGIN:VEVENT
UID:18W_603053_3242078@uibk.ac.at
ORGANIZER;CN="LFU:online Universität Innsbruck":MAILTO:Uni-Innsbruck-noreply@uibk.ac.at
SUMMARY:Einführung in Disability Studies (LV 603053-0 18W)
DESCRIPTION:Lehrveranstaltung 603053 18W, Gruppe 0\nTitel: Einführung in Disability Studies\nOrt: Hörsaal 4\n\nhttps://lfuonline.uibk.ac.at/public/lfuonline_lv.details?sem_id_in=18W&lvnr_id_in=603053\n
CLASS:PUBLIC
DTSTART:20190131T124500Z
DTEND:20190131T141500Z
DTSTAMP:20260423T045532Z
LOCATION:Hörsaal 4
END:VEVENT
BEGIN:VEVENT
UID:18W_603053_3467713@uibk.ac.at
ORGANIZER;CN="LFU:online Universität Innsbruck":MAILTO:Uni-Innsbruck-noreply@uibk.ac.at
SUMMARY:Einführung in Disability Studies (LV 603053-0 18W)
DESCRIPTION:Lehrveranstaltung 603053 18W, Gruppe 0\nTitel: Einführung in Disability Studies\nOrt: Hörsaal 6\n\nhttps://lfuonline.uibk.ac.at/public/lfuonline_lv.details?sem_id_in=18W&lvnr_id_in=603053\n
CLASS:PUBLIC
DTSTART:20191001T133000Z
DTEND:20191001T150000Z
DTSTAMP:20260423T045532Z
LOCATION:Hörsaal 6
COMMENT:3. Klausur
END:VEVENT
END:VCALENDAR