BEGIN:VCALENDAR
VERSION:2.0
PRODID:-//Universität Innsbruck//LFU:online//DE
METHOD:PUBLISH
BEGIN:VEVENT
UID:18W_603064_3175641@uibk.ac.at
ORGANIZER;CN="LFU:online Universität Innsbruck":MAILTO:Uni-Innsbruck-noreply@uibk.ac.at
SUMMARY:Grundlagen der Erziehungswissenschaft: Vertiefung I: Die Rassisierung von Geschlecht in der Moderne und ihre Auflösung in der "flüchtigen Moderne" (Zygmunt Bauman) (LV 603064-0 18W)
DESCRIPTION:Lehrveranstaltung 603064 18W, Gruppe 0\nTitel: Grundlagen der Erziehungswissenschaft: Vertiefung I: Die Rassisierung von Geschlecht in der Moderne und ihre Auflösung in der "flüchtigen Moderne" (Zygmunt Bauman)\nOrt: 50105/2 SR\n\nhttps://lfuonline.uibk.ac.at/public/lfuonline_lv.details?sem_id_in=18W&lvnr_id_in=603064\n
CLASS:PUBLIC
DTSTART:20181214T170000Z
DTEND:20181214T200000Z
DTSTAMP:20260423T031222Z
LOCATION:50105/2 SR
COMMENT:Vorbesprechung
END:VEVENT
BEGIN:VEVENT
UID:18W_603064_3175630@uibk.ac.at
ORGANIZER;CN="LFU:online Universität Innsbruck":MAILTO:Uni-Innsbruck-noreply@uibk.ac.at
SUMMARY:Grundlagen der Erziehungswissenschaft: Vertiefung I: Die Rassisierung von Geschlecht in der Moderne und ihre Auflösung in der "flüchtigen Moderne" (Zygmunt Bauman) (LV 603064-0 18W)
DESCRIPTION:Lehrveranstaltung 603064 18W, Gruppe 0\nTitel: Grundlagen der Erziehungswissenschaft: Vertiefung I: Die Rassisierung von Geschlecht in der Moderne und ihre Auflösung in der "flüchtigen Moderne" (Zygmunt Bauman)\nOrt: 50105/2 SR\n\nhttps://lfuonline.uibk.ac.at/public/lfuonline_lv.details?sem_id_in=18W&lvnr_id_in=603064\n
CLASS:PUBLIC
DTSTART:20190111T090000Z
DTEND:20190111T170000Z
DTSTAMP:20260423T031222Z
LOCATION:50105/2 SR
END:VEVENT
BEGIN:VEVENT
UID:18W_603064_3175636@uibk.ac.at
ORGANIZER;CN="LFU:online Universität Innsbruck":MAILTO:Uni-Innsbruck-noreply@uibk.ac.at
SUMMARY:Grundlagen der Erziehungswissenschaft: Vertiefung I: Die Rassisierung von Geschlecht in der Moderne und ihre Auflösung in der "flüchtigen Moderne" (Zygmunt Bauman) (LV 603064-0 18W)
DESCRIPTION:Lehrveranstaltung 603064 18W, Gruppe 0\nTitel: Grundlagen der Erziehungswissenschaft: Vertiefung I: Die Rassisierung von Geschlecht in der Moderne und ihre Auflösung in der "flüchtigen Moderne" (Zygmunt Bauman)\nOrt: 4U102a\n\nhttps://lfuonline.uibk.ac.at/public/lfuonline_lv.details?sem_id_in=18W&lvnr_id_in=603064\n
CLASS:PUBLIC
DTSTART:20190112T090000Z
DTEND:20190112T150000Z
DTSTAMP:20260423T031222Z
LOCATION:4U102a
END:VEVENT
BEGIN:VEVENT
UID:18W_603064_3175638@uibk.ac.at
ORGANIZER;CN="LFU:online Universität Innsbruck":MAILTO:Uni-Innsbruck-noreply@uibk.ac.at
SUMMARY:Grundlagen der Erziehungswissenschaft: Vertiefung I: Die Rassisierung von Geschlecht in der Moderne und ihre Auflösung in der "flüchtigen Moderne" (Zygmunt Bauman) (LV 603064-0 18W)
DESCRIPTION:Lehrveranstaltung 603064 18W, Gruppe 0\nTitel: Grundlagen der Erziehungswissenschaft: Vertiefung I: Die Rassisierung von Geschlecht in der Moderne und ihre Auflösung in der "flüchtigen Moderne" (Zygmunt Bauman)\nOrt: 50105/2 SR\n\nhttps://lfuonline.uibk.ac.at/public/lfuonline_lv.details?sem_id_in=18W&lvnr_id_in=603064\n
CLASS:PUBLIC
DTSTART:20190125T090000Z
DTEND:20190125T170000Z
DTSTAMP:20260423T031222Z
LOCATION:50105/2 SR
END:VEVENT
BEGIN:VEVENT
UID:18W_603064_3175637@uibk.ac.at
ORGANIZER;CN="LFU:online Universität Innsbruck":MAILTO:Uni-Innsbruck-noreply@uibk.ac.at
SUMMARY:Grundlagen der Erziehungswissenschaft: Vertiefung I: Die Rassisierung von Geschlecht in der Moderne und ihre Auflösung in der "flüchtigen Moderne" (Zygmunt Bauman) (LV 603064-0 18W)
DESCRIPTION:Lehrveranstaltung 603064 18W, Gruppe 0\nTitel: Grundlagen der Erziehungswissenschaft: Vertiefung I: Die Rassisierung von Geschlecht in der Moderne und ihre Auflösung in der "flüchtigen Moderne" (Zygmunt Bauman)\nOrt: 50105/2 SR\n\nhttps://lfuonline.uibk.ac.at/public/lfuonline_lv.details?sem_id_in=18W&lvnr_id_in=603064\n
CLASS:PUBLIC
DTSTART:20190126T090000Z
DTEND:20190126T150000Z
DTSTAMP:20260423T031222Z
LOCATION:50105/2 SR
END:VEVENT
END:VCALENDAR