BEGIN:VCALENDAR
VERSION:2.0
PRODID:-//Universität Innsbruck//LFU:online//DE
METHOD:PUBLISH
BEGIN:VEVENT
UID:18W_603066_3175694@uibk.ac.at
ORGANIZER;CN="LFU:online Universität Innsbruck":MAILTO:Uni-Innsbruck-noreply@uibk.ac.at
SUMMARY:Grundlagen der Erziehungswissenschaft: Vertiefung I: Geschlecht und Sexualität (LV 603066-0 18W)
DESCRIPTION:Lehrveranstaltung 603066 18W, Gruppe 0\nTitel: Grundlagen der Erziehungswissenschaft: Vertiefung I: Geschlecht und Sexualität\nOrt: 4U102b\n\nhttps://lfuonline.uibk.ac.at/public/lfuonline_lv.details?sem_id_in=18W&lvnr_id_in=603066\n
CLASS:PUBLIC
DTSTART:20181109T120000Z
DTEND:20181109T180000Z
DTSTAMP:20260423T031259Z
LOCATION:4U102b
END:VEVENT
BEGIN:VEVENT
UID:18W_603066_3175695@uibk.ac.at
ORGANIZER;CN="LFU:online Universität Innsbruck":MAILTO:Uni-Innsbruck-noreply@uibk.ac.at
SUMMARY:Grundlagen der Erziehungswissenschaft: Vertiefung I: Geschlecht und Sexualität (LV 603066-0 18W)
DESCRIPTION:Lehrveranstaltung 603066 18W, Gruppe 0\nTitel: Grundlagen der Erziehungswissenschaft: Vertiefung I: Geschlecht und Sexualität\nOrt: 50101/1 SR\n\nhttps://lfuonline.uibk.ac.at/public/lfuonline_lv.details?sem_id_in=18W&lvnr_id_in=603066\n
CLASS:PUBLIC
DTSTART:20181110T080000Z
DTEND:20181110T150000Z
DTSTAMP:20260423T031259Z
LOCATION:50101/1 SR
END:VEVENT
BEGIN:VEVENT
UID:18W_603066_3175697@uibk.ac.at
ORGANIZER;CN="LFU:online Universität Innsbruck":MAILTO:Uni-Innsbruck-noreply@uibk.ac.at
SUMMARY:Grundlagen der Erziehungswissenschaft: Vertiefung I: Geschlecht und Sexualität (LV 603066-0 18W)
DESCRIPTION:Lehrveranstaltung 603066 18W, Gruppe 0\nTitel: Grundlagen der Erziehungswissenschaft: Vertiefung I: Geschlecht und Sexualität\nOrt: 40620 SR\n\nhttps://lfuonline.uibk.ac.at/public/lfuonline_lv.details?sem_id_in=18W&lvnr_id_in=603066\n
CLASS:PUBLIC
DTSTART:20190111T120000Z
DTEND:20190111T180000Z
DTSTAMP:20260423T031259Z
LOCATION:40620 SR
END:VEVENT
BEGIN:VEVENT
UID:18W_603066_3175696@uibk.ac.at
ORGANIZER;CN="LFU:online Universität Innsbruck":MAILTO:Uni-Innsbruck-noreply@uibk.ac.at
SUMMARY:Grundlagen der Erziehungswissenschaft: Vertiefung I: Geschlecht und Sexualität (LV 603066-0 18W)
DESCRIPTION:Lehrveranstaltung 603066 18W, Gruppe 0\nTitel: Grundlagen der Erziehungswissenschaft: Vertiefung I: Geschlecht und Sexualität\nOrt: 50101/1 SR\n\nhttps://lfuonline.uibk.ac.at/public/lfuonline_lv.details?sem_id_in=18W&lvnr_id_in=603066\n
CLASS:PUBLIC
DTSTART:20190112T080000Z
DTEND:20190112T150000Z
DTSTAMP:20260423T031259Z
LOCATION:50101/1 SR
END:VEVENT
END:VCALENDAR