BEGIN:VCALENDAR
VERSION:2.0
PRODID:-//Universität Innsbruck//LFU:online//DE
METHOD:PUBLISH
BEGIN:VEVENT
UID:06S_603082_530528@uibk.ac.at
ORGANIZER;CN="LFU:online Universität Innsbruck":MAILTO:Uni-Innsbruck-noreply@uibk.ac.at
SUMMARY:Forschungspraktikum I (LV 603082-0 06S)
DESCRIPTION:Lehrveranstaltung 603082 06S, Gruppe 0\nTitel: Forschungspraktikum I\nOrt: 40513 UR 10\n\nhttps://lfuonline.uibk.ac.at/public/lfuonline_lv.details?sem_id_in=06S&lvnr_id_in=603082\n
CLASS:PUBLIC
DTSTART:20060307T120000Z
DTEND:20060307T133000Z
DTSTAMP:20260426T023948Z
LOCATION:40513 UR 10
END:VEVENT
BEGIN:VEVENT
UID:06S_603082_530529@uibk.ac.at
ORGANIZER;CN="LFU:online Universität Innsbruck":MAILTO:Uni-Innsbruck-noreply@uibk.ac.at
SUMMARY:Forschungspraktikum I (LV 603082-0 06S)
DESCRIPTION:Lehrveranstaltung 603082 06S, Gruppe 0\nTitel: Forschungspraktikum I\nOrt: 40513 UR 10\n\nhttps://lfuonline.uibk.ac.at/public/lfuonline_lv.details?sem_id_in=06S&lvnr_id_in=603082\n
CLASS:PUBLIC
DTSTART:20060314T120000Z
DTEND:20060314T133000Z
DTSTAMP:20260426T023948Z
LOCATION:40513 UR 10
END:VEVENT
BEGIN:VEVENT
UID:06S_603082_530530@uibk.ac.at
ORGANIZER;CN="LFU:online Universität Innsbruck":MAILTO:Uni-Innsbruck-noreply@uibk.ac.at
SUMMARY:Forschungspraktikum I (LV 603082-0 06S)
DESCRIPTION:Lehrveranstaltung 603082 06S, Gruppe 0\nTitel: Forschungspraktikum I\nOrt: 40513 UR 10\n\nhttps://lfuonline.uibk.ac.at/public/lfuonline_lv.details?sem_id_in=06S&lvnr_id_in=603082\n
CLASS:PUBLIC
DTSTART:20060321T120000Z
DTEND:20060321T133000Z
DTSTAMP:20260426T023948Z
LOCATION:40513 UR 10
END:VEVENT
BEGIN:VEVENT
UID:06S_603082_530531@uibk.ac.at
ORGANIZER;CN="LFU:online Universität Innsbruck":MAILTO:Uni-Innsbruck-noreply@uibk.ac.at
SUMMARY:Forschungspraktikum I (LV 603082-0 06S)
DESCRIPTION:Lehrveranstaltung 603082 06S, Gruppe 0\nTitel: Forschungspraktikum I\nOrt: 40513 UR 10\n\nhttps://lfuonline.uibk.ac.at/public/lfuonline_lv.details?sem_id_in=06S&lvnr_id_in=603082\n
CLASS:PUBLIC
DTSTART:20060328T110000Z
DTEND:20060328T123000Z
DTSTAMP:20260426T023948Z
LOCATION:40513 UR 10
END:VEVENT
BEGIN:VEVENT
UID:06S_603082_530532@uibk.ac.at
ORGANIZER;CN="LFU:online Universität Innsbruck":MAILTO:Uni-Innsbruck-noreply@uibk.ac.at
SUMMARY:Forschungspraktikum I (LV 603082-0 06S)
DESCRIPTION:Lehrveranstaltung 603082 06S, Gruppe 0\nTitel: Forschungspraktikum I\nOrt: 40513 UR 10\n\nhttps://lfuonline.uibk.ac.at/public/lfuonline_lv.details?sem_id_in=06S&lvnr_id_in=603082\n
CLASS:PUBLIC
DTSTART:20060404T110000Z
DTEND:20060404T123000Z
DTSTAMP:20260426T023948Z
LOCATION:40513 UR 10
END:VEVENT
BEGIN:VEVENT
UID:06S_603082_530533@uibk.ac.at
ORGANIZER;CN="LFU:online Universität Innsbruck":MAILTO:Uni-Innsbruck-noreply@uibk.ac.at
SUMMARY:Forschungspraktikum I (LV 603082-0 06S)
DESCRIPTION:Lehrveranstaltung 603082 06S, Gruppe 0\nTitel: Forschungspraktikum I\nOrt: 40513 UR 10\n\nhttps://lfuonline.uibk.ac.at/public/lfuonline_lv.details?sem_id_in=06S&lvnr_id_in=603082\n
CLASS:PUBLIC
DTSTART:20060425T110000Z
DTEND:20060425T123000Z
DTSTAMP:20260426T023948Z
LOCATION:40513 UR 10
END:VEVENT
BEGIN:VEVENT
UID:06S_603082_530534@uibk.ac.at
ORGANIZER;CN="LFU:online Universität Innsbruck":MAILTO:Uni-Innsbruck-noreply@uibk.ac.at
SUMMARY:Forschungspraktikum I (LV 603082-0 06S)
DESCRIPTION:Lehrveranstaltung 603082 06S, Gruppe 0\nTitel: Forschungspraktikum I\nOrt: 40513 UR 10\n\nhttps://lfuonline.uibk.ac.at/public/lfuonline_lv.details?sem_id_in=06S&lvnr_id_in=603082\n
CLASS:PUBLIC
DTSTART:20060502T110000Z
DTEND:20060502T123000Z
DTSTAMP:20260426T023948Z
LOCATION:40513 UR 10
END:VEVENT
BEGIN:VEVENT
UID:06S_603082_530535@uibk.ac.at
ORGANIZER;CN="LFU:online Universität Innsbruck":MAILTO:Uni-Innsbruck-noreply@uibk.ac.at
SUMMARY:Forschungspraktikum I (LV 603082-0 06S)
DESCRIPTION:Lehrveranstaltung 603082 06S, Gruppe 0\nTitel: Forschungspraktikum I\nOrt: 40513 UR 10\n\nhttps://lfuonline.uibk.ac.at/public/lfuonline_lv.details?sem_id_in=06S&lvnr_id_in=603082\n
CLASS:PUBLIC
DTSTART:20060509T110000Z
DTEND:20060509T123000Z
DTSTAMP:20260426T023948Z
LOCATION:40513 UR 10
END:VEVENT
BEGIN:VEVENT
UID:06S_603082_530536@uibk.ac.at
ORGANIZER;CN="LFU:online Universität Innsbruck":MAILTO:Uni-Innsbruck-noreply@uibk.ac.at
SUMMARY:Forschungspraktikum I (LV 603082-0 06S)
DESCRIPTION:Lehrveranstaltung 603082 06S, Gruppe 0\nTitel: Forschungspraktikum I\nOrt: 40513 UR 10\n\nhttps://lfuonline.uibk.ac.at/public/lfuonline_lv.details?sem_id_in=06S&lvnr_id_in=603082\n
CLASS:PUBLIC
DTSTART:20060516T110000Z
DTEND:20060516T123000Z
DTSTAMP:20260426T023948Z
LOCATION:40513 UR 10
END:VEVENT
BEGIN:VEVENT
UID:06S_603082_530537@uibk.ac.at
ORGANIZER;CN="LFU:online Universität Innsbruck":MAILTO:Uni-Innsbruck-noreply@uibk.ac.at
SUMMARY:Forschungspraktikum I (LV 603082-0 06S)
DESCRIPTION:Lehrveranstaltung 603082 06S, Gruppe 0\nTitel: Forschungspraktikum I\nOrt: 40513 UR 10\n\nhttps://lfuonline.uibk.ac.at/public/lfuonline_lv.details?sem_id_in=06S&lvnr_id_in=603082\n
CLASS:PUBLIC
DTSTART:20060523T110000Z
DTEND:20060523T123000Z
DTSTAMP:20260426T023948Z
LOCATION:40513 UR 10
END:VEVENT
BEGIN:VEVENT
UID:06S_603082_530538@uibk.ac.at
ORGANIZER;CN="LFU:online Universität Innsbruck":MAILTO:Uni-Innsbruck-noreply@uibk.ac.at
SUMMARY:Forschungspraktikum I (LV 603082-0 06S)
DESCRIPTION:Lehrveranstaltung 603082 06S, Gruppe 0\nTitel: Forschungspraktikum I\nOrt: 40513 UR 10\n\nhttps://lfuonline.uibk.ac.at/public/lfuonline_lv.details?sem_id_in=06S&lvnr_id_in=603082\n
CLASS:PUBLIC
DTSTART:20060530T110000Z
DTEND:20060530T123000Z
DTSTAMP:20260426T023948Z
LOCATION:40513 UR 10
END:VEVENT
BEGIN:VEVENT
UID:06S_603082_530539@uibk.ac.at
ORGANIZER;CN="LFU:online Universität Innsbruck":MAILTO:Uni-Innsbruck-noreply@uibk.ac.at
SUMMARY:Forschungspraktikum I (LV 603082-0 06S)
DESCRIPTION:Lehrveranstaltung 603082 06S, Gruppe 0\nTitel: Forschungspraktikum I\nOrt: 40513 UR 10\n\nhttps://lfuonline.uibk.ac.at/public/lfuonline_lv.details?sem_id_in=06S&lvnr_id_in=603082\n
CLASS:PUBLIC
DTSTART:20060613T110000Z
DTEND:20060613T123000Z
DTSTAMP:20260426T023948Z
LOCATION:40513 UR 10
END:VEVENT
BEGIN:VEVENT
UID:06S_603082_530540@uibk.ac.at
ORGANIZER;CN="LFU:online Universität Innsbruck":MAILTO:Uni-Innsbruck-noreply@uibk.ac.at
SUMMARY:Forschungspraktikum I (LV 603082-0 06S)
DESCRIPTION:Lehrveranstaltung 603082 06S, Gruppe 0\nTitel: Forschungspraktikum I\nOrt: 40513 UR 10\n\nhttps://lfuonline.uibk.ac.at/public/lfuonline_lv.details?sem_id_in=06S&lvnr_id_in=603082\n
CLASS:PUBLIC
DTSTART:20060620T110000Z
DTEND:20060620T123000Z
DTSTAMP:20260426T023948Z
LOCATION:40513 UR 10
END:VEVENT
BEGIN:VEVENT
UID:06S_603082_530541@uibk.ac.at
ORGANIZER;CN="LFU:online Universität Innsbruck":MAILTO:Uni-Innsbruck-noreply@uibk.ac.at
SUMMARY:Forschungspraktikum I (LV 603082-0 06S)
DESCRIPTION:Lehrveranstaltung 603082 06S, Gruppe 0\nTitel: Forschungspraktikum I\nOrt: 40513 UR 10\n\nhttps://lfuonline.uibk.ac.at/public/lfuonline_lv.details?sem_id_in=06S&lvnr_id_in=603082\n
CLASS:PUBLIC
DTSTART:20060627T110000Z
DTEND:20060627T123000Z
DTSTAMP:20260426T023948Z
LOCATION:40513 UR 10
END:VEVENT
END:VCALENDAR