BEGIN:VCALENDAR
VERSION:2.0
PRODID:-//Universität Innsbruck//LFU:online//DE
METHOD:PUBLISH
BEGIN:VEVENT
UID:06S_603085_531127@uibk.ac.at
ORGANIZER;CN="LFU:online Universität Innsbruck":MAILTO:Uni-Innsbruck-noreply@uibk.ac.at
SUMMARY:Produktion, Kosumtion und geschlechtshierarchische Arbeitsteilung. (LV 603085-0 06S)
DESCRIPTION:Lehrveranstaltung 603085 06S, Gruppe 0\nTitel: Produktion, Kosumtion und geschlechtshierarchische Arbeitsteilung.\nOrt: KR Liebeneggstraße\n\nhttps://lfuonline.uibk.ac.at/public/lfuonline_lv.details?sem_id_in=06S&lvnr_id_in=603085\n
CLASS:PUBLIC
DTSTART:20060306T153000Z
DTEND:20060306T170000Z
DTSTAMP:20260426T023948Z
LOCATION:KR Liebeneggstraße
END:VEVENT
BEGIN:VEVENT
UID:06S_603085_531128@uibk.ac.at
ORGANIZER;CN="LFU:online Universität Innsbruck":MAILTO:Uni-Innsbruck-noreply@uibk.ac.at
SUMMARY:Produktion, Kosumtion und geschlechtshierarchische Arbeitsteilung. (LV 603085-0 06S)
DESCRIPTION:Lehrveranstaltung 603085 06S, Gruppe 0\nTitel: Produktion, Kosumtion und geschlechtshierarchische Arbeitsteilung.\nOrt: KR Liebeneggstraße\n\nhttps://lfuonline.uibk.ac.at/public/lfuonline_lv.details?sem_id_in=06S&lvnr_id_in=603085\n
CLASS:PUBLIC
DTSTART:20060313T153000Z
DTEND:20060313T170000Z
DTSTAMP:20260426T023948Z
LOCATION:KR Liebeneggstraße
END:VEVENT
BEGIN:VEVENT
UID:06S_603085_531129@uibk.ac.at
ORGANIZER;CN="LFU:online Universität Innsbruck":MAILTO:Uni-Innsbruck-noreply@uibk.ac.at
SUMMARY:Produktion, Kosumtion und geschlechtshierarchische Arbeitsteilung. (LV 603085-0 06S)
DESCRIPTION:Lehrveranstaltung 603085 06S, Gruppe 0\nTitel: Produktion, Kosumtion und geschlechtshierarchische Arbeitsteilung.\nOrt: KR Liebeneggstraße\n\nhttps://lfuonline.uibk.ac.at/public/lfuonline_lv.details?sem_id_in=06S&lvnr_id_in=603085\n
CLASS:PUBLIC
DTSTART:20060320T153000Z
DTEND:20060320T170000Z
DTSTAMP:20260426T023948Z
LOCATION:KR Liebeneggstraße
END:VEVENT
BEGIN:VEVENT
UID:06S_603085_531130@uibk.ac.at
ORGANIZER;CN="LFU:online Universität Innsbruck":MAILTO:Uni-Innsbruck-noreply@uibk.ac.at
SUMMARY:Produktion, Kosumtion und geschlechtshierarchische Arbeitsteilung. (LV 603085-0 06S)
DESCRIPTION:Lehrveranstaltung 603085 06S, Gruppe 0\nTitel: Produktion, Kosumtion und geschlechtshierarchische Arbeitsteilung.\nOrt: KR Liebeneggstraße\n\nhttps://lfuonline.uibk.ac.at/public/lfuonline_lv.details?sem_id_in=06S&lvnr_id_in=603085\n
CLASS:PUBLIC
DTSTART:20060327T143000Z
DTEND:20060327T160000Z
DTSTAMP:20260426T023948Z
LOCATION:KR Liebeneggstraße
END:VEVENT
BEGIN:VEVENT
UID:06S_603085_531131@uibk.ac.at
ORGANIZER;CN="LFU:online Universität Innsbruck":MAILTO:Uni-Innsbruck-noreply@uibk.ac.at
SUMMARY:Produktion, Kosumtion und geschlechtshierarchische Arbeitsteilung. (LV 603085-0 06S)
DESCRIPTION:Lehrveranstaltung 603085 06S, Gruppe 0\nTitel: Produktion, Kosumtion und geschlechtshierarchische Arbeitsteilung.\nOrt: KR Liebeneggstraße\n\nhttps://lfuonline.uibk.ac.at/public/lfuonline_lv.details?sem_id_in=06S&lvnr_id_in=603085\n
CLASS:PUBLIC
DTSTART:20060403T143000Z
DTEND:20060403T160000Z
DTSTAMP:20260426T023948Z
LOCATION:KR Liebeneggstraße
END:VEVENT
BEGIN:VEVENT
UID:06S_603085_531132@uibk.ac.at
ORGANIZER;CN="LFU:online Universität Innsbruck":MAILTO:Uni-Innsbruck-noreply@uibk.ac.at
SUMMARY:Produktion, Kosumtion und geschlechtshierarchische Arbeitsteilung. (LV 603085-0 06S)
DESCRIPTION:Lehrveranstaltung 603085 06S, Gruppe 0\nTitel: Produktion, Kosumtion und geschlechtshierarchische Arbeitsteilung.\nOrt: KR Liebeneggstraße\n\nhttps://lfuonline.uibk.ac.at/public/lfuonline_lv.details?sem_id_in=06S&lvnr_id_in=603085\n
CLASS:PUBLIC
DTSTART:20060424T143000Z
DTEND:20060424T160000Z
DTSTAMP:20260426T023948Z
LOCATION:KR Liebeneggstraße
END:VEVENT
BEGIN:VEVENT
UID:06S_603085_531133@uibk.ac.at
ORGANIZER;CN="LFU:online Universität Innsbruck":MAILTO:Uni-Innsbruck-noreply@uibk.ac.at
SUMMARY:Produktion, Kosumtion und geschlechtshierarchische Arbeitsteilung. (LV 603085-0 06S)
DESCRIPTION:Lehrveranstaltung 603085 06S, Gruppe 0\nTitel: Produktion, Kosumtion und geschlechtshierarchische Arbeitsteilung.\nOrt: KR Liebeneggstraße\n\nhttps://lfuonline.uibk.ac.at/public/lfuonline_lv.details?sem_id_in=06S&lvnr_id_in=603085\n
CLASS:PUBLIC
DTSTART:20060508T143000Z
DTEND:20060508T160000Z
DTSTAMP:20260426T023948Z
LOCATION:KR Liebeneggstraße
END:VEVENT
BEGIN:VEVENT
UID:06S_603085_531134@uibk.ac.at
ORGANIZER;CN="LFU:online Universität Innsbruck":MAILTO:Uni-Innsbruck-noreply@uibk.ac.at
SUMMARY:Produktion, Kosumtion und geschlechtshierarchische Arbeitsteilung. (LV 603085-0 06S)
DESCRIPTION:Lehrveranstaltung 603085 06S, Gruppe 0\nTitel: Produktion, Kosumtion und geschlechtshierarchische Arbeitsteilung.\nOrt: KR Liebeneggstraße\n\nhttps://lfuonline.uibk.ac.at/public/lfuonline_lv.details?sem_id_in=06S&lvnr_id_in=603085\n
CLASS:PUBLIC
DTSTART:20060515T143000Z
DTEND:20060515T160000Z
DTSTAMP:20260426T023948Z
LOCATION:KR Liebeneggstraße
END:VEVENT
BEGIN:VEVENT
UID:06S_603085_531135@uibk.ac.at
ORGANIZER;CN="LFU:online Universität Innsbruck":MAILTO:Uni-Innsbruck-noreply@uibk.ac.at
SUMMARY:Produktion, Kosumtion und geschlechtshierarchische Arbeitsteilung. (LV 603085-0 06S)
DESCRIPTION:Lehrveranstaltung 603085 06S, Gruppe 0\nTitel: Produktion, Kosumtion und geschlechtshierarchische Arbeitsteilung.\nOrt: KR Liebeneggstraße\n\nhttps://lfuonline.uibk.ac.at/public/lfuonline_lv.details?sem_id_in=06S&lvnr_id_in=603085\n
CLASS:PUBLIC
DTSTART:20060522T143000Z
DTEND:20060522T160000Z
DTSTAMP:20260426T023948Z
LOCATION:KR Liebeneggstraße
END:VEVENT
BEGIN:VEVENT
UID:06S_603085_531136@uibk.ac.at
ORGANIZER;CN="LFU:online Universität Innsbruck":MAILTO:Uni-Innsbruck-noreply@uibk.ac.at
SUMMARY:Produktion, Kosumtion und geschlechtshierarchische Arbeitsteilung. (LV 603085-0 06S)
DESCRIPTION:Lehrveranstaltung 603085 06S, Gruppe 0\nTitel: Produktion, Kosumtion und geschlechtshierarchische Arbeitsteilung.\nOrt: KR Liebeneggstraße\n\nhttps://lfuonline.uibk.ac.at/public/lfuonline_lv.details?sem_id_in=06S&lvnr_id_in=603085\n
CLASS:PUBLIC
DTSTART:20060529T143000Z
DTEND:20060529T160000Z
DTSTAMP:20260426T023948Z
LOCATION:KR Liebeneggstraße
END:VEVENT
BEGIN:VEVENT
UID:06S_603085_531137@uibk.ac.at
ORGANIZER;CN="LFU:online Universität Innsbruck":MAILTO:Uni-Innsbruck-noreply@uibk.ac.at
SUMMARY:Produktion, Kosumtion und geschlechtshierarchische Arbeitsteilung. (LV 603085-0 06S)
DESCRIPTION:Lehrveranstaltung 603085 06S, Gruppe 0\nTitel: Produktion, Kosumtion und geschlechtshierarchische Arbeitsteilung.\nOrt: KR Liebeneggstraße\n\nhttps://lfuonline.uibk.ac.at/public/lfuonline_lv.details?sem_id_in=06S&lvnr_id_in=603085\n
CLASS:PUBLIC
DTSTART:20060612T143000Z
DTEND:20060612T160000Z
DTSTAMP:20260426T023948Z
LOCATION:KR Liebeneggstraße
END:VEVENT
BEGIN:VEVENT
UID:06S_603085_531138@uibk.ac.at
ORGANIZER;CN="LFU:online Universität Innsbruck":MAILTO:Uni-Innsbruck-noreply@uibk.ac.at
SUMMARY:Produktion, Kosumtion und geschlechtshierarchische Arbeitsteilung. (LV 603085-0 06S)
DESCRIPTION:Lehrveranstaltung 603085 06S, Gruppe 0\nTitel: Produktion, Kosumtion und geschlechtshierarchische Arbeitsteilung.\nOrt: KR Liebeneggstraße\n\nhttps://lfuonline.uibk.ac.at/public/lfuonline_lv.details?sem_id_in=06S&lvnr_id_in=603085\n
CLASS:PUBLIC
DTSTART:20060619T143000Z
DTEND:20060619T160000Z
DTSTAMP:20260426T023948Z
LOCATION:KR Liebeneggstraße
END:VEVENT
BEGIN:VEVENT
UID:06S_603085_531139@uibk.ac.at
ORGANIZER;CN="LFU:online Universität Innsbruck":MAILTO:Uni-Innsbruck-noreply@uibk.ac.at
SUMMARY:Produktion, Kosumtion und geschlechtshierarchische Arbeitsteilung. (LV 603085-0 06S)
DESCRIPTION:Lehrveranstaltung 603085 06S, Gruppe 0\nTitel: Produktion, Kosumtion und geschlechtshierarchische Arbeitsteilung.\nOrt: KR Liebeneggstraße\n\nhttps://lfuonline.uibk.ac.at/public/lfuonline_lv.details?sem_id_in=06S&lvnr_id_in=603085\n
CLASS:PUBLIC
DTSTART:20060626T143000Z
DTEND:20060626T160000Z
DTSTAMP:20260426T023948Z
LOCATION:KR Liebeneggstraße
END:VEVENT
END:VCALENDAR