BEGIN:VCALENDAR
VERSION:2.0
PRODID:-//Universität Innsbruck//LFU:online//DE
METHOD:PUBLISH
BEGIN:VEVENT
UID:06S_603093_527103@uibk.ac.at
ORGANIZER;CN="LFU:online Universität Innsbruck":MAILTO:Uni-Innsbruck-noreply@uibk.ac.at
SUMMARY:Sozialisation, Biografie und Geschlecht (LV 603093-0 06S)
DESCRIPTION:Lehrveranstaltung 603093 06S, Gruppe 0\nTitel: Sozialisation, Biografie und Geschlecht\nOrt: SR Maximilianstraße\n\nhttps://lfuonline.uibk.ac.at/public/lfuonline_lv.details?sem_id_in=06S&lvnr_id_in=603093\n
CLASS:PUBLIC
DTSTART:20060306T140000Z
DTEND:20060306T153000Z
DTSTAMP:20260426T023948Z
LOCATION:SR Maximilianstraße
END:VEVENT
BEGIN:VEVENT
UID:06S_603093_527104@uibk.ac.at
ORGANIZER;CN="LFU:online Universität Innsbruck":MAILTO:Uni-Innsbruck-noreply@uibk.ac.at
SUMMARY:Sozialisation, Biografie und Geschlecht (LV 603093-0 06S)
DESCRIPTION:Lehrveranstaltung 603093 06S, Gruppe 0\nTitel: Sozialisation, Biografie und Geschlecht\nOrt: SR Maximilianstraße\n\nhttps://lfuonline.uibk.ac.at/public/lfuonline_lv.details?sem_id_in=06S&lvnr_id_in=603093\n
CLASS:PUBLIC
DTSTART:20060313T140000Z
DTEND:20060313T153000Z
DTSTAMP:20260426T023948Z
LOCATION:SR Maximilianstraße
END:VEVENT
BEGIN:VEVENT
UID:06S_603093_527105@uibk.ac.at
ORGANIZER;CN="LFU:online Universität Innsbruck":MAILTO:Uni-Innsbruck-noreply@uibk.ac.at
SUMMARY:Sozialisation, Biografie und Geschlecht (LV 603093-0 06S)
DESCRIPTION:Lehrveranstaltung 603093 06S, Gruppe 0\nTitel: Sozialisation, Biografie und Geschlecht\nOrt: SR Maximilianstraße\n\nhttps://lfuonline.uibk.ac.at/public/lfuonline_lv.details?sem_id_in=06S&lvnr_id_in=603093\n
CLASS:PUBLIC
DTSTART:20060320T140000Z
DTEND:20060320T153000Z
DTSTAMP:20260426T023948Z
LOCATION:SR Maximilianstraße
END:VEVENT
BEGIN:VEVENT
UID:06S_603093_527106@uibk.ac.at
ORGANIZER;CN="LFU:online Universität Innsbruck":MAILTO:Uni-Innsbruck-noreply@uibk.ac.at
SUMMARY:Sozialisation, Biografie und Geschlecht (LV 603093-0 06S)
DESCRIPTION:Lehrveranstaltung 603093 06S, Gruppe 0\nTitel: Sozialisation, Biografie und Geschlecht\nOrt: SR Maximilianstraße\n\nhttps://lfuonline.uibk.ac.at/public/lfuonline_lv.details?sem_id_in=06S&lvnr_id_in=603093\n
CLASS:PUBLIC
DTSTART:20060327T130000Z
DTEND:20060327T143000Z
DTSTAMP:20260426T023948Z
LOCATION:SR Maximilianstraße
END:VEVENT
BEGIN:VEVENT
UID:06S_603093_527107@uibk.ac.at
ORGANIZER;CN="LFU:online Universität Innsbruck":MAILTO:Uni-Innsbruck-noreply@uibk.ac.at
SUMMARY:Sozialisation, Biografie und Geschlecht (LV 603093-0 06S)
DESCRIPTION:Lehrveranstaltung 603093 06S, Gruppe 0\nTitel: Sozialisation, Biografie und Geschlecht\nOrt: SR Maximilianstraße\n\nhttps://lfuonline.uibk.ac.at/public/lfuonline_lv.details?sem_id_in=06S&lvnr_id_in=603093\n
CLASS:PUBLIC
DTSTART:20060403T130000Z
DTEND:20060403T143000Z
DTSTAMP:20260426T023948Z
LOCATION:SR Maximilianstraße
END:VEVENT
BEGIN:VEVENT
UID:06S_603093_527108@uibk.ac.at
ORGANIZER;CN="LFU:online Universität Innsbruck":MAILTO:Uni-Innsbruck-noreply@uibk.ac.at
SUMMARY:Sozialisation, Biografie und Geschlecht (LV 603093-0 06S)
DESCRIPTION:Lehrveranstaltung 603093 06S, Gruppe 0\nTitel: Sozialisation, Biografie und Geschlecht\nOrt: SR Maximilianstraße\n\nhttps://lfuonline.uibk.ac.at/public/lfuonline_lv.details?sem_id_in=06S&lvnr_id_in=603093\n
CLASS:PUBLIC
DTSTART:20060424T130000Z
DTEND:20060424T143000Z
DTSTAMP:20260426T023948Z
LOCATION:SR Maximilianstraße
END:VEVENT
BEGIN:VEVENT
UID:06S_603093_527109@uibk.ac.at
ORGANIZER;CN="LFU:online Universität Innsbruck":MAILTO:Uni-Innsbruck-noreply@uibk.ac.at
SUMMARY:Sozialisation, Biografie und Geschlecht (LV 603093-0 06S)
DESCRIPTION:Lehrveranstaltung 603093 06S, Gruppe 0\nTitel: Sozialisation, Biografie und Geschlecht\nOrt: SR Maximilianstraße\n\nhttps://lfuonline.uibk.ac.at/public/lfuonline_lv.details?sem_id_in=06S&lvnr_id_in=603093\n
CLASS:PUBLIC
DTSTART:20060508T130000Z
DTEND:20060508T143000Z
DTSTAMP:20260426T023948Z
LOCATION:SR Maximilianstraße
END:VEVENT
BEGIN:VEVENT
UID:06S_603093_527110@uibk.ac.at
ORGANIZER;CN="LFU:online Universität Innsbruck":MAILTO:Uni-Innsbruck-noreply@uibk.ac.at
SUMMARY:Sozialisation, Biografie und Geschlecht (LV 603093-0 06S)
DESCRIPTION:Lehrveranstaltung 603093 06S, Gruppe 0\nTitel: Sozialisation, Biografie und Geschlecht\nOrt: SR Maximilianstraße\n\nhttps://lfuonline.uibk.ac.at/public/lfuonline_lv.details?sem_id_in=06S&lvnr_id_in=603093\n
CLASS:PUBLIC
DTSTART:20060515T130000Z
DTEND:20060515T143000Z
DTSTAMP:20260426T023948Z
LOCATION:SR Maximilianstraße
END:VEVENT
BEGIN:VEVENT
UID:06S_603093_527111@uibk.ac.at
ORGANIZER;CN="LFU:online Universität Innsbruck":MAILTO:Uni-Innsbruck-noreply@uibk.ac.at
SUMMARY:Sozialisation, Biografie und Geschlecht (LV 603093-0 06S)
DESCRIPTION:Lehrveranstaltung 603093 06S, Gruppe 0\nTitel: Sozialisation, Biografie und Geschlecht\nOrt: SR Maximilianstraße\n\nhttps://lfuonline.uibk.ac.at/public/lfuonline_lv.details?sem_id_in=06S&lvnr_id_in=603093\n
CLASS:PUBLIC
DTSTART:20060522T130000Z
DTEND:20060522T143000Z
DTSTAMP:20260426T023948Z
LOCATION:SR Maximilianstraße
END:VEVENT
BEGIN:VEVENT
UID:06S_603093_527112@uibk.ac.at
ORGANIZER;CN="LFU:online Universität Innsbruck":MAILTO:Uni-Innsbruck-noreply@uibk.ac.at
SUMMARY:Sozialisation, Biografie und Geschlecht (LV 603093-0 06S)
DESCRIPTION:Lehrveranstaltung 603093 06S, Gruppe 0\nTitel: Sozialisation, Biografie und Geschlecht\nOrt: SR Maximilianstraße\n\nhttps://lfuonline.uibk.ac.at/public/lfuonline_lv.details?sem_id_in=06S&lvnr_id_in=603093\n
CLASS:PUBLIC
DTSTART:20060529T130000Z
DTEND:20060529T143000Z
DTSTAMP:20260426T023948Z
LOCATION:SR Maximilianstraße
END:VEVENT
BEGIN:VEVENT
UID:06S_603093_527113@uibk.ac.at
ORGANIZER;CN="LFU:online Universität Innsbruck":MAILTO:Uni-Innsbruck-noreply@uibk.ac.at
SUMMARY:Sozialisation, Biografie und Geschlecht (LV 603093-0 06S)
DESCRIPTION:Lehrveranstaltung 603093 06S, Gruppe 0\nTitel: Sozialisation, Biografie und Geschlecht\nOrt: SR Maximilianstraße\n\nhttps://lfuonline.uibk.ac.at/public/lfuonline_lv.details?sem_id_in=06S&lvnr_id_in=603093\n
CLASS:PUBLIC
DTSTART:20060612T130000Z
DTEND:20060612T143000Z
DTSTAMP:20260426T023948Z
LOCATION:SR Maximilianstraße
END:VEVENT
BEGIN:VEVENT
UID:06S_603093_527114@uibk.ac.at
ORGANIZER;CN="LFU:online Universität Innsbruck":MAILTO:Uni-Innsbruck-noreply@uibk.ac.at
SUMMARY:Sozialisation, Biografie und Geschlecht (LV 603093-0 06S)
DESCRIPTION:Lehrveranstaltung 603093 06S, Gruppe 0\nTitel: Sozialisation, Biografie und Geschlecht\nOrt: SR Maximilianstraße\n\nhttps://lfuonline.uibk.ac.at/public/lfuonline_lv.details?sem_id_in=06S&lvnr_id_in=603093\n
CLASS:PUBLIC
DTSTART:20060619T130000Z
DTEND:20060619T143000Z
DTSTAMP:20260426T023948Z
LOCATION:SR Maximilianstraße
END:VEVENT
BEGIN:VEVENT
UID:06S_603093_527115@uibk.ac.at
ORGANIZER;CN="LFU:online Universität Innsbruck":MAILTO:Uni-Innsbruck-noreply@uibk.ac.at
SUMMARY:Sozialisation, Biografie und Geschlecht (LV 603093-0 06S)
DESCRIPTION:Lehrveranstaltung 603093 06S, Gruppe 0\nTitel: Sozialisation, Biografie und Geschlecht\nOrt: SR Maximilianstraße\n\nhttps://lfuonline.uibk.ac.at/public/lfuonline_lv.details?sem_id_in=06S&lvnr_id_in=603093\n
CLASS:PUBLIC
DTSTART:20060626T130000Z
DTEND:20060626T143000Z
DTSTAMP:20260426T023948Z
LOCATION:SR Maximilianstraße
END:VEVENT
END:VCALENDAR