BEGIN:VCALENDAR
VERSION:2.0
PRODID:-//Universität Innsbruck//LFU:online//DE
METHOD:PUBLISH
BEGIN:VEVENT
UID:06S_603110_530487@uibk.ac.at
ORGANIZER;CN="LFU:online Universität Innsbruck":MAILTO:Uni-Innsbruck-noreply@uibk.ac.at
SUMMARY:Argumentationstraining gegen Sexismus und Rassismus (LV 603110-0 06S)
DESCRIPTION:Lehrveranstaltung 603110 06S, Gruppe 0\nTitel: Argumentationstraining gegen Sexismus und Rassismus\nOrt: 40513 UR 10\n\nhttps://lfuonline.uibk.ac.at/public/lfuonline_lv.details?sem_id_in=06S&lvnr_id_in=603110\n
CLASS:PUBLIC
DTSTART:20060306T140000Z
DTEND:20060306T153000Z
DTSTAMP:20260426T023948Z
LOCATION:40513 UR 10
END:VEVENT
BEGIN:VEVENT
UID:06S_603110_530488@uibk.ac.at
ORGANIZER;CN="LFU:online Universität Innsbruck":MAILTO:Uni-Innsbruck-noreply@uibk.ac.at
SUMMARY:Argumentationstraining gegen Sexismus und Rassismus (LV 603110-0 06S)
DESCRIPTION:Lehrveranstaltung 603110 06S, Gruppe 0\nTitel: Argumentationstraining gegen Sexismus und Rassismus\nOrt: 40513 UR 10\n\nhttps://lfuonline.uibk.ac.at/public/lfuonline_lv.details?sem_id_in=06S&lvnr_id_in=603110\n
CLASS:PUBLIC
DTSTART:20060313T140000Z
DTEND:20060313T153000Z
DTSTAMP:20260426T023948Z
LOCATION:40513 UR 10
END:VEVENT
BEGIN:VEVENT
UID:06S_603110_530489@uibk.ac.at
ORGANIZER;CN="LFU:online Universität Innsbruck":MAILTO:Uni-Innsbruck-noreply@uibk.ac.at
SUMMARY:Argumentationstraining gegen Sexismus und Rassismus (LV 603110-0 06S)
DESCRIPTION:Lehrveranstaltung 603110 06S, Gruppe 0\nTitel: Argumentationstraining gegen Sexismus und Rassismus\nOrt: 40513 UR 10\n\nhttps://lfuonline.uibk.ac.at/public/lfuonline_lv.details?sem_id_in=06S&lvnr_id_in=603110\n
CLASS:PUBLIC
DTSTART:20060320T140000Z
DTEND:20060320T153000Z
DTSTAMP:20260426T023948Z
LOCATION:40513 UR 10
END:VEVENT
BEGIN:VEVENT
UID:06S_603110_530490@uibk.ac.at
ORGANIZER;CN="LFU:online Universität Innsbruck":MAILTO:Uni-Innsbruck-noreply@uibk.ac.at
SUMMARY:Argumentationstraining gegen Sexismus und Rassismus (LV 603110-0 06S)
DESCRIPTION:Lehrveranstaltung 603110 06S, Gruppe 0\nTitel: Argumentationstraining gegen Sexismus und Rassismus\nOrt: 40513 UR 10\n\nhttps://lfuonline.uibk.ac.at/public/lfuonline_lv.details?sem_id_in=06S&lvnr_id_in=603110\n
CLASS:PUBLIC
DTSTART:20060327T130000Z
DTEND:20060327T143000Z
DTSTAMP:20260426T023948Z
LOCATION:40513 UR 10
END:VEVENT
BEGIN:VEVENT
UID:06S_603110_530491@uibk.ac.at
ORGANIZER;CN="LFU:online Universität Innsbruck":MAILTO:Uni-Innsbruck-noreply@uibk.ac.at
SUMMARY:Argumentationstraining gegen Sexismus und Rassismus (LV 603110-0 06S)
DESCRIPTION:Lehrveranstaltung 603110 06S, Gruppe 0\nTitel: Argumentationstraining gegen Sexismus und Rassismus\nOrt: 40513 UR 10\n\nhttps://lfuonline.uibk.ac.at/public/lfuonline_lv.details?sem_id_in=06S&lvnr_id_in=603110\n
CLASS:PUBLIC
DTSTART:20060403T130000Z
DTEND:20060403T143000Z
DTSTAMP:20260426T023948Z
LOCATION:40513 UR 10
END:VEVENT
BEGIN:VEVENT
UID:06S_603110_530492@uibk.ac.at
ORGANIZER;CN="LFU:online Universität Innsbruck":MAILTO:Uni-Innsbruck-noreply@uibk.ac.at
SUMMARY:Argumentationstraining gegen Sexismus und Rassismus (LV 603110-0 06S)
DESCRIPTION:Lehrveranstaltung 603110 06S, Gruppe 0\nTitel: Argumentationstraining gegen Sexismus und Rassismus\nOrt: 40513 UR 10\n\nhttps://lfuonline.uibk.ac.at/public/lfuonline_lv.details?sem_id_in=06S&lvnr_id_in=603110\n
CLASS:PUBLIC
DTSTART:20060424T130000Z
DTEND:20060424T143000Z
DTSTAMP:20260426T023948Z
LOCATION:40513 UR 10
END:VEVENT
BEGIN:VEVENT
UID:06S_603110_530493@uibk.ac.at
ORGANIZER;CN="LFU:online Universität Innsbruck":MAILTO:Uni-Innsbruck-noreply@uibk.ac.at
SUMMARY:Argumentationstraining gegen Sexismus und Rassismus (LV 603110-0 06S)
DESCRIPTION:Lehrveranstaltung 603110 06S, Gruppe 0\nTitel: Argumentationstraining gegen Sexismus und Rassismus\nOrt: 40513 UR 10\n\nhttps://lfuonline.uibk.ac.at/public/lfuonline_lv.details?sem_id_in=06S&lvnr_id_in=603110\n
CLASS:PUBLIC
DTSTART:20060508T130000Z
DTEND:20060508T143000Z
DTSTAMP:20260426T023948Z
LOCATION:40513 UR 10
END:VEVENT
BEGIN:VEVENT
UID:06S_603110_530494@uibk.ac.at
ORGANIZER;CN="LFU:online Universität Innsbruck":MAILTO:Uni-Innsbruck-noreply@uibk.ac.at
SUMMARY:Argumentationstraining gegen Sexismus und Rassismus (LV 603110-0 06S)
DESCRIPTION:Lehrveranstaltung 603110 06S, Gruppe 0\nTitel: Argumentationstraining gegen Sexismus und Rassismus\nOrt: 40513 UR 10\n\nhttps://lfuonline.uibk.ac.at/public/lfuonline_lv.details?sem_id_in=06S&lvnr_id_in=603110\n
CLASS:PUBLIC
DTSTART:20060515T130000Z
DTEND:20060515T143000Z
DTSTAMP:20260426T023948Z
LOCATION:40513 UR 10
END:VEVENT
BEGIN:VEVENT
UID:06S_603110_530495@uibk.ac.at
ORGANIZER;CN="LFU:online Universität Innsbruck":MAILTO:Uni-Innsbruck-noreply@uibk.ac.at
SUMMARY:Argumentationstraining gegen Sexismus und Rassismus (LV 603110-0 06S)
DESCRIPTION:Lehrveranstaltung 603110 06S, Gruppe 0\nTitel: Argumentationstraining gegen Sexismus und Rassismus\nOrt: 40513 UR 10\n\nhttps://lfuonline.uibk.ac.at/public/lfuonline_lv.details?sem_id_in=06S&lvnr_id_in=603110\n
CLASS:PUBLIC
DTSTART:20060522T130000Z
DTEND:20060522T143000Z
DTSTAMP:20260426T023948Z
LOCATION:40513 UR 10
END:VEVENT
BEGIN:VEVENT
UID:06S_603110_530496@uibk.ac.at
ORGANIZER;CN="LFU:online Universität Innsbruck":MAILTO:Uni-Innsbruck-noreply@uibk.ac.at
SUMMARY:Argumentationstraining gegen Sexismus und Rassismus (LV 603110-0 06S)
DESCRIPTION:Lehrveranstaltung 603110 06S, Gruppe 0\nTitel: Argumentationstraining gegen Sexismus und Rassismus\nOrt: 40513 UR 10\n\nhttps://lfuonline.uibk.ac.at/public/lfuonline_lv.details?sem_id_in=06S&lvnr_id_in=603110\n
CLASS:PUBLIC
DTSTART:20060529T130000Z
DTEND:20060529T143000Z
DTSTAMP:20260426T023948Z
LOCATION:40513 UR 10
END:VEVENT
BEGIN:VEVENT
UID:06S_603110_530497@uibk.ac.at
ORGANIZER;CN="LFU:online Universität Innsbruck":MAILTO:Uni-Innsbruck-noreply@uibk.ac.at
SUMMARY:Argumentationstraining gegen Sexismus und Rassismus (LV 603110-0 06S)
DESCRIPTION:Lehrveranstaltung 603110 06S, Gruppe 0\nTitel: Argumentationstraining gegen Sexismus und Rassismus\nOrt: 40513 UR 10\n\nhttps://lfuonline.uibk.ac.at/public/lfuonline_lv.details?sem_id_in=06S&lvnr_id_in=603110\n
CLASS:PUBLIC
DTSTART:20060612T130000Z
DTEND:20060612T143000Z
DTSTAMP:20260426T023948Z
LOCATION:40513 UR 10
END:VEVENT
BEGIN:VEVENT
UID:06S_603110_530498@uibk.ac.at
ORGANIZER;CN="LFU:online Universität Innsbruck":MAILTO:Uni-Innsbruck-noreply@uibk.ac.at
SUMMARY:Argumentationstraining gegen Sexismus und Rassismus (LV 603110-0 06S)
DESCRIPTION:Lehrveranstaltung 603110 06S, Gruppe 0\nTitel: Argumentationstraining gegen Sexismus und Rassismus\nOrt: 40513 UR 10\n\nhttps://lfuonline.uibk.ac.at/public/lfuonline_lv.details?sem_id_in=06S&lvnr_id_in=603110\n
CLASS:PUBLIC
DTSTART:20060619T130000Z
DTEND:20060619T143000Z
DTSTAMP:20260426T023948Z
LOCATION:40513 UR 10
END:VEVENT
BEGIN:VEVENT
UID:06S_603110_530499@uibk.ac.at
ORGANIZER;CN="LFU:online Universität Innsbruck":MAILTO:Uni-Innsbruck-noreply@uibk.ac.at
SUMMARY:Argumentationstraining gegen Sexismus und Rassismus (LV 603110-0 06S)
DESCRIPTION:Lehrveranstaltung 603110 06S, Gruppe 0\nTitel: Argumentationstraining gegen Sexismus und Rassismus\nOrt: 40513 UR 10\n\nhttps://lfuonline.uibk.ac.at/public/lfuonline_lv.details?sem_id_in=06S&lvnr_id_in=603110\n
CLASS:PUBLIC
DTSTART:20060626T130000Z
DTEND:20060626T143000Z
DTSTAMP:20260426T023948Z
LOCATION:40513 UR 10
END:VEVENT
END:VCALENDAR