BEGIN:VCALENDAR
VERSION:2.0
PRODID:-//Universität Innsbruck//LFU:online//DE
METHOD:PUBLISH
BEGIN:VEVENT
UID:13S_603110_1998459@uibk.ac.at
ORGANIZER;CN="LFU:online Universität Innsbruck":MAILTO:Uni-Innsbruck-noreply@uibk.ac.at
SUMMARY:Seminar mit Masterarbeit: Diskussion laufender Forschungsarbeiten (LV 603110-0 13S)
DESCRIPTION:Lehrveranstaltung 603110 13S, Gruppe 0\nTitel: Seminar mit Masterarbeit: Diskussion laufender Forschungsarbeiten\nOrt: DZ Erz.wiss.\n\nhttps://lfuonline.uibk.ac.at/public/lfuonline_lv.details?sem_id_in=13S&lvnr_id_in=603110\n
CLASS:PUBLIC
DTSTART:20130305T140000Z
DTEND:20130305T153000Z
DTSTAMP:20260421T171611Z
LOCATION:DZ Erz.wiss.
END:VEVENT
BEGIN:VEVENT
UID:13S_603110_1998460@uibk.ac.at
ORGANIZER;CN="LFU:online Universität Innsbruck":MAILTO:Uni-Innsbruck-noreply@uibk.ac.at
SUMMARY:Seminar mit Masterarbeit: Diskussion laufender Forschungsarbeiten (LV 603110-0 13S)
DESCRIPTION:Lehrveranstaltung 603110 13S, Gruppe 0\nTitel: Seminar mit Masterarbeit: Diskussion laufender Forschungsarbeiten\nOrt: DZ Erz.wiss.\n\nhttps://lfuonline.uibk.ac.at/public/lfuonline_lv.details?sem_id_in=13S&lvnr_id_in=603110\n
CLASS:PUBLIC
DTSTART:20130312T140000Z
DTEND:20130312T153000Z
DTSTAMP:20260421T171611Z
LOCATION:DZ Erz.wiss.
END:VEVENT
BEGIN:VEVENT
UID:13S_603110_1998461@uibk.ac.at
ORGANIZER;CN="LFU:online Universität Innsbruck":MAILTO:Uni-Innsbruck-noreply@uibk.ac.at
SUMMARY:Seminar mit Masterarbeit: Diskussion laufender Forschungsarbeiten (LV 603110-0 13S)
DESCRIPTION:Lehrveranstaltung 603110 13S, Gruppe 0\nTitel: Seminar mit Masterarbeit: Diskussion laufender Forschungsarbeiten\nOrt: DZ Erz.wiss.\n\nhttps://lfuonline.uibk.ac.at/public/lfuonline_lv.details?sem_id_in=13S&lvnr_id_in=603110\n
CLASS:PUBLIC
DTSTART:20130319T140000Z
DTEND:20130319T153000Z
DTSTAMP:20260421T171611Z
LOCATION:DZ Erz.wiss.
END:VEVENT
BEGIN:VEVENT
UID:13S_603110_1998462@uibk.ac.at
ORGANIZER;CN="LFU:online Universität Innsbruck":MAILTO:Uni-Innsbruck-noreply@uibk.ac.at
SUMMARY:Seminar mit Masterarbeit: Diskussion laufender Forschungsarbeiten (LV 603110-0 13S)
DESCRIPTION:Lehrveranstaltung 603110 13S, Gruppe 0\nTitel: Seminar mit Masterarbeit: Diskussion laufender Forschungsarbeiten\nOrt: DZ Erz.wiss.\n\nhttps://lfuonline.uibk.ac.at/public/lfuonline_lv.details?sem_id_in=13S&lvnr_id_in=603110\n
CLASS:PUBLIC
DTSTART:20130409T130000Z
DTEND:20130409T143000Z
DTSTAMP:20260421T171611Z
LOCATION:DZ Erz.wiss.
END:VEVENT
BEGIN:VEVENT
UID:13S_603110_1998463@uibk.ac.at
ORGANIZER;CN="LFU:online Universität Innsbruck":MAILTO:Uni-Innsbruck-noreply@uibk.ac.at
SUMMARY:Seminar mit Masterarbeit: Diskussion laufender Forschungsarbeiten (LV 603110-0 13S)
DESCRIPTION:Lehrveranstaltung 603110 13S, Gruppe 0\nTitel: Seminar mit Masterarbeit: Diskussion laufender Forschungsarbeiten\nOrt: DZ Erz.wiss.\n\nhttps://lfuonline.uibk.ac.at/public/lfuonline_lv.details?sem_id_in=13S&lvnr_id_in=603110\n
CLASS:PUBLIC
DTSTART:20130416T130000Z
DTEND:20130416T143000Z
DTSTAMP:20260421T171611Z
LOCATION:DZ Erz.wiss.
END:VEVENT
BEGIN:VEVENT
UID:13S_603110_1998464@uibk.ac.at
ORGANIZER;CN="LFU:online Universität Innsbruck":MAILTO:Uni-Innsbruck-noreply@uibk.ac.at
SUMMARY:Seminar mit Masterarbeit: Diskussion laufender Forschungsarbeiten (LV 603110-0 13S)
DESCRIPTION:Lehrveranstaltung 603110 13S, Gruppe 0\nTitel: Seminar mit Masterarbeit: Diskussion laufender Forschungsarbeiten\nOrt: DZ Erz.wiss.\n\nhttps://lfuonline.uibk.ac.at/public/lfuonline_lv.details?sem_id_in=13S&lvnr_id_in=603110\n
CLASS:PUBLIC
DTSTART:20130423T130000Z
DTEND:20130423T143000Z
DTSTAMP:20260421T171611Z
LOCATION:DZ Erz.wiss.
END:VEVENT
BEGIN:VEVENT
UID:13S_603110_1998465@uibk.ac.at
ORGANIZER;CN="LFU:online Universität Innsbruck":MAILTO:Uni-Innsbruck-noreply@uibk.ac.at
SUMMARY:Seminar mit Masterarbeit: Diskussion laufender Forschungsarbeiten (LV 603110-0 13S)
DESCRIPTION:Lehrveranstaltung 603110 13S, Gruppe 0\nTitel: Seminar mit Masterarbeit: Diskussion laufender Forschungsarbeiten\nOrt: DZ Erz.wiss.\n\nhttps://lfuonline.uibk.ac.at/public/lfuonline_lv.details?sem_id_in=13S&lvnr_id_in=603110\n
CLASS:PUBLIC
DTSTART:20130430T130000Z
DTEND:20130430T143000Z
DTSTAMP:20260421T171611Z
LOCATION:DZ Erz.wiss.
END:VEVENT
BEGIN:VEVENT
UID:13S_603110_1998466@uibk.ac.at
ORGANIZER;CN="LFU:online Universität Innsbruck":MAILTO:Uni-Innsbruck-noreply@uibk.ac.at
SUMMARY:Seminar mit Masterarbeit: Diskussion laufender Forschungsarbeiten (LV 603110-0 13S)
DESCRIPTION:Lehrveranstaltung 603110 13S, Gruppe 0\nTitel: Seminar mit Masterarbeit: Diskussion laufender Forschungsarbeiten\nOrt: DZ Erz.wiss.\n\nhttps://lfuonline.uibk.ac.at/public/lfuonline_lv.details?sem_id_in=13S&lvnr_id_in=603110\n
CLASS:PUBLIC
DTSTART:20130507T130000Z
DTEND:20130507T143000Z
DTSTAMP:20260421T171611Z
LOCATION:DZ Erz.wiss.
END:VEVENT
BEGIN:VEVENT
UID:13S_603110_1998467@uibk.ac.at
ORGANIZER;CN="LFU:online Universität Innsbruck":MAILTO:Uni-Innsbruck-noreply@uibk.ac.at
SUMMARY:Seminar mit Masterarbeit: Diskussion laufender Forschungsarbeiten (LV 603110-0 13S)
DESCRIPTION:Lehrveranstaltung 603110 13S, Gruppe 0\nTitel: Seminar mit Masterarbeit: Diskussion laufender Forschungsarbeiten\nOrt: DZ Erz.wiss.\n\nhttps://lfuonline.uibk.ac.at/public/lfuonline_lv.details?sem_id_in=13S&lvnr_id_in=603110\n
CLASS:PUBLIC
DTSTART:20130514T130000Z
DTEND:20130514T143000Z
DTSTAMP:20260421T171611Z
LOCATION:DZ Erz.wiss.
END:VEVENT
BEGIN:VEVENT
UID:13S_603110_1998468@uibk.ac.at
ORGANIZER;CN="LFU:online Universität Innsbruck":MAILTO:Uni-Innsbruck-noreply@uibk.ac.at
SUMMARY:Seminar mit Masterarbeit: Diskussion laufender Forschungsarbeiten (LV 603110-0 13S)
DESCRIPTION:Lehrveranstaltung 603110 13S, Gruppe 0\nTitel: Seminar mit Masterarbeit: Diskussion laufender Forschungsarbeiten\nOrt: DZ Erz.wiss.\n\nhttps://lfuonline.uibk.ac.at/public/lfuonline_lv.details?sem_id_in=13S&lvnr_id_in=603110\n
CLASS:PUBLIC
DTSTART:20130521T130000Z
DTEND:20130521T143000Z
DTSTAMP:20260421T171611Z
LOCATION:DZ Erz.wiss.
END:VEVENT
BEGIN:VEVENT
UID:13S_603110_1998469@uibk.ac.at
ORGANIZER;CN="LFU:online Universität Innsbruck":MAILTO:Uni-Innsbruck-noreply@uibk.ac.at
SUMMARY:Seminar mit Masterarbeit: Diskussion laufender Forschungsarbeiten (LV 603110-0 13S)
DESCRIPTION:Lehrveranstaltung 603110 13S, Gruppe 0\nTitel: Seminar mit Masterarbeit: Diskussion laufender Forschungsarbeiten\nOrt: DZ Erz.wiss.\n\nhttps://lfuonline.uibk.ac.at/public/lfuonline_lv.details?sem_id_in=13S&lvnr_id_in=603110\n
CLASS:PUBLIC
DTSTART:20130528T130000Z
DTEND:20130528T143000Z
DTSTAMP:20260421T171611Z
LOCATION:DZ Erz.wiss.
END:VEVENT
BEGIN:VEVENT
UID:13S_603110_1998470@uibk.ac.at
ORGANIZER;CN="LFU:online Universität Innsbruck":MAILTO:Uni-Innsbruck-noreply@uibk.ac.at
SUMMARY:Seminar mit Masterarbeit: Diskussion laufender Forschungsarbeiten (LV 603110-0 13S)
DESCRIPTION:Lehrveranstaltung 603110 13S, Gruppe 0\nTitel: Seminar mit Masterarbeit: Diskussion laufender Forschungsarbeiten\nOrt: DZ Erz.wiss.\n\nhttps://lfuonline.uibk.ac.at/public/lfuonline_lv.details?sem_id_in=13S&lvnr_id_in=603110\n
CLASS:PUBLIC
DTSTART:20130604T130000Z
DTEND:20130604T143000Z
DTSTAMP:20260421T171611Z
LOCATION:DZ Erz.wiss.
END:VEVENT
BEGIN:VEVENT
UID:13S_603110_1998471@uibk.ac.at
ORGANIZER;CN="LFU:online Universität Innsbruck":MAILTO:Uni-Innsbruck-noreply@uibk.ac.at
SUMMARY:Seminar mit Masterarbeit: Diskussion laufender Forschungsarbeiten (LV 603110-0 13S)
DESCRIPTION:Lehrveranstaltung 603110 13S, Gruppe 0\nTitel: Seminar mit Masterarbeit: Diskussion laufender Forschungsarbeiten\nOrt: DZ Erz.wiss.\n\nhttps://lfuonline.uibk.ac.at/public/lfuonline_lv.details?sem_id_in=13S&lvnr_id_in=603110\n
CLASS:PUBLIC
DTSTART:20130611T130000Z
DTEND:20130611T143000Z
DTSTAMP:20260421T171611Z
LOCATION:DZ Erz.wiss.
END:VEVENT
BEGIN:VEVENT
UID:13S_603110_1998472@uibk.ac.at
ORGANIZER;CN="LFU:online Universität Innsbruck":MAILTO:Uni-Innsbruck-noreply@uibk.ac.at
SUMMARY:Seminar mit Masterarbeit: Diskussion laufender Forschungsarbeiten (LV 603110-0 13S)
DESCRIPTION:Lehrveranstaltung 603110 13S, Gruppe 0\nTitel: Seminar mit Masterarbeit: Diskussion laufender Forschungsarbeiten\nOrt: DZ Erz.wiss.\n\nhttps://lfuonline.uibk.ac.at/public/lfuonline_lv.details?sem_id_in=13S&lvnr_id_in=603110\n
CLASS:PUBLIC
DTSTART:20130618T130000Z
DTEND:20130618T143000Z
DTSTAMP:20260421T171611Z
LOCATION:DZ Erz.wiss.
END:VEVENT
BEGIN:VEVENT
UID:13S_603110_1998473@uibk.ac.at
ORGANIZER;CN="LFU:online Universität Innsbruck":MAILTO:Uni-Innsbruck-noreply@uibk.ac.at
SUMMARY:Seminar mit Masterarbeit: Diskussion laufender Forschungsarbeiten (LV 603110-0 13S)
DESCRIPTION:Lehrveranstaltung 603110 13S, Gruppe 0\nTitel: Seminar mit Masterarbeit: Diskussion laufender Forschungsarbeiten\nOrt: DZ Erz.wiss.\n\nhttps://lfuonline.uibk.ac.at/public/lfuonline_lv.details?sem_id_in=13S&lvnr_id_in=603110\n
CLASS:PUBLIC
DTSTART:20130625T130000Z
DTEND:20130625T143000Z
DTSTAMP:20260421T171611Z
LOCATION:DZ Erz.wiss.
END:VEVENT
END:VCALENDAR