BEGIN:VCALENDAR
VERSION:2.0
PRODID:-//Universität Innsbruck//LFU:online//DE
METHOD:PUBLISH
BEGIN:VEVENT
UID:13S_603170_1985894@uibk.ac.at
ORGANIZER;CN="LFU:online Universität Innsbruck":MAILTO:Uni-Innsbruck-noreply@uibk.ac.at
SUMMARY:Seminar mit Masterarbeit: Diskussion laufender Forschungsarbeiten (LV 603170-0 13S)
DESCRIPTION:Lehrveranstaltung 603170 13S, Gruppe 0\nTitel: Seminar mit Masterarbeit: Diskussion laufender Forschungsarbeiten\nOrt: SR Maximilianstraße\n\nhttps://lfuonline.uibk.ac.at/public/lfuonline_lv.details?sem_id_in=13S&lvnr_id_in=603170\n
CLASS:PUBLIC
DTSTART:20130305T090000Z
DTEND:20130305T120000Z
DTSTAMP:20260421T171611Z
LOCATION:SR Maximilianstraße
END:VEVENT
BEGIN:VEVENT
UID:13S_603170_1985895@uibk.ac.at
ORGANIZER;CN="LFU:online Universität Innsbruck":MAILTO:Uni-Innsbruck-noreply@uibk.ac.at
SUMMARY:Seminar mit Masterarbeit: Diskussion laufender Forschungsarbeiten (LV 603170-0 13S)
DESCRIPTION:Lehrveranstaltung 603170 13S, Gruppe 0\nTitel: Seminar mit Masterarbeit: Diskussion laufender Forschungsarbeiten\nOrt: SR Maximilianstraße\n\nhttps://lfuonline.uibk.ac.at/public/lfuonline_lv.details?sem_id_in=13S&lvnr_id_in=603170\n
CLASS:PUBLIC
DTSTART:20130319T090000Z
DTEND:20130319T120000Z
DTSTAMP:20260421T171611Z
LOCATION:SR Maximilianstraße
END:VEVENT
BEGIN:VEVENT
UID:13S_603170_1985896@uibk.ac.at
ORGANIZER;CN="LFU:online Universität Innsbruck":MAILTO:Uni-Innsbruck-noreply@uibk.ac.at
SUMMARY:Seminar mit Masterarbeit: Diskussion laufender Forschungsarbeiten (LV 603170-0 13S)
DESCRIPTION:Lehrveranstaltung 603170 13S, Gruppe 0\nTitel: Seminar mit Masterarbeit: Diskussion laufender Forschungsarbeiten\nOrt: SR Maximilianstraße\n\nhttps://lfuonline.uibk.ac.at/public/lfuonline_lv.details?sem_id_in=13S&lvnr_id_in=603170\n
CLASS:PUBLIC
DTSTART:20130416T080000Z
DTEND:20130416T110000Z
DTSTAMP:20260421T171611Z
LOCATION:SR Maximilianstraße
END:VEVENT
BEGIN:VEVENT
UID:13S_603170_1985897@uibk.ac.at
ORGANIZER;CN="LFU:online Universität Innsbruck":MAILTO:Uni-Innsbruck-noreply@uibk.ac.at
SUMMARY:Seminar mit Masterarbeit: Diskussion laufender Forschungsarbeiten (LV 603170-0 13S)
DESCRIPTION:Lehrveranstaltung 603170 13S, Gruppe 0\nTitel: Seminar mit Masterarbeit: Diskussion laufender Forschungsarbeiten\nOrt: SR Maximilianstraße\n\nhttps://lfuonline.uibk.ac.at/public/lfuonline_lv.details?sem_id_in=13S&lvnr_id_in=603170\n
CLASS:PUBLIC
DTSTART:20130430T080000Z
DTEND:20130430T110000Z
DTSTAMP:20260421T171611Z
LOCATION:SR Maximilianstraße
END:VEVENT
BEGIN:VEVENT
UID:13S_603170_1985898@uibk.ac.at
ORGANIZER;CN="LFU:online Universität Innsbruck":MAILTO:Uni-Innsbruck-noreply@uibk.ac.at
SUMMARY:Seminar mit Masterarbeit: Diskussion laufender Forschungsarbeiten (LV 603170-0 13S)
DESCRIPTION:Lehrveranstaltung 603170 13S, Gruppe 0\nTitel: Seminar mit Masterarbeit: Diskussion laufender Forschungsarbeiten\nOrt: SR Maximilianstraße\n\nhttps://lfuonline.uibk.ac.at/public/lfuonline_lv.details?sem_id_in=13S&lvnr_id_in=603170\n
CLASS:PUBLIC
DTSTART:20130514T080000Z
DTEND:20130514T110000Z
DTSTAMP:20260421T171611Z
LOCATION:SR Maximilianstraße
END:VEVENT
BEGIN:VEVENT
UID:13S_603170_1985899@uibk.ac.at
ORGANIZER;CN="LFU:online Universität Innsbruck":MAILTO:Uni-Innsbruck-noreply@uibk.ac.at
SUMMARY:Seminar mit Masterarbeit: Diskussion laufender Forschungsarbeiten (LV 603170-0 13S)
DESCRIPTION:Lehrveranstaltung 603170 13S, Gruppe 0\nTitel: Seminar mit Masterarbeit: Diskussion laufender Forschungsarbeiten\nOrt: SR Maximilianstraße\n\nhttps://lfuonline.uibk.ac.at/public/lfuonline_lv.details?sem_id_in=13S&lvnr_id_in=603170\n
CLASS:PUBLIC
DTSTART:20130528T080000Z
DTEND:20130528T110000Z
DTSTAMP:20260421T171611Z
LOCATION:SR Maximilianstraße
END:VEVENT
BEGIN:VEVENT
UID:13S_603170_1985900@uibk.ac.at
ORGANIZER;CN="LFU:online Universität Innsbruck":MAILTO:Uni-Innsbruck-noreply@uibk.ac.at
SUMMARY:Seminar mit Masterarbeit: Diskussion laufender Forschungsarbeiten (LV 603170-0 13S)
DESCRIPTION:Lehrveranstaltung 603170 13S, Gruppe 0\nTitel: Seminar mit Masterarbeit: Diskussion laufender Forschungsarbeiten\nOrt: SR Maximilianstraße\n\nhttps://lfuonline.uibk.ac.at/public/lfuonline_lv.details?sem_id_in=13S&lvnr_id_in=603170\n
CLASS:PUBLIC
DTSTART:20130611T080000Z
DTEND:20130611T110000Z
DTSTAMP:20260421T171611Z
LOCATION:SR Maximilianstraße
END:VEVENT
BEGIN:VEVENT
UID:13S_603170_1985901@uibk.ac.at
ORGANIZER;CN="LFU:online Universität Innsbruck":MAILTO:Uni-Innsbruck-noreply@uibk.ac.at
SUMMARY:Seminar mit Masterarbeit: Diskussion laufender Forschungsarbeiten (LV 603170-0 13S)
DESCRIPTION:Lehrveranstaltung 603170 13S, Gruppe 0\nTitel: Seminar mit Masterarbeit: Diskussion laufender Forschungsarbeiten\nOrt: SR Maximilianstraße\n\nhttps://lfuonline.uibk.ac.at/public/lfuonline_lv.details?sem_id_in=13S&lvnr_id_in=603170\n
CLASS:PUBLIC
DTSTART:20130625T080000Z
DTEND:20130625T110000Z
DTSTAMP:20260421T171611Z
LOCATION:SR Maximilianstraße
END:VEVENT
END:VCALENDAR