BEGIN:VCALENDAR
VERSION:2.0
PRODID:-//Universität Innsbruck//LFU:online//DE
METHOD:PUBLISH
BEGIN:VEVENT
UID:13S_603202_2066533@uibk.ac.at
ORGANIZER;CN="LFU:online Universität Innsbruck":MAILTO:Uni-Innsbruck-noreply@uibk.ac.at
SUMMARY:Diskussion laufender Forschungsarbeiten (LV 603202-0 13S)
DESCRIPTION:Lehrveranstaltung 603202 13S, Gruppe 0\nTitel: Diskussion laufender Forschungsarbeiten\nOrt: SR Liebeneggstraße\n\nhttps://lfuonline.uibk.ac.at/public/lfuonline_lv.details?sem_id_in=13S&lvnr_id_in=603202\n
CLASS:PUBLIC
DTSTART:20130312T150000Z
DTEND:20130312T163000Z
DTSTAMP:20260421T171611Z
LOCATION:SR Liebeneggstraße
END:VEVENT
BEGIN:VEVENT
UID:13S_603202_2066534@uibk.ac.at
ORGANIZER;CN="LFU:online Universität Innsbruck":MAILTO:Uni-Innsbruck-noreply@uibk.ac.at
SUMMARY:Diskussion laufender Forschungsarbeiten (LV 603202-0 13S)
DESCRIPTION:Lehrveranstaltung 603202 13S, Gruppe 0\nTitel: Diskussion laufender Forschungsarbeiten\nOrt: SR Liebeneggstraße\n\nhttps://lfuonline.uibk.ac.at/public/lfuonline_lv.details?sem_id_in=13S&lvnr_id_in=603202\n
CLASS:PUBLIC
DTSTART:20130319T150000Z
DTEND:20130319T163000Z
DTSTAMP:20260421T171611Z
LOCATION:SR Liebeneggstraße
END:VEVENT
BEGIN:VEVENT
UID:13S_603202_2066535@uibk.ac.at
ORGANIZER;CN="LFU:online Universität Innsbruck":MAILTO:Uni-Innsbruck-noreply@uibk.ac.at
SUMMARY:Diskussion laufender Forschungsarbeiten (LV 603202-0 13S)
DESCRIPTION:Lehrveranstaltung 603202 13S, Gruppe 0\nTitel: Diskussion laufender Forschungsarbeiten\nOrt: SR Liebeneggstraße\n\nhttps://lfuonline.uibk.ac.at/public/lfuonline_lv.details?sem_id_in=13S&lvnr_id_in=603202\n
CLASS:PUBLIC
DTSTART:20130409T140000Z
DTEND:20130409T153000Z
DTSTAMP:20260421T171611Z
LOCATION:SR Liebeneggstraße
END:VEVENT
BEGIN:VEVENT
UID:13S_603202_2066536@uibk.ac.at
ORGANIZER;CN="LFU:online Universität Innsbruck":MAILTO:Uni-Innsbruck-noreply@uibk.ac.at
SUMMARY:Diskussion laufender Forschungsarbeiten (LV 603202-0 13S)
DESCRIPTION:Lehrveranstaltung 603202 13S, Gruppe 0\nTitel: Diskussion laufender Forschungsarbeiten\nOrt: SR Liebeneggstraße\n\nhttps://lfuonline.uibk.ac.at/public/lfuonline_lv.details?sem_id_in=13S&lvnr_id_in=603202\n
CLASS:PUBLIC
DTSTART:20130416T140000Z
DTEND:20130416T153000Z
DTSTAMP:20260421T171611Z
LOCATION:SR Liebeneggstraße
END:VEVENT
BEGIN:VEVENT
UID:13S_603202_2066537@uibk.ac.at
ORGANIZER;CN="LFU:online Universität Innsbruck":MAILTO:Uni-Innsbruck-noreply@uibk.ac.at
SUMMARY:Diskussion laufender Forschungsarbeiten (LV 603202-0 13S)
DESCRIPTION:Lehrveranstaltung 603202 13S, Gruppe 0\nTitel: Diskussion laufender Forschungsarbeiten\nOrt: SR Liebeneggstraße\n\nhttps://lfuonline.uibk.ac.at/public/lfuonline_lv.details?sem_id_in=13S&lvnr_id_in=603202\n
CLASS:PUBLIC
DTSTART:20130423T140000Z
DTEND:20130423T153000Z
DTSTAMP:20260421T171611Z
LOCATION:SR Liebeneggstraße
END:VEVENT
BEGIN:VEVENT
UID:13S_603202_2066538@uibk.ac.at
ORGANIZER;CN="LFU:online Universität Innsbruck":MAILTO:Uni-Innsbruck-noreply@uibk.ac.at
SUMMARY:Diskussion laufender Forschungsarbeiten (LV 603202-0 13S)
DESCRIPTION:Lehrveranstaltung 603202 13S, Gruppe 0\nTitel: Diskussion laufender Forschungsarbeiten\nOrt: SR Liebeneggstraße\n\nhttps://lfuonline.uibk.ac.at/public/lfuonline_lv.details?sem_id_in=13S&lvnr_id_in=603202\n
CLASS:PUBLIC
DTSTART:20130430T140000Z
DTEND:20130430T153000Z
DTSTAMP:20260421T171611Z
LOCATION:SR Liebeneggstraße
END:VEVENT
BEGIN:VEVENT
UID:13S_603202_2066539@uibk.ac.at
ORGANIZER;CN="LFU:online Universität Innsbruck":MAILTO:Uni-Innsbruck-noreply@uibk.ac.at
SUMMARY:Diskussion laufender Forschungsarbeiten (LV 603202-0 13S)
DESCRIPTION:Lehrveranstaltung 603202 13S, Gruppe 0\nTitel: Diskussion laufender Forschungsarbeiten\nOrt: SR Liebeneggstraße\n\nhttps://lfuonline.uibk.ac.at/public/lfuonline_lv.details?sem_id_in=13S&lvnr_id_in=603202\n
CLASS:PUBLIC
DTSTART:20130507T140000Z
DTEND:20130507T153000Z
DTSTAMP:20260421T171611Z
LOCATION:SR Liebeneggstraße
END:VEVENT
BEGIN:VEVENT
UID:13S_603202_2066540@uibk.ac.at
ORGANIZER;CN="LFU:online Universität Innsbruck":MAILTO:Uni-Innsbruck-noreply@uibk.ac.at
SUMMARY:Diskussion laufender Forschungsarbeiten (LV 603202-0 13S)
DESCRIPTION:Lehrveranstaltung 603202 13S, Gruppe 0\nTitel: Diskussion laufender Forschungsarbeiten\nOrt: SR Liebeneggstraße\n\nhttps://lfuonline.uibk.ac.at/public/lfuonline_lv.details?sem_id_in=13S&lvnr_id_in=603202\n
CLASS:PUBLIC
DTSTART:20130514T140000Z
DTEND:20130514T153000Z
DTSTAMP:20260421T171611Z
LOCATION:SR Liebeneggstraße
END:VEVENT
BEGIN:VEVENT
UID:13S_603202_2066541@uibk.ac.at
ORGANIZER;CN="LFU:online Universität Innsbruck":MAILTO:Uni-Innsbruck-noreply@uibk.ac.at
SUMMARY:Diskussion laufender Forschungsarbeiten (LV 603202-0 13S)
DESCRIPTION:Lehrveranstaltung 603202 13S, Gruppe 0\nTitel: Diskussion laufender Forschungsarbeiten\nOrt: SR Liebeneggstraße\n\nhttps://lfuonline.uibk.ac.at/public/lfuonline_lv.details?sem_id_in=13S&lvnr_id_in=603202\n
CLASS:PUBLIC
DTSTART:20130521T140000Z
DTEND:20130521T153000Z
DTSTAMP:20260421T171611Z
LOCATION:SR Liebeneggstraße
END:VEVENT
BEGIN:VEVENT
UID:13S_603202_2066542@uibk.ac.at
ORGANIZER;CN="LFU:online Universität Innsbruck":MAILTO:Uni-Innsbruck-noreply@uibk.ac.at
SUMMARY:Diskussion laufender Forschungsarbeiten (LV 603202-0 13S)
DESCRIPTION:Lehrveranstaltung 603202 13S, Gruppe 0\nTitel: Diskussion laufender Forschungsarbeiten\nOrt: SR Liebeneggstraße\n\nhttps://lfuonline.uibk.ac.at/public/lfuonline_lv.details?sem_id_in=13S&lvnr_id_in=603202\n
CLASS:PUBLIC
DTSTART:20130528T140000Z
DTEND:20130528T153000Z
DTSTAMP:20260421T171611Z
LOCATION:SR Liebeneggstraße
END:VEVENT
BEGIN:VEVENT
UID:13S_603202_2066543@uibk.ac.at
ORGANIZER;CN="LFU:online Universität Innsbruck":MAILTO:Uni-Innsbruck-noreply@uibk.ac.at
SUMMARY:Diskussion laufender Forschungsarbeiten (LV 603202-0 13S)
DESCRIPTION:Lehrveranstaltung 603202 13S, Gruppe 0\nTitel: Diskussion laufender Forschungsarbeiten\nOrt: SR Liebeneggstraße\n\nhttps://lfuonline.uibk.ac.at/public/lfuonline_lv.details?sem_id_in=13S&lvnr_id_in=603202\n
CLASS:PUBLIC
DTSTART:20130604T140000Z
DTEND:20130604T153000Z
DTSTAMP:20260421T171611Z
LOCATION:SR Liebeneggstraße
END:VEVENT
BEGIN:VEVENT
UID:13S_603202_2066544@uibk.ac.at
ORGANIZER;CN="LFU:online Universität Innsbruck":MAILTO:Uni-Innsbruck-noreply@uibk.ac.at
SUMMARY:Diskussion laufender Forschungsarbeiten (LV 603202-0 13S)
DESCRIPTION:Lehrveranstaltung 603202 13S, Gruppe 0\nTitel: Diskussion laufender Forschungsarbeiten\nOrt: SR Liebeneggstraße\n\nhttps://lfuonline.uibk.ac.at/public/lfuonline_lv.details?sem_id_in=13S&lvnr_id_in=603202\n
CLASS:PUBLIC
DTSTART:20130611T140000Z
DTEND:20130611T153000Z
DTSTAMP:20260421T171611Z
LOCATION:SR Liebeneggstraße
END:VEVENT
BEGIN:VEVENT
UID:13S_603202_2066545@uibk.ac.at
ORGANIZER;CN="LFU:online Universität Innsbruck":MAILTO:Uni-Innsbruck-noreply@uibk.ac.at
SUMMARY:Diskussion laufender Forschungsarbeiten (LV 603202-0 13S)
DESCRIPTION:Lehrveranstaltung 603202 13S, Gruppe 0\nTitel: Diskussion laufender Forschungsarbeiten\nOrt: SR Liebeneggstraße\n\nhttps://lfuonline.uibk.ac.at/public/lfuonline_lv.details?sem_id_in=13S&lvnr_id_in=603202\n
CLASS:PUBLIC
DTSTART:20130618T140000Z
DTEND:20130618T153000Z
DTSTAMP:20260421T171611Z
LOCATION:SR Liebeneggstraße
END:VEVENT
BEGIN:VEVENT
UID:13S_603202_2066546@uibk.ac.at
ORGANIZER;CN="LFU:online Universität Innsbruck":MAILTO:Uni-Innsbruck-noreply@uibk.ac.at
SUMMARY:Diskussion laufender Forschungsarbeiten (LV 603202-0 13S)
DESCRIPTION:Lehrveranstaltung 603202 13S, Gruppe 0\nTitel: Diskussion laufender Forschungsarbeiten\nOrt: SR Liebeneggstraße\n\nhttps://lfuonline.uibk.ac.at/public/lfuonline_lv.details?sem_id_in=13S&lvnr_id_in=603202\n
CLASS:PUBLIC
DTSTART:20130625T140000Z
DTEND:20130625T153000Z
DTSTAMP:20260421T171611Z
LOCATION:SR Liebeneggstraße
END:VEVENT
END:VCALENDAR