BEGIN:VCALENDAR
VERSION:2.0
PRODID:-//Universität Innsbruck//LFU:online//DE
METHOD:PUBLISH
BEGIN:VEVENT
UID:26S_603514_5041498@uibk.ac.at
ORGANIZER;CN="LFU:online Universität Innsbruck":MAILTO:Uni-Innsbruck-noreply@uibk.ac.at
SUMMARY:SE Erziehungswissenschaftliche und pädagogische Themen der Gegenwartsgesellschaft: Wissenschaftlich schreiben und kritisch denken  (LV 603514-0 26S)
DESCRIPTION:Lehrveranstaltung 603514 26S, Gruppe 0\nTitel: SE Erziehungswissenschaftliche und pädagogische Themen der Gegenwartsgesellschaft: Wissenschaftlich schreiben und kritisch denken \nOrt: Seminarraum 12 (Innrain 52a)  01G100\n\nhttps://lfuonline.uibk.ac.at/public/lfuonline_lv.details?sem_id_in=26S&lvnr_id_in=603514\n
CLASS:PUBLIC
DTSTART:20260304T073000Z
DTEND:20260304T090000Z
DTSTAMP:20260423T213831Z
LOCATION:Seminarraum 12 (Innrain 52a)  01G100
END:VEVENT
BEGIN:VEVENT
UID:26S_603514_5041499@uibk.ac.at
ORGANIZER;CN="LFU:online Universität Innsbruck":MAILTO:Uni-Innsbruck-noreply@uibk.ac.at
SUMMARY:SE Erziehungswissenschaftliche und pädagogische Themen der Gegenwartsgesellschaft: Wissenschaftlich schreiben und kritisch denken  (LV 603514-0 26S)
DESCRIPTION:Lehrveranstaltung 603514 26S, Gruppe 0\nTitel: SE Erziehungswissenschaftliche und pädagogische Themen der Gegenwartsgesellschaft: Wissenschaftlich schreiben und kritisch denken \nOrt: Seminarraum 12 (Innrain 52a)  01G100\n\nhttps://lfuonline.uibk.ac.at/public/lfuonline_lv.details?sem_id_in=26S&lvnr_id_in=603514\n
CLASS:PUBLIC
DTSTART:20260311T073000Z
DTEND:20260311T090000Z
DTSTAMP:20260423T213831Z
LOCATION:Seminarraum 12 (Innrain 52a)  01G100
END:VEVENT
BEGIN:VEVENT
UID:26S_603514_5041500@uibk.ac.at
ORGANIZER;CN="LFU:online Universität Innsbruck":MAILTO:Uni-Innsbruck-noreply@uibk.ac.at
SUMMARY:SE Erziehungswissenschaftliche und pädagogische Themen der Gegenwartsgesellschaft: Wissenschaftlich schreiben und kritisch denken  (LV 603514-0 26S)
DESCRIPTION:Lehrveranstaltung 603514 26S, Gruppe 0\nTitel: SE Erziehungswissenschaftliche und pädagogische Themen der Gegenwartsgesellschaft: Wissenschaftlich schreiben und kritisch denken \nOrt: Seminarraum 12 (Innrain 52a)  01G100\n\nhttps://lfuonline.uibk.ac.at/public/lfuonline_lv.details?sem_id_in=26S&lvnr_id_in=603514\n
CLASS:PUBLIC
DTSTART:20260318T073000Z
DTEND:20260318T090000Z
DTSTAMP:20260423T213831Z
LOCATION:Seminarraum 12 (Innrain 52a)  01G100
END:VEVENT
BEGIN:VEVENT
UID:26S_603514_5041501@uibk.ac.at
ORGANIZER;CN="LFU:online Universität Innsbruck":MAILTO:Uni-Innsbruck-noreply@uibk.ac.at
SUMMARY:SE Erziehungswissenschaftliche und pädagogische Themen der Gegenwartsgesellschaft: Wissenschaftlich schreiben und kritisch denken  (LV 603514-0 26S)
DESCRIPTION:Lehrveranstaltung 603514 26S, Gruppe 0\nTitel: SE Erziehungswissenschaftliche und pädagogische Themen der Gegenwartsgesellschaft: Wissenschaftlich schreiben und kritisch denken \nOrt: Seminarraum 12 (Innrain 52a)  01G100\n\nhttps://lfuonline.uibk.ac.at/public/lfuonline_lv.details?sem_id_in=26S&lvnr_id_in=603514\n
CLASS:PUBLIC
DTSTART:20260325T073000Z
DTEND:20260325T090000Z
DTSTAMP:20260423T213831Z
LOCATION:Seminarraum 12 (Innrain 52a)  01G100
END:VEVENT
BEGIN:VEVENT
UID:26S_603514_5041502@uibk.ac.at
ORGANIZER;CN="LFU:online Universität Innsbruck":MAILTO:Uni-Innsbruck-noreply@uibk.ac.at
SUMMARY:SE Erziehungswissenschaftliche und pädagogische Themen der Gegenwartsgesellschaft: Wissenschaftlich schreiben und kritisch denken  (LV 603514-0 26S)
DESCRIPTION:Lehrveranstaltung 603514 26S, Gruppe 0\nTitel: SE Erziehungswissenschaftliche und pädagogische Themen der Gegenwartsgesellschaft: Wissenschaftlich schreiben und kritisch denken \nOrt: Seminarraum 12 (Innrain 52a)  01G100\n\nhttps://lfuonline.uibk.ac.at/public/lfuonline_lv.details?sem_id_in=26S&lvnr_id_in=603514\n
CLASS:PUBLIC
DTSTART:20260415T063000Z
DTEND:20260415T080000Z
DTSTAMP:20260423T213831Z
LOCATION:Seminarraum 12 (Innrain 52a)  01G100
END:VEVENT
BEGIN:VEVENT
UID:26S_603514_5041503@uibk.ac.at
ORGANIZER;CN="LFU:online Universität Innsbruck":MAILTO:Uni-Innsbruck-noreply@uibk.ac.at
SUMMARY:SE Erziehungswissenschaftliche und pädagogische Themen der Gegenwartsgesellschaft: Wissenschaftlich schreiben und kritisch denken  (LV 603514-0 26S)
DESCRIPTION:Lehrveranstaltung 603514 26S, Gruppe 0\nTitel: SE Erziehungswissenschaftliche und pädagogische Themen der Gegenwartsgesellschaft: Wissenschaftlich schreiben und kritisch denken \nOrt: Seminarraum 12 (Innrain 52a)  01G100\n\nhttps://lfuonline.uibk.ac.at/public/lfuonline_lv.details?sem_id_in=26S&lvnr_id_in=603514\n
CLASS:PUBLIC
DTSTART:20260422T063000Z
DTEND:20260422T080000Z
DTSTAMP:20260423T213831Z
LOCATION:Seminarraum 12 (Innrain 52a)  01G100
END:VEVENT
BEGIN:VEVENT
UID:26S_603514_5041504@uibk.ac.at
ORGANIZER;CN="LFU:online Universität Innsbruck":MAILTO:Uni-Innsbruck-noreply@uibk.ac.at
SUMMARY:SE Erziehungswissenschaftliche und pädagogische Themen der Gegenwartsgesellschaft: Wissenschaftlich schreiben und kritisch denken  (LV 603514-0 26S)
DESCRIPTION:Lehrveranstaltung 603514 26S, Gruppe 0\nTitel: SE Erziehungswissenschaftliche und pädagogische Themen der Gegenwartsgesellschaft: Wissenschaftlich schreiben und kritisch denken \nOrt: Seminarraum 12 (Innrain 52a)  01G100\n\nhttps://lfuonline.uibk.ac.at/public/lfuonline_lv.details?sem_id_in=26S&lvnr_id_in=603514\n
CLASS:PUBLIC
DTSTART:20260429T063000Z
DTEND:20260429T080000Z
DTSTAMP:20260423T213831Z
LOCATION:Seminarraum 12 (Innrain 52a)  01G100
END:VEVENT
BEGIN:VEVENT
UID:26S_603514_5041505@uibk.ac.at
ORGANIZER;CN="LFU:online Universität Innsbruck":MAILTO:Uni-Innsbruck-noreply@uibk.ac.at
SUMMARY:SE Erziehungswissenschaftliche und pädagogische Themen der Gegenwartsgesellschaft: Wissenschaftlich schreiben und kritisch denken  (LV 603514-0 26S)
DESCRIPTION:Lehrveranstaltung 603514 26S, Gruppe 0\nTitel: SE Erziehungswissenschaftliche und pädagogische Themen der Gegenwartsgesellschaft: Wissenschaftlich schreiben und kritisch denken \nOrt: Seminarraum 12 (Innrain 52a)  01G100\n\nhttps://lfuonline.uibk.ac.at/public/lfuonline_lv.details?sem_id_in=26S&lvnr_id_in=603514\n
CLASS:PUBLIC
DTSTART:20260506T063000Z
DTEND:20260506T080000Z
DTSTAMP:20260423T213831Z
LOCATION:Seminarraum 12 (Innrain 52a)  01G100
END:VEVENT
BEGIN:VEVENT
UID:26S_603514_5041506@uibk.ac.at
ORGANIZER;CN="LFU:online Universität Innsbruck":MAILTO:Uni-Innsbruck-noreply@uibk.ac.at
SUMMARY:SE Erziehungswissenschaftliche und pädagogische Themen der Gegenwartsgesellschaft: Wissenschaftlich schreiben und kritisch denken  (LV 603514-0 26S)
DESCRIPTION:Lehrveranstaltung 603514 26S, Gruppe 0\nTitel: SE Erziehungswissenschaftliche und pädagogische Themen der Gegenwartsgesellschaft: Wissenschaftlich schreiben und kritisch denken \nOrt: Seminarraum 12 (Innrain 52a)  01G100\n\nhttps://lfuonline.uibk.ac.at/public/lfuonline_lv.details?sem_id_in=26S&lvnr_id_in=603514\n
CLASS:PUBLIC
DTSTART:20260513T063000Z
DTEND:20260513T080000Z
DTSTAMP:20260423T213831Z
LOCATION:Seminarraum 12 (Innrain 52a)  01G100
END:VEVENT
BEGIN:VEVENT
UID:26S_603514_5041507@uibk.ac.at
ORGANIZER;CN="LFU:online Universität Innsbruck":MAILTO:Uni-Innsbruck-noreply@uibk.ac.at
SUMMARY:SE Erziehungswissenschaftliche und pädagogische Themen der Gegenwartsgesellschaft: Wissenschaftlich schreiben und kritisch denken  (LV 603514-0 26S)
DESCRIPTION:Lehrveranstaltung 603514 26S, Gruppe 0\nTitel: SE Erziehungswissenschaftliche und pädagogische Themen der Gegenwartsgesellschaft: Wissenschaftlich schreiben und kritisch denken \nOrt: Seminarraum 12 (Innrain 52a)  01G100\n\nhttps://lfuonline.uibk.ac.at/public/lfuonline_lv.details?sem_id_in=26S&lvnr_id_in=603514\n
CLASS:PUBLIC
DTSTART:20260520T063000Z
DTEND:20260520T080000Z
DTSTAMP:20260423T213831Z
LOCATION:Seminarraum 12 (Innrain 52a)  01G100
END:VEVENT
BEGIN:VEVENT
UID:26S_603514_5041508@uibk.ac.at
ORGANIZER;CN="LFU:online Universität Innsbruck":MAILTO:Uni-Innsbruck-noreply@uibk.ac.at
SUMMARY:SE Erziehungswissenschaftliche und pädagogische Themen der Gegenwartsgesellschaft: Wissenschaftlich schreiben und kritisch denken  (LV 603514-0 26S)
DESCRIPTION:Lehrveranstaltung 603514 26S, Gruppe 0\nTitel: SE Erziehungswissenschaftliche und pädagogische Themen der Gegenwartsgesellschaft: Wissenschaftlich schreiben und kritisch denken \nOrt: Seminarraum 12 (Innrain 52a)  01G100\n\nhttps://lfuonline.uibk.ac.at/public/lfuonline_lv.details?sem_id_in=26S&lvnr_id_in=603514\n
CLASS:PUBLIC
DTSTART:20260527T063000Z
DTEND:20260527T080000Z
DTSTAMP:20260423T213831Z
LOCATION:Seminarraum 12 (Innrain 52a)  01G100
END:VEVENT
BEGIN:VEVENT
UID:26S_603514_5041509@uibk.ac.at
ORGANIZER;CN="LFU:online Universität Innsbruck":MAILTO:Uni-Innsbruck-noreply@uibk.ac.at
SUMMARY:SE Erziehungswissenschaftliche und pädagogische Themen der Gegenwartsgesellschaft: Wissenschaftlich schreiben und kritisch denken  (LV 603514-0 26S)
DESCRIPTION:Lehrveranstaltung 603514 26S, Gruppe 0\nTitel: SE Erziehungswissenschaftliche und pädagogische Themen der Gegenwartsgesellschaft: Wissenschaftlich schreiben und kritisch denken \nOrt: Seminarraum 12 (Innrain 52a)  01G100\n\nhttps://lfuonline.uibk.ac.at/public/lfuonline_lv.details?sem_id_in=26S&lvnr_id_in=603514\n
CLASS:PUBLIC
DTSTART:20260603T063000Z
DTEND:20260603T080000Z
DTSTAMP:20260423T213831Z
LOCATION:Seminarraum 12 (Innrain 52a)  01G100
END:VEVENT
BEGIN:VEVENT
UID:26S_603514_5041510@uibk.ac.at
ORGANIZER;CN="LFU:online Universität Innsbruck":MAILTO:Uni-Innsbruck-noreply@uibk.ac.at
SUMMARY:SE Erziehungswissenschaftliche und pädagogische Themen der Gegenwartsgesellschaft: Wissenschaftlich schreiben und kritisch denken  (LV 603514-0 26S)
DESCRIPTION:Lehrveranstaltung 603514 26S, Gruppe 0\nTitel: SE Erziehungswissenschaftliche und pädagogische Themen der Gegenwartsgesellschaft: Wissenschaftlich schreiben und kritisch denken \nOrt: Seminarraum 12 (Innrain 52a)  01G100\n\nhttps://lfuonline.uibk.ac.at/public/lfuonline_lv.details?sem_id_in=26S&lvnr_id_in=603514\n
CLASS:PUBLIC
DTSTART:20260610T063000Z
DTEND:20260610T080000Z
DTSTAMP:20260423T213831Z
LOCATION:Seminarraum 12 (Innrain 52a)  01G100
END:VEVENT
BEGIN:VEVENT
UID:26S_603514_5041511@uibk.ac.at
ORGANIZER;CN="LFU:online Universität Innsbruck":MAILTO:Uni-Innsbruck-noreply@uibk.ac.at
SUMMARY:SE Erziehungswissenschaftliche und pädagogische Themen der Gegenwartsgesellschaft: Wissenschaftlich schreiben und kritisch denken  (LV 603514-0 26S)
DESCRIPTION:Lehrveranstaltung 603514 26S, Gruppe 0\nTitel: SE Erziehungswissenschaftliche und pädagogische Themen der Gegenwartsgesellschaft: Wissenschaftlich schreiben und kritisch denken \nOrt: Seminarraum 12 (Innrain 52a)  01G100\n\nhttps://lfuonline.uibk.ac.at/public/lfuonline_lv.details?sem_id_in=26S&lvnr_id_in=603514\n
CLASS:PUBLIC
DTSTART:20260617T063000Z
DTEND:20260617T080000Z
DTSTAMP:20260423T213831Z
LOCATION:Seminarraum 12 (Innrain 52a)  01G100
END:VEVENT
BEGIN:VEVENT
UID:26S_603514_5041512@uibk.ac.at
ORGANIZER;CN="LFU:online Universität Innsbruck":MAILTO:Uni-Innsbruck-noreply@uibk.ac.at
SUMMARY:SE Erziehungswissenschaftliche und pädagogische Themen der Gegenwartsgesellschaft: Wissenschaftlich schreiben und kritisch denken  (LV 603514-0 26S)
DESCRIPTION:Lehrveranstaltung 603514 26S, Gruppe 0\nTitel: SE Erziehungswissenschaftliche und pädagogische Themen der Gegenwartsgesellschaft: Wissenschaftlich schreiben und kritisch denken \nOrt: Seminarraum 12 (Innrain 52a)  01G100\n\nhttps://lfuonline.uibk.ac.at/public/lfuonline_lv.details?sem_id_in=26S&lvnr_id_in=603514\n
CLASS:PUBLIC
DTSTART:20260624T063000Z
DTEND:20260624T080000Z
DTSTAMP:20260423T213831Z
LOCATION:Seminarraum 12 (Innrain 52a)  01G100
END:VEVENT
END:VCALENDAR